BEGIN:VCALENDAR
VERSION:2.0
PRODID:-//OCCRC Events | Évènements CRCOC - ECPv6.15.18//NONSGML v1.0//EN
CALSCALE:GREGORIAN
METHOD:PUBLISH
X-ORIGINAL-URL:https://events-evenements.crcoc.ca
X-WR-CALDESC:Events for OCCRC Events | Évènements CRCOC
REFRESH-INTERVAL;VALUE=DURATION:PT1H
X-Robots-Tag:noindex
X-PUBLISHED-TTL:PT1H
BEGIN:VTIMEZONE
TZID:America/Toronto
BEGIN:DAYLIGHT
TZOFFSETFROM:-0500
TZOFFSETTO:-0400
TZNAME:EDT
DTSTART:20220313T070000
END:DAYLIGHT
BEGIN:STANDARD
TZOFFSETFROM:-0400
TZOFFSETTO:-0500
TZNAME:EST
DTSTART:20221106T060000
END:STANDARD
BEGIN:DAYLIGHT
TZOFFSETFROM:-0500
TZOFFSETTO:-0400
TZNAME:EDT
DTSTART:20230312T070000
END:DAYLIGHT
BEGIN:STANDARD
TZOFFSETFROM:-0400
TZOFFSETTO:-0500
TZNAME:EST
DTSTART:20231105T060000
END:STANDARD
BEGIN:DAYLIGHT
TZOFFSETFROM:-0500
TZOFFSETTO:-0400
TZNAME:EDT
DTSTART:20240310T070000
END:DAYLIGHT
BEGIN:STANDARD
TZOFFSETFROM:-0400
TZOFFSETTO:-0500
TZNAME:EST
DTSTART:20241103T060000
END:STANDARD
END:VTIMEZONE
BEGIN:VEVENT
DTSTART;TZID=America/Toronto:20230425T160000
DTEND;TZID=America/Toronto:20230425T180000
DTSTAMP:20260420T121153
CREATED:20230324T195307Z
LAST-MODIFIED:20230324T195307Z
UID:16831-1682438400-1682445600@events-evenements.crcoc.ca
SUMMARY:Kids Space - Movie Night  //  Espace enfants - Soirée cinéma
DESCRIPTION:GRADES 1 TO 6 | TUESDAYS | BILINGUAL | IN PERSON | LIMITED SPOTS (MAX. 14) \nA space to connect with other kids\, have fun\, learn some strategies and talk! \n\nTuesday\, April 25th:Movie Night\n\nRegistration opens the Monday of the week before at 8:30 a.m. If you have any complications registering online\, please email Fanny or call at 613-830-4357\, ext. 152. \nNOTE: When registering\, please specify your allergies and dietary restrictions (halal\, dairy\, gluten\, vegetarian\, vegan). \n\n\n\n\nDescription en FRANÇAIS \n1re À LA 6e ANNÉE | LES MARDIS | BILINGUE | EN PERSONNE | PLACES LIMITÉES (MAX. 14) \nUn espace pour se connecter avec d’autres enfants\, s’amuser\, apprendre des stratégies et parler ! \n\nMardi 25 avril : Soirée cinéma\n\nL’inscription débute le lundi de la semaine précédente à 8 h 30. Si l’inscription en ligne vous pose problème\, veuillez envoyer un courriel à Fanny ou appeler 613-830-4357\, poste 152. \nREMARQUE : Lors de votre inscription\, veuillez préciser vos allergies et vos restrictions alimentaires (halal\, produits laitiers\, gluten\, végétarien\, végétalien).
URL:https://events-evenements.crcoc.ca/event-evenement/kids-space-movie-night-espace-enfants-soiree-cinema-2/
LOCATION:OCCRC | CRCOC\, 240 Centrum Blvd\, Orléans\, Orléans\, K1E 3J4\, Canada
CATEGORIES:Children & Youth-Enfants et jeunes
ATTACH;FMTTYPE=image/png:https://events-evenements.crcoc.ca/wp-content/uploads/2023/03/Kids-Space_Weekly_April25.png
ORGANIZER;CN="Children & Youth | Enfants et jeunes":MAILTO:info@crcoc.ca
END:VEVENT
BEGIN:VEVENT
DTSTART;TZID=America/Toronto:20230425T190000
DTEND;TZID=America/Toronto:20230425T193000
DTSTAMP:20260420T121153
CREATED:20230322T174403Z
LAST-MODIFIED:20230322T174824Z
UID:16754-1682449200-1682451000@events-evenements.crcoc.ca
SUMMARY:Virtual Bedtime Stories  //  L'heure du conte virtuelle
DESCRIPTION:We’d like to invite you to join us for virtual bedtime stories every Tuesday evening at 7:00 p.m. Geared towards children 2 to 6 years old \n*Registration is required. When registering\, please enter the total number of guests\, e.g. parent and child = 2 guests. \n\nNous vous invitons à l’heure du conte virtuelle tous les mardis à 19 h. Pour les enfants de 2 à 6 ans. \n*L’inscription est requise. Lors de l’inscription\, veuillez indiquer le nombre total d’invités\, par exemple\, parent et enfant = 2 invités.
URL:https://events-evenements.crcoc.ca/event-evenement/virtual-bedtime-stories-lheure-du-conte-virtuelle-5-2023-04-25/
LOCATION:Zoom
CATEGORIES:Early ON-ON y va
ATTACH;FMTTYPE=image/png:https://events-evenements.crcoc.ca/wp-content/uploads/2022/11/Virtual-Bedtime-Stories.png
ORGANIZER;CN="EarlyON | ON y va":MAILTO:EarlyONyva@crcoc.ca
END:VEVENT
BEGIN:VEVENT
DTSTART;TZID=America/Toronto:20230426T190000
DTEND;TZID=America/Toronto:20230426T200000
DTSTAMP:20260420T121153
CREATED:20230322T184947Z
LAST-MODIFIED:20230322T184947Z
UID:16792-1682535600-1682539200@events-evenements.crcoc.ca
SUMMARY:Atelier virtuel pour parents
DESCRIPTION:Joignez-vous à nous pour une discussion informelle concernant nos enfants âgés de 1 à 3 ans. Plusieurs changements excitants débutent entre 1 à 2 ans et se poursuivent jusqu’à 3 ans. Nos enfants commencent à marcher\, à parler\, à vouloir tout explorer au tour d’eux et refusent parfois de coopérer. Tous ses beaux changements peuvent apporter de nouveaux défis ou questionnements. Joignez-vous à nous afin d’explorer le développement de votre enfant pour ensuite mieux le comprendre.
URL:https://events-evenements.crcoc.ca/event-evenement/atelier-virtuel-pour-parents/
LOCATION:Zoom
CATEGORIES:Early ON-ON y va
ATTACH;FMTTYPE=image/png:https://events-evenements.crcoc.ca/wp-content/uploads/2023/03/ComprendreNosEnfants.png
ORGANIZER;CN="EarlyON | ON y va":MAILTO:EarlyONyva@crcoc.ca
END:VEVENT
BEGIN:VEVENT
DTSTART;TZID=America/Toronto:20230427T160000
DTEND;TZID=America/Toronto:20230427T180000
DTSTAMP:20260420T121153
CREATED:20230413T171643Z
LAST-MODIFIED:20230413T171643Z
UID:16960-1682611200-1682618400@events-evenements.crcoc.ca
SUMMARY:Youth Space - Grade 7 to 12 // Espace Jeunesse - 7e à 12e année
DESCRIPTION:Youth Space — April 27th – 2SLGBTQIA+ — Let’s root for each other and watch each other grow!  Connect with peers\, have fun\, share experiences and talk about things important to you!  Art\, games\, snacks & much more!   Being held at the Orléans-Cumberland CRC – 240 Centrum Blvd.\, Unit 105\, Orléans.  // \n  \nEspace Jeunesse — 27 avril – 2SLGBTQIA+ — Célébrons chacun.e et reconnaissons notre croissance!  Connecte avec tes pairs\, amuse-toi\, partage tes expériences\, parle de choses importantes pour toi!  Art\, jeux\, collations et bien plus encore!   Tenue au CRC Orléans-Cumberland – 240\, boul. Centrum\, unité 105\, Orléans.
URL:https://events-evenements.crcoc.ca/event-evenement/youth-space-grade-7-to-12-espace-jeunesse-7e-a-12e-annee-12/
LOCATION:Ontario
CATEGORIES:Children & Youth-Enfants et jeunes
ATTACH;FMTTYPE=image/png:https://events-evenements.crcoc.ca/wp-content/uploads/2023/04/Youth-Space-April-2023-BIL.png
ORGANIZER;CN="Children & Youth | Enfants et jeunes":MAILTO:info@crcoc.ca
END:VEVENT
END:VCALENDAR