BEGIN:VCALENDAR
VERSION:2.0
PRODID:-//OCCRC Events | Évènements CRCOC - ECPv6.15.18//NONSGML v1.0//EN
CALSCALE:GREGORIAN
METHOD:PUBLISH
X-ORIGINAL-URL:https://events-evenements.crcoc.ca
X-WR-CALDESC:Events for OCCRC Events | Évènements CRCOC
REFRESH-INTERVAL;VALUE=DURATION:PT1H
X-Robots-Tag:noindex
X-PUBLISHED-TTL:PT1H
BEGIN:VTIMEZONE
TZID:America/Toronto
BEGIN:DAYLIGHT
TZOFFSETFROM:-0500
TZOFFSETTO:-0400
TZNAME:EDT
DTSTART:20220313T070000
END:DAYLIGHT
BEGIN:STANDARD
TZOFFSETFROM:-0400
TZOFFSETTO:-0500
TZNAME:EST
DTSTART:20221106T060000
END:STANDARD
BEGIN:DAYLIGHT
TZOFFSETFROM:-0500
TZOFFSETTO:-0400
TZNAME:EDT
DTSTART:20230312T070000
END:DAYLIGHT
BEGIN:STANDARD
TZOFFSETFROM:-0400
TZOFFSETTO:-0500
TZNAME:EST
DTSTART:20231105T060000
END:STANDARD
BEGIN:DAYLIGHT
TZOFFSETFROM:-0500
TZOFFSETTO:-0400
TZNAME:EDT
DTSTART:20240310T070000
END:DAYLIGHT
BEGIN:STANDARD
TZOFFSETFROM:-0400
TZOFFSETTO:-0500
TZNAME:EST
DTSTART:20241103T060000
END:STANDARD
END:VTIMEZONE
BEGIN:VEVENT
DTSTART;TZID=America/Toronto:20230403T093000
DTEND;TZID=America/Toronto:20230403T110000
DTSTAMP:20260422T062611
CREATED:20230322T163923Z
LAST-MODIFIED:20230322T174021Z
UID:16713-1680514200-1680519600@events-evenements.crcoc.ca
SUMMARY:Groupe de jeu francophone au Centre ON y va !
DESCRIPTION:Joignez-vous à nous au CRC Orléans-Cumberland (240 boulevard Centrum unité 105 à Orléans) pour un groupe de jeu porte ouverte ! Conçu pour permettre aux enfants de 0 à 6 ans de vivre des expériences d’apprentissage par le jeu amusantes et stimulantes ! \nÀ partir de 9 h 30\, une intervenante auprès de la famille vous accueillera et vous distribuera un numéro pour participer au groupe de jeu. Nous vous demandons de ne pas arriver avant 9 h 30. La même chose s’applique pour les groupes de jeu pour bébés qui débutent à 13 h 30\, car aucune salle d’attente n’est disponible. Lorsque le groupe de jeu est complet\, une affiche sera mise dans la vitrine à la porte d’entrée. \nNous publierons aussi un message sur notre page Facebook.
URL:https://events-evenements.crcoc.ca/event-evenement/groupe-de-jeu-francophone-au-centre-on-y-va-27/2023-04-03/
LOCATION:OCCRC | CRCOC\, 240 Centrum Blvd\, Orléans\, Orléans\, K1E 3J4\, Canada
CATEGORIES:Early ON-ON y va
ATTACH;FMTTYPE=image/jpeg:https://events-evenements.crcoc.ca/wp-content/uploads/2022/05/Francophone-Group-Pic.jpg
ORGANIZER;CN="EarlyON | ON y va":MAILTO:EarlyONyva@crcoc.ca
END:VEVENT
BEGIN:VEVENT
DTSTART;TZID=America/Toronto:20230403T133000
DTEND;TZID=America/Toronto:20230403T150000
DTSTAMP:20260422T062611
CREATED:20230322T173811Z
LAST-MODIFIED:20230322T173811Z
UID:16739-1680528600-1680534000@events-evenements.crcoc.ca
SUMMARY:Baby & Me playgroup at the EarlyON Centre! // Groupe de jeu Bébé & Moi au Centre ON y va !
DESCRIPTION:Let’s meet at the Orléans-Cumberland CRC (240 Centrum boulevard unit 105) for a Drop-in playgroup! With a small group of parents and babies\, you will have the opportunity to chat\, share parenting stories and socialize in a safe and friendly environment. \nPLEASE NOTE:  Online registration for playgroups will no longer be required! Our playgroups will now be Drop in’s\, first come / first served. \nStarting at 1:30 p.m.\, a Family Resource Worker will greet you and give you a number to attend the playgroup. We ask that you arrive no earlier than 1:30 p.m. since we don’t have a waiting room available. \nWhen the playgroup is full\, we will have a sign on the window beside the front door. We will also post a message on our Facebook page. \n\nJoignez-vous à nous au CRC Orléans-Cumberland (240 boulevard Centrum unité 105) pour un groupe de jeu en personne ! Avec un petit groupe de parents et bébés\, venez discuter et partager vos histoires avec d’autres parents ou socialiser dans un environnement amical et sécuritaire. \nÀ NOTER :  Les inscriptions pour les groupes de jeu ne seront plus nécessaires ! Nos groupes de jeu seront maintenant des portes ouvertes\, premier arrivé/premier servi. \nÀ partir de 13 h 30\, une intervenante auprès de la famille vous accueillera et vous distribuera un numéro pour participer au groupe de jeu. Nous vous demandons de ne pas arriver avant 13 h 30\, car aucune salle d’attente n’est disponible. \nLorsque le groupe de jeu est complet\, une affiche sera mise dans la vitrine à la porte d’entrée. Nous publierons aussi un message sur notre page Facebook.
URL:https://events-evenements.crcoc.ca/event-evenement/baby-me-playgroup-at-the-earlyon-centre-groupe-de-jeu-bebe-moi-au-centre-on-y-va-22/2023-04-03/
LOCATION:OCCRC | CRCOC\, 240 Centrum Blvd\, Orléans\, Orléans\, K1E 3J4\, Canada
CATEGORIES:Early ON-ON y va
ATTACH;FMTTYPE=image/jpeg:https://events-evenements.crcoc.ca/wp-content/uploads/2021/09/Baby-Me-Picture.jpg
ORGANIZER;CN="EarlyON | ON y va":MAILTO:EarlyONyva@crcoc.ca
END:VEVENT
BEGIN:VEVENT
DTSTART;TZID=America/Toronto:20230404T093000
DTEND;TZID=America/Toronto:20230404T110000
DTSTAMP:20260422T062611
CREATED:20230322T164324Z
LAST-MODIFIED:20230322T164324Z
UID:16722-1680600600-1680606000@events-evenements.crcoc.ca
SUMMARY:English playgroup at the EarlyON Centre!
DESCRIPTION:Let’s meet at the Orléans-Cumberland CRC (240 Centrum boulevard unit 105) for a Drop-in playgroup! This program is geared toward children 0 to 6 years old. Children will enjoy play-based learning experiences that are fun and engaging. \nStarting at 9:30 a.m.\, a Family Resource Worker will greet you and give you a number to attend the playgroup. We ask that you arrive no earlier than 9:30 a.m. since we don’t have a waiting room available. \nWhen the playgroup is full\, we will have a sign on the window beside the front door. We will also post a message on our Facebook page.
URL:https://events-evenements.crcoc.ca/event-evenement/english-playgroup-at-the-earlyon-centre-29/2023-04-04/
LOCATION:OCCRC | CRCOC\, 240 Centrum Blvd\, Orléans\, Orléans\, K1E 3J4\, Canada
CATEGORIES:Early ON-ON y va
ATTACH;FMTTYPE=image/jpeg:https://events-evenements.crcoc.ca/wp-content/uploads/2022/05/Francophone-Group-Pic.jpg
ORGANIZER;CN="EarlyON | ON y va":MAILTO:EarlyONyva@crcoc.ca
END:VEVENT
BEGIN:VEVENT
DTSTART;TZID=America/Toronto:20230404T123000
DTEND;TZID=America/Toronto:20230404T140000
DTSTAMP:20260422T062611
CREATED:20230322T185454Z
LAST-MODIFIED:20230324T170500Z
UID:16795-1680611400-1680616800@events-evenements.crcoc.ca
SUMMARY:Month of the Military Child Playgroup   //  Groupe de jeu du mois des enfants de militaires
DESCRIPTION:The Military Family Services of the National Capital Region (MFS-NCR) and your EarlyON Centre have teamed up to offer this fun activity! This program is geared towards children 0 to 6 years old and their families. Children will enjoy play-based learning experiences that are fun and engaging. \nRegistration required! When registering\, please enter the total number of guests\, e.g. parent and child = 2 guests. \n— \nLes Services aux familles des militaires de la région de la capitale nationale (SFM-RCN) et votre Centre ON y va se sont associés pour vous offrir cette activité amusante ! Conçue pour permettre aux enfants de 0 à 6 ans de vivre des expériences d’apprentissage par le jeu amusantes et stimulantes ! \nInscription requise ! Lors de l’inscription\, veuillez indiquer le nombre total d’invités\, par exemple\, parent et enfant = 2 invités.
URL:https://events-evenements.crcoc.ca/event-evenement/month-of-the-military-child-playgroup-groupe-de-jeu-du-mois-des-enfants-de-militaires/
LOCATION:OCCRC | CRCOC\, 240 Centrum Blvd\, Orléans\, Orléans\, K1E 3J4\, Canada
CATEGORIES:Early ON-ON y va
ATTACH;FMTTYPE=image/png:https://events-evenements.crcoc.ca/wp-content/uploads/2023/03/MonthMilitaryChild_Playgroup.png
ORGANIZER;CN="EarlyON | ON y va":MAILTO:EarlyONyva@crcoc.ca
END:VEVENT
BEGIN:VEVENT
DTSTART;TZID=America/Toronto:20230404T160000
DTEND;TZID=America/Toronto:20230404T180000
DTSTAMP:20260422T062611
CREATED:20230322T191920Z
LAST-MODIFIED:20230322T192241Z
UID:16797-1680624000-1680631200@events-evenements.crcoc.ca
SUMMARY:Kids Space - Help it Grow  //  Espace enfants - Aidez-le à grandir
DESCRIPTION:GRADES 1 TO 6 | TUESDAYS | BILINGUAL | IN PERSON | LIMITED SPOTS (MAX. 14) \nA space to connect with other kids\, have fun\, learn some strategies and talk! \n\nTuesday\, April 4th: Help it Grow\n\nRegistration opens the Monday of the week before at 8:30 a.m. If you have any complications registering online\, please email Fanny or call at 613-830-4357\, ext. 152. \nNOTE: When registering\, please specify your allergies and dietary restrictions (halal\, dairy\, gluten\, vegetarian\, vegan). \n\n\n\n\nDescription en FRANÇAIS \n1re À LA 6e ANNÉE | LES MARDIS | BILINGUE | EN PERSONNE | PLACES LIMITÉES (MAX. 14) \nUn espace pour se connecter avec d’autres enfants\, s’amuser\, apprendre des stratégies et parler ! \n\nMardi 4 avril : Aidez-le à grandir\n\nL’inscription débute le lundi de la semaine précédente à 8 h 30. Si l’inscription en ligne vous pose problème\, veuillez envoyer un courriel à Fanny ou appeler 613-830-4357\, poste 152. \nREMARQUE : Lors de votre inscription\, veuillez préciser vos allergies et vos restrictions alimentaires (halal\, produits laitiers\, gluten\, végétarien\, végétalien).
URL:https://events-evenements.crcoc.ca/event-evenement/kids-space-help-it-grow-espace-enfants-aidez-le-a-grandir/
LOCATION:OCCRC | CRCOC\, 240 Centrum Blvd\, Orléans\, Orléans\, K1E 3J4\, Canada
CATEGORIES:Children & Youth-Enfants et jeunes
ATTACH;FMTTYPE=image/png:https://events-evenements.crcoc.ca/wp-content/uploads/2023/03/Kids-Space_Weekly_April04.png
ORGANIZER;CN="Children & Youth | Enfants et jeunes":MAILTO:info@crcoc.ca
END:VEVENT
BEGIN:VEVENT
DTSTART;TZID=America/Toronto:20230404T190000
DTEND;TZID=America/Toronto:20230404T193000
DTSTAMP:20260422T062611
CREATED:20230322T174403Z
LAST-MODIFIED:20230403T134824Z
UID:16743-1680634800-1680636600@events-evenements.crcoc.ca
SUMMARY:Virtual Bedtime Stories  //  L'heure du conte virtuelle
DESCRIPTION:We’d like to invite you to join us for virtual bedtime stories every Tuesday evening at 7:00 p.m. Geared towards children 2 to 6 years old \n*Registration is required. When registering\, please enter the total number of guests\, e.g. parent and child = 2 guests. \n\nNous vous invitons à l’heure du conte virtuelle tous les mardis à 19 h. Pour les enfants de 2 à 6 ans. \n*L’inscription est requise. Lors de l’inscription\, veuillez indiquer le nombre total d’invités\, par exemple\, parent et enfant = 2 invités.
URL:https://events-evenements.crcoc.ca/event-evenement/virtual-bedtime-stories-lheure-du-conte-virtuelle-5/
LOCATION:Zoom
CATEGORIES:Early ON-ON y va
ATTACH;FMTTYPE=image/png:https://events-evenements.crcoc.ca/wp-content/uploads/2022/11/Virtual-Bedtime-Stories.png
ORGANIZER;CN="EarlyON | ON y va":MAILTO:EarlyONyva@crcoc.ca
END:VEVENT
BEGIN:VEVENT
DTSTART;TZID=America/Toronto:20230405T093000
DTEND;TZID=America/Toronto:20230405T110000
DTSTAMP:20260422T062611
CREATED:20230322T175357Z
LAST-MODIFIED:20230424T143112Z
UID:16761-1680687000-1680692400@events-evenements.crcoc.ca
SUMMARY:Playgroup at the Navan Arena //  Groupe de jeu à l'arena de Navan
DESCRIPTION:Let’s meet at the Navan Memorial Centre & Arena\, 1295 Colonial Road\, Navan\, ON K4B 1N1\, for a Drop-in playgroup! This program is geared toward children 0 to 6 years old. Children will enjoy play-based learning experiences that are fun and engaging.\n \n*No groups will be offered in Cumberland or Navan when school buses are cancelled. \n— \nJoignez-vous à nous au Centre commémoratif et aréna de Navan\, 1295 Colonial Road\, Navan\, ON K4B 1N1 pour un groupe de jeu porte ouverte !  Conçu pour permettre aux enfants de 0 à 6 ans de vivre des expériences d’apprentissage par le jeu amusantes et stimulantes ! \n*Lorsque le transport scolaire est annulé\, tous les groupes à Cumberland et à Navan ne seront pas offerts.
URL:https://events-evenements.crcoc.ca/event-evenement/playgroup-at-the-navan-arena-groupe-de-jeu-a-larena-de-navan-7/2023-04-05/
LOCATION:Navan Memorial Centre | Centre commémoratif de Navan\, 1295 Colonial Rd\, Navan\, Ontario\, K4B 1N1\, Canada
CATEGORIES:Early ON-ON y va
ATTACH;FMTTYPE=image/jpeg:https://events-evenements.crcoc.ca/wp-content/uploads/2021/12/pic-0-to-2-ans.jpg
ORGANIZER;CN="EarlyON | ON y va":MAILTO:EarlyONyva@crcoc.ca
END:VEVENT
BEGIN:VEVENT
DTSTART;TZID=America/Toronto:20230406T093000
DTEND;TZID=America/Toronto:20230406T110000
DTSTAMP:20260422T062611
CREATED:20230322T175620Z
LAST-MODIFIED:20230322T175620Z
UID:16766-1680773400-1680778800@events-evenements.crcoc.ca
SUMMARY:Playgroup at the Cumberland Arena  //  Groupe de jeu à l'aréna de Cumberland
DESCRIPTION:Let’s meet at the R.J. Kennedy Arena\, 1115 Dunning Road\, for a playgroup! This program is geared toward children 0 to 6 years old. Children will enjoy play-based learning experiences that are fun and engaging.\n \n*No groups will be offered in Cumberland or Navan when school buses are cancelled. \n— \nJoignez-vous à nous à l’aréna R.J. Kennedy au 1115 chemin Dunning\, pour un groupe de jeu ! Conçu pour permettre aux enfants de 0 à 6 ans de vivre des expériences d’apprentissage par le jeu amusantes et stimulantes ! \n*Lorsque le transport scolaire est annulé\, tous les groupes à Cumberland et à Navan ne seront pas offerts.
URL:https://events-evenements.crcoc.ca/event-evenement/playgroup-at-the-cumberland-arena-groupe-de-jeu-a-larena-de-cumberland-12/2023-04-06/
LOCATION:R.J. Kennedy Arena | Aréna R.J. Kennedy\, 1115 Dunning Rd\, Cumberland\, Ontario\, K4C 1P6\, Canada
CATEGORIES:Early ON-ON y va
ATTACH;FMTTYPE=image/jpeg:https://events-evenements.crcoc.ca/wp-content/uploads/2022/03/Cumberland-Pic.jpg
ORGANIZER;CN="EarlyON | ON y va":MAILTO:EarlyONyva@crcoc.ca
END:VEVENT
BEGIN:VEVENT
DTSTART;TZID=America/Toronto:20230406T133000
DTEND;TZID=America/Toronto:20230406T153000
DTSTAMP:20260422T062611
CREATED:20230322T175841Z
LAST-MODIFIED:20230322T175841Z
UID:16771-1680787800-1680795000@events-evenements.crcoc.ca
SUMMARY:Parenting in Ottawa Drop-Ins  //  Carrefours « Être parent à Ottawa »
DESCRIPTION:Speak\, in person\, with a Public Health Nurse about parenting. No appointment is necessary. Drop in during the clinic’s hours. \n\nGet support for infant feeding.\nLearn ways to help your child eat healthy and be active\nMake sure your child is on track with their growth and development\nAsk about your child’s social and emotional development\n\nThe program is available to: \n\nExpectant parents\, parents and guardians of children aged birth to 6 years of age\n\nThursdays from 1:30 p.m. to 3:30 p.m. – 240 Centrum Blvd\, Orléans\, ON K1E 3J4. \n\nVous pouvez parler de votre rôle de parent avec une infirmière en santé publique. Aucun rendez-vous nécessaire\, il suffit de se présenter pendant les heures d’ouverture de la clinique. \n\nObtenez du soutien à l’allaitement.\nApprenez comment aider votre enfant à bien manger et à être actif.\nAssurez-vous de la bonne croissance et du bon développement de votre enfant.\nInformez-vous sur le développement social et émotionnel de votre enfant.\n\nÀ qui s’adresse le programme ? \n\nAux futurs parents\, parents et tuteurs d’enfants de la naissance à six ans.\n\nLes jeudis de 13 h 30 à 15 h 30 – 240 boulevard Centrum\, Orléans (Ontario) K1E 3J4.
URL:https://events-evenements.crcoc.ca/event-evenement/parenting-in-ottawa-drop-ins-carrefours-etre-parent-a-ottawa-9/2023-04-06/
LOCATION:OCCRC | CRCOC\, 240 Centrum Blvd\, Orléans\, Orléans\, K1E 3J4\, Canada
CATEGORIES:Early ON-ON y va
ATTACH;FMTTYPE=image/png:https://events-evenements.crcoc.ca/wp-content/uploads/2022/06/parenting-on-ottawa-pic.png
ORGANIZER;CN="EarlyON | ON y va":MAILTO:EarlyONyva@crcoc.ca
END:VEVENT
BEGIN:VEVENT
DTSTART;TZID=America/Toronto:20230406T133000
DTEND;TZID=America/Toronto:20230406T153000
DTSTAMP:20260422T062611
CREATED:20230322T180012Z
LAST-MODIFIED:20230322T180012Z
UID:16776-1680787800-1680795000@events-evenements.crcoc.ca
SUMMARY:Baby weigh-in //  Prise de poids pour bébés
DESCRIPTION:During Parenting in Ottawa Drop-ins\, parents can weigh their baby (self-serve) on Thursdays from 1:30 to 3:30 p.m. No appointment is needed. \n— \nDurant les Carrefours « Être parent à Ottawa »\, les parents peuvent peser leur bébé (libre-service) les jeudis de 13 h 30 à 15 h 30. Aucun rendez-vous nécessaire.
URL:https://events-evenements.crcoc.ca/event-evenement/baby-weigh-in-prise-de-poids-pour-bebes-19/2023-04-06/
LOCATION:Ontario
CATEGORIES:Early ON-ON y va
ATTACH;FMTTYPE=image/jpeg:https://events-evenements.crcoc.ca/wp-content/uploads/2021/07/Baby-Weigh-in-pict.jpg
END:VEVENT
END:VCALENDAR