BEGIN:VCALENDAR
VERSION:2.0
PRODID:-//OCCRC Events | Évènements CRCOC - ECPv6.15.18//NONSGML v1.0//EN
CALSCALE:GREGORIAN
METHOD:PUBLISH
X-WR-CALNAME:OCCRC Events | Évènements CRCOC
X-ORIGINAL-URL:https://events-evenements.crcoc.ca
X-WR-CALDESC:Events for OCCRC Events | Évènements CRCOC
REFRESH-INTERVAL;VALUE=DURATION:PT1H
X-Robots-Tag:noindex
X-PUBLISHED-TTL:PT1H
BEGIN:VTIMEZONE
TZID:America/Toronto
BEGIN:DAYLIGHT
TZOFFSETFROM:-0500
TZOFFSETTO:-0400
TZNAME:EDT
DTSTART:20220313T070000
END:DAYLIGHT
BEGIN:STANDARD
TZOFFSETFROM:-0400
TZOFFSETTO:-0500
TZNAME:EST
DTSTART:20221106T060000
END:STANDARD
BEGIN:DAYLIGHT
TZOFFSETFROM:-0500
TZOFFSETTO:-0400
TZNAME:EDT
DTSTART:20230312T070000
END:DAYLIGHT
BEGIN:STANDARD
TZOFFSETFROM:-0400
TZOFFSETTO:-0500
TZNAME:EST
DTSTART:20231105T060000
END:STANDARD
BEGIN:DAYLIGHT
TZOFFSETFROM:-0500
TZOFFSETTO:-0400
TZNAME:EDT
DTSTART:20240310T070000
END:DAYLIGHT
BEGIN:STANDARD
TZOFFSETFROM:-0400
TZOFFSETTO:-0500
TZNAME:EST
DTSTART:20241103T060000
END:STANDARD
END:VTIMEZONE
BEGIN:VEVENT
DTSTART;TZID=America/Toronto:20230313T140000
DTEND;TZID=America/Toronto:20230313T160000
DTSTAMP:20260422T150409
CREATED:20230223T161158Z
LAST-MODIFIED:20230223T161343Z
UID:16163-1678716000-1678723200@events-evenements.crcoc.ca
SUMMARY:Youth March Break - LaserMAXX Outing // Congé de mars ados -  Sortie « LaserMAXX »
DESCRIPTION:GRADES 7 TO 12 | BILINGUAL | IN PERSON | LIMITED SPOTS (MAX 15) \n\nMarch 13th:\n\n2 – 4 p.m.: LaserMAXX Outing\n\nRegistration is open from Wednesday\, March 1st\, to Friday\, March 10th\, at noon. If you have any complications registering online\, please email Tanya at 613-830-4357\, ext. 140.\n\n\n\n\n\nNOTE: When registering\, please specify your allergies and dietary restrictions (halal\, dairy\, gluten\, vegetarian\, vegan). \nIMPORTANT \nFor all outings\, parent/legal guardian consent is required for participants under 18 yrs. Participants 18 yrs can consent for themselves. A consent form will be sent to the parent/legal guardian’s email following registration. Registration will be cancelled if parent/legal guardian consent is not received prior to the event.   \n\nDescription en FRANÇAIS \n7e À LA 12e ANNÉE | BILINGUE | EN PERSONNE | PLACES LIMITÉES (MAX 15) \n\n13 mars :\n\n14 h à 16 h : Sortie « LaserMAXX »\n\nL’inscription est ouverte du mercredi 1er mars au vendredi 10 mars\, à midi. Si l’inscription en ligne vous pose problème\, veuillez envoyer un courriel à Tanya ou appeler 613-830-4357\, poste 140.\n\n\n\n\n\nREMARQUE : Lors de votre inscription\, veuillez préciser vos allergies et vos restrictions alimentaires (halal\, produits laitiers\, gluten\, végétarien\, végétalien). \nIMPORTANT \nPour toutes les sorties\, le consentement des parents ou du tuteur légal est requis pour les participants de moins de 18 ans. Les participants de 18 ans peuvent donner leur propre consentement. Un formulaire de consentement sera envoyé à l’adresse électronique du parent/tuteur légal après l’inscription. L’inscription sera annulée si le consentement des parents/tuteurs légaux n’est pas reçu avant l’événement.
URL:https://events-evenements.crcoc.ca/event-evenement/youth-march-break-lasermaxx-outing-conge-de-mars-ados-sortie-lasermaxx/
LOCATION:LaserMaxx Ottawa\, 1800 St. Laurent Blvd.\, Ottawa\, ON\, K1G 1A2\, Canada
CATEGORIES:Children & Youth-Enfants et jeunes
ATTACH;FMTTYPE=image/png:https://events-evenements.crcoc.ca/wp-content/uploads/2023/02/230223_LaserMAXX_Poster_BIL.png
END:VEVENT
BEGIN:VEVENT
DTSTART;TZID=America/Toronto:20230314T160000
DTEND;TZID=America/Toronto:20230314T180000
DTSTAMP:20260422T150409
CREATED:20230223T145335Z
LAST-MODIFIED:20230223T145550Z
UID:16136-1678809600-1678816800@events-evenements.crcoc.ca
SUMMARY:Kids Space - Kids Space Bake Off // Espace enfants - L'Espace des enfants cuit au four
DESCRIPTION:GRADES 1 TO 6 | TUESDAYS | BILINGUAL | IN PERSON | LIMITED SPOTS (MAX. 12) \nA space to connect with other kids\, have fun\, learn some strategies and talk! \nTuesdays from 4 p.m. to 6 p.m. \n\nMarch 14th: Kids Space Bake Off\n\nRegistration opens the Monday of the week before at 8:30 a.m. If you have any complications registering online\, please email Fanny or call at 613-830-4357\, ext. 152. \nNOTE: When registering\, please specify your allergies and dietary restrictions (halal\, dairy\, gluten\, vegetarian\, vegan). \n\n\n\n\nDescription en FRANÇAIS \n1re À LA 6e ANNÉE | LES MARDIS | BILINGUE | EN PERSONNE | PLACES LIMITÉES (MAX. 12) \nUn espace pour se connecter avec d’autres enfants\, s’amuser\, apprendre des stratégies et parler ! \nLes mardis de 16 h à 18 h \n\n14 mars : L’Espace des enfants cuit au four\n\nL’inscription débute le lundi de la semaine précédente à 8 h 30. Si l’inscription en ligne vous pose problème\, veuillez envoyer un courriel à Fanny ou appeler 613-830-4357\, poste 152. \nREMARQUE : Lors de votre inscription\, veuillez préciser vos allergies et vos restrictions alimentaires (halal\, produits laitiers\, gluten\, végétarien\, végétalien).
URL:https://events-evenements.crcoc.ca/event-evenement/kids-space-kids-space-bake-off-espace-enfants-lespace-des-enfants-cuit-au-four/
LOCATION:OCCRC | CRCOC\, 240 Centrum Blvd\, Orléans\, Orléans\, K1E 3J4\, Canada
CATEGORIES:Children & Youth-Enfants et jeunes
ATTACH;FMTTYPE=image/png:https://events-evenements.crcoc.ca/wp-content/uploads/2023/02/Weekly-March-14-2023.png
ORGANIZER;CN="Children & Youth | Enfants et jeunes":MAILTO:info@crcoc.ca
END:VEVENT
BEGIN:VEVENT
DTSTART;TZID=America/Toronto:20230314T190000
DTEND;TZID=America/Toronto:20230314T193000
DTSTAMP:20260422T150409
CREATED:20230223T172419Z
LAST-MODIFIED:20230223T172854Z
UID:16202-1678820400-1678822200@events-evenements.crcoc.ca
SUMMARY:Virtual Bedtime Stories // L'heure du conte virtuelle
DESCRIPTION:We’d like to invite you to join us for virtual bedtime stories every Tuesday evening at 7:00 p.m. Geared towards children 2 to 6 years old \n*Registration is required. When registering\, please enter the total number of guests\, e.g. parent and child = 2 guests. \n\nNous vous invitons à l’heure du conte virtuelle tous les mardis à 19 h. Pour les enfants de 2 à 6 ans. \n*L’inscription est requise. Lors de l’inscription\, veuillez indiquer le nombre total d’invités\, par exemple\, parent et enfant = 2 invités.
URL:https://events-evenements.crcoc.ca/event-evenement/virtual-bedtime-stories-lheure-du-conte-virtuelle-4-2023-03-14/
LOCATION:Ontario
CATEGORIES:Early ON-ON y va
ATTACH;FMTTYPE=image/png:https://events-evenements.crcoc.ca/wp-content/uploads/2022/11/Virtual-Bedtime-Stories.png
ORGANIZER;CN="EarlyON | ON y va":MAILTO:EarlyONyva@crcoc.ca
END:VEVENT
BEGIN:VEVENT
DTSTART;TZID=America/Toronto:20230315T140000
DTEND;TZID=America/Toronto:20230315T160000
DTSTAMP:20260422T150409
CREATED:20230223T153137Z
LAST-MODIFIED:20230224T202014Z
UID:16146-1678888800-1678896000@events-evenements.crcoc.ca
SUMMARY:Kids March Break - Zoo Crew Meet the Animals // Congé de mars enfants - « Zoo Crew » Rencontrez les animaux
DESCRIPTION:GRADES 1 TO 6 | BILINGUAL | IN PERSON | LIMITED SPOTS (MAX 20) \n\nMarch 15th\n\n2 – 4 p.m.: Zoo Crew – Meet the Animals\nPlease register for only one event on March 15th.\n\n\n\nRegistration opens on the Monday of the previous week at 8:30 a.m. If you have any complications registering online\, please email Fanny or call at 613-830-4357\, ext. 152. See poster! \nNOTE: When registering\, please specify your allergies and dietary restrictions (halal\, dairy\, gluten\, vegetarian\, vegan). \nDo you have kids ages 0-6? See what the EarlyON centre has to offer at the same time and place as our Kids March Break activities.\n*Exclusively on March 15th from 2 to 4 p.m. and 6 to 8 p.m. and on March 17th from 9:30 to 11 a.m. during our special activities. \n\n\n\n\nDescription en FRANÇAIS \n1re À LA 6e ANNÉE | BILINGUE | EN PERSONNE | PLACES LIMITÉES (MAX 20) \n\n15 mars :\n\n14 h à 16 h : « Zoo Crew » — Rencontrez les animaux\nVeuillez vous inscrire pour un seul événement le 15 mars.\n\n\n\nL’inscription débute le lundi de la semaine précédente à 8 h 30. Si l’inscription en ligne vous pose problème\, veuillez envoyer un courriel à Fanny ou appeler 613-830-4357\, poste 152. Voir l’affiche! \nREMARQUE : Lors de votre inscription\, veuillez préciser vos allergies et vos restrictions alimentaires (halal\, produits laitiers\, gluten\, végétarien\, végétalien). \nAvez-vous des enfants âgés de 0 à 6 ans ? Découvrez ce que l’équipe ON y va peuvent vous offrir ici sur place au même moment que nos activités de congé de mars. *Exclusivement le 15 mars de 14 h à 16 h et de 18 h à 20 h et le 17 mars de 9 h 30 à 11 h lors de nos activités de congé de mars.
URL:https://events-evenements.crcoc.ca/event-evenement/kids-march-break-zoo-crew-meet-the-animals-conge-de-mars-enfants-zoo-crew-rencontrez-les-animaux/
LOCATION:OCCRC | CRCOC\, 240 Centrum Blvd\, Orléans\, Orléans\, K1E 3J4\, Canada
CATEGORIES:Children & Youth-Enfants et jeunes
ATTACH;FMTTYPE=image/png:https://events-evenements.crcoc.ca/wp-content/uploads/2023/02/Camps-de-mars-ados-2023_infolettre.png
ORGANIZER;CN="Children & Youth | Enfants et jeunes":MAILTO:info@crcoc.ca
END:VEVENT
BEGIN:VEVENT
DTSTART;TZID=America/Toronto:20230315T140000
DTEND;TZID=America/Toronto:20230315T160000
DTSTAMP:20260422T150409
CREATED:20230223T195307Z
LAST-MODIFIED:20230310T165106Z
UID:16259-1678888800-1678896000@events-evenements.crcoc.ca
SUMMARY:REGISTRATION IS FULL The Zoo Crew at Playgroup  //  L’INSCRIPTION EST COMPLÈTE Le « Zoo Crew » au groupe de jeu
DESCRIPTION:During Playgroup\, alternatively\, families will get the chance to meet amphibians\, reptiles and mammals. This activity will provide an exciting hands-on animal experience that you will be sure to remember. \nRegistration required – please register for only one event on March 15th. When registering\, please enter the total number of guests\, e.g. parent and child = 2 guests. Registration for March Break activities will begin on March 6th at 8:30 a.m. and will close on the day of the activity at 9:00 a.m. \nDo you have kids who are in grades 1 to 6? See what the Children & Youth program has to offer at the same time and place as our EarlyON March Break activities.\n*Exclusively on March 15th from 2 to 4 p.m. and 6 to 8 p.m. and on March 17th from 9:30 to 11 a.m. during our March Break activities. \n\nDurant le groupe de jeu\, à tour de rôle\, les familles auront la chance de rencontrer des amphibiens\, des reptiles et des mammifères. Cette activité vous permettra de vire une expérience passionnante avec les animaux dont vous vous souviendrez certainement. \nInscription request – S.V.P.\, veuillez vous inscrire à un événement seulement le 15 mars. Lors de l’inscription\, veuillez indiquer le nombre total d’invités\, par exemple\, parent et enfant = 2 invités. L’inscription pour les activités du congé de mars débute le 6 mars à 8 h 30 et terminera le jour de l’activité à 9 h. \nAvez-vous des enfants de 1re à la 6e année ? Découvrez ce que le programme Enfant et Jeune a à offrir sur place au même moment que nos activités de congé de mars ON y va.\n*Exclusivement le 15 mars de 14 h à 16 h et de 18 h à 20 h et le 17 mars de 9 h 30 à 11 h lors de nos activités de congé de mars.
URL:https://events-evenements.crcoc.ca/event-evenement/the-zoo-crew-at-playgroup-le-zoo-crew-au-groupe-de-jeu/
LOCATION:OCCRC | CRCOC\, 240 Centrum Blvd\, Orléans\, Orléans\, K1E 3J4\, Canada
CATEGORIES:Early ON-ON y va
ATTACH;FMTTYPE=image/png:https://events-evenements.crcoc.ca/wp-content/uploads/2023/02/ZooCrew.png
ORGANIZER;CN="EarlyON | ON y va":MAILTO:EarlyONyva@crcoc.ca
END:VEVENT
BEGIN:VEVENT
DTSTART;TZID=America/Toronto:20230315T180000
DTEND;TZID=America/Toronto:20230315T200000
DTSTAMP:20260422T150409
CREATED:20230223T153549Z
LAST-MODIFIED:20230224T202058Z
UID:16149-1678903200-1678910400@events-evenements.crcoc.ca
SUMMARY:Kids March Break - Meet The Keepers // Congé de mars enfants - « Meet The Keepers »
DESCRIPTION:GRADES 1 TO 6 | BILINGUAL | IN PERSON | LIMITED SPOTS (MAX 20) \n\nMarch 15th\n\n6 – 8 p.m.: Meet the Keepers\nPlease register for only one event on March 15th.\n\n\n\nRegistration opens on the Monday of the previous week at 8:30 a.m. If you have any complications registering online\, please email Fanny or call at 613-830-4357\, ext. 152. See poster! \nNOTE: When registering\, please specify your allergies and dietary restrictions (halal\, dairy\, gluten\, vegetarian\, vegan). \nDo you have kids ages 0-6? See what the EarlyON centre has to offer at the same time and place as our Kids March Break activities.\n*Exclusively on March 15th from 2 to 4 p.m. and 6 to 8 p.m. and on March 17th from 9:30 to 11 a.m. during our special activities. \n\n\n\n\nDescription en FRANÇAIS \n1re À LA 6e ANNÉE | BILINGUE | EN PERSONNE | PLACES LIMITÉES (MAX 20) \n\n15 mars :\n\n18 h à 20 h : « Meet the Keepers »\nVeuillez vous inscrire pour un seul événement le 15 mars.\n\n\n\nL’inscription débute le lundi de la semaine précédente à 8 h 30. Si l’inscription en ligne vous pose problème\, veuillez envoyer un courriel à Fanny ou appeler 613-830-4357\, poste 152. Voir l’affiche! \nREMARQUE : Lors de votre inscription\, veuillez préciser vos allergies et vos restrictions alimentaires (halal\, produits laitiers\, gluten\, végétarien\, végétalien).+ \nAvez-vous des enfants âgés de 0 à 6 ans ? Découvrez ce que l’équipe ON y va peuvent vous offrir ici sur place au même moment que nos activités de congé de mars. *Exclusivement le 15 mars de 14 h à 16 h et de 18 h à 20 h et le 17 mars de 9 h 30 à 11 h lors de nos activités de congé de mars.
URL:https://events-evenements.crcoc.ca/event-evenement/kids-march-break-meet-the-keepers-conge-de-mars-enfants-meet-the-keepers/
LOCATION:OCCRC | CRCOC\, 240 Centrum Blvd\, Orléans\, Orléans\, K1E 3J4\, Canada
CATEGORIES:Children & Youth-Enfants et jeunes
ATTACH;FMTTYPE=image/png:https://events-evenements.crcoc.ca/wp-content/uploads/2023/02/Camps-de-mars-ados-2023_infolettre.png
ORGANIZER;CN="Children & Youth | Enfants et jeunes":MAILTO:info@crcoc.ca
END:VEVENT
BEGIN:VEVENT
DTSTART;TZID=America/Toronto:20230315T180000
DTEND;TZID=America/Toronto:20230315T200000
DTSTAMP:20260422T150409
CREATED:20230223T200236Z
LAST-MODIFIED:20230310T165228Z
UID:16267-1678903200-1678910400@events-evenements.crcoc.ca
SUMMARY:REGISTRATION IS FULL Meet The Keepers at Playgroup  //  L’INSCRIPTION EST COMPLÈTE « Meet The Keepers » au groupe de jeu
DESCRIPTION:During Playgroup\, alternatively\, families will get the chance to see a variety of medium and large animals from all around the world! Meet our rescues\, hear their stories and learn about wildlife! It is time to come on a journey around the world with The Keepers! \nRegistration required – please register for only one event on March 15th. When registering\, please enter the total number of guests\, e.g. parent and child = 2 guests. Registration for March Break activities will begin on March 6th at 8:30 a.m. and will close on the day of the activity at 9:00 a.m. \nDo you have kids who are in grades 1 to 6? See what the Children & Youth program has to offer at the same time and place as our EarlyON March Break activities.\n*Exclusively on March 15th from 2 to 4 p.m. and 6 to 8 p.m. and on March 17th from 9:30 to 11 a.m. during our March Break activities.\n\nDurant le groupe de jeu\, à tour de rôle\, les familles auront la chance de voir une variété de moyens et grands animaux d’autour du monde ! Rencontrez nos sauveteurs\, écoutez leurs histoires et apprenez-en plus sur la vie sauvage ! Il est temps de venir faire un voyage autour du monde avec « The Keepers » ! \nInscription request – S.V.P. veuillez vous inscrires à un événement seulement le 15 mars. Lors de l’inscription\, veuillez indiquer le nombre total d’invités\, par exemple\, parent et enfant = 2 invités. L’inscription pour les activités du congé de mars débute le 6 mars à 8 h 30 et terminera le jour de l’activité à 9 h. \nAvez-vous des enfants de 1re à la 6e année? Découvrez ce que le programme Enfant et Jeune a à offrir sur place au même moment que notre activité de congé de mars ON y va.\n*Exclusivement le 15 mars de 14h à 16h et de 18h à 20h et le 17 mars de 9h30 à 11h lors de nos activités spéciales.
URL:https://events-evenements.crcoc.ca/event-evenement/meet-the-keepers-at-playgroup-meet-the-keepers-au-groupe-de-jeu/
LOCATION:OCCRC | CRCOC\, 240 Centrum Blvd\, Orléans\, Orléans\, K1E 3J4\, Canada
CATEGORIES:Early ON-ON y va
ATTACH;FMTTYPE=image/png:https://events-evenements.crcoc.ca/wp-content/uploads/2023/02/MeetTheKeepers.png
ORGANIZER;CN="EarlyON | ON y va":MAILTO:EarlyONyva@crcoc.ca
END:VEVENT
BEGIN:VEVENT
DTSTART;TZID=America/Toronto:20230316T160000
DTEND;TZID=America/Toronto:20230316T180000
DTSTAMP:20260422T150409
CREATED:20230223T161706Z
LAST-MODIFIED:20230223T161858Z
UID:16168-1678982400-1678989600@events-evenements.crcoc.ca
SUMMARY:Youth March Break - 2SLGBTQIA+ Youth Group // Congé de mars ados -  Groupe d’ados 2SLGBTQIA+
DESCRIPTION:GRADES 7 TO 12 | BILINGUAL | IN PERSON | LIMITED SPOTS (MAX 15) \n\nMarch 16th: \n\n4 – 6 p.m.: 2SLGBTQIA+ Youth Group\n\nArt\, games\, snacks and more!\nDrop in\, no registration required\n\n\n\n\n\n\nDescription en FRANÇAIS \n7e À LA 12e ANNÉE | BILINGUE | EN PERSONNE | PLACES LIMITÉES (MAX 15) \n\n16 mars : \n\n16 h – 18 h : Groupe d’ados 2SLGBTQIA+\n\nActivités artistiques\, jeux\, collations et plus encore !\nVisite libre\, aucune inscription requise
URL:https://events-evenements.crcoc.ca/event-evenement/youth-march-break-2slgbtqia-youth-group-conge-de-mars-ados-groupe-dados-2slgbtqia/
LOCATION:OCCRC | CRCOC\, 240 Centrum Blvd\, Orléans\, Orléans\, K1E 3J4\, Canada
CATEGORIES:Children & Youth-Enfants et jeunes
ATTACH;FMTTYPE=image/png:https://events-evenements.crcoc.ca/wp-content/uploads/2023/02/Camps-de-mars-ados-2023-6.png
ORGANIZER;CN="Children & Youth | Enfants et jeunes":MAILTO:info@crcoc.ca
END:VEVENT
BEGIN:VEVENT
DTSTART;TZID=America/Toronto:20230317T093000
DTEND;TZID=America/Toronto:20230317T110000
DTSTAMP:20260422T150409
CREATED:20230223T202916Z
LAST-MODIFIED:20230314T172741Z
UID:16275-1679045400-1679050800@events-evenements.crcoc.ca
SUMMARY:March Break Bilingual Playgroup!  //  Groupe de jeu bilingue du congé de mars !
DESCRIPTION:Let’s meet at the Orléans-Cumberland Community Resource Centre (240 Centrum Blvd. unit 105) for a Special March Break Bilingual Playgroup! This program is geared toward children 0 to 6 years old. Children will enjoy play-based learning experiences that are fun and engaging! \nRegistration required – please register for only one event on March 15th. When registering\, please enter the total number of guests\, e.g. parent and child = 2 guests. Registration for March Break activities will begin on March 6th at 8:30 a.m. and will close on the day of the activity at 9:00 a.m. \nDo you have kids who are in grades 1 to 6? See what the Children & Youth program has to offer at the same time and place as our EarlyON March Break activities.\n*Exclusively on March 15th from 2 to 4 p.m. and 6 to 8 p.m. and on March 17th from 9:30 to 11 a.m. during our March Break activities.\n\nJoignez-vous à nous au Centre de ressources communautaires Orléans-Cumberland (240 boul. Centrum\, unité 105) pour un groupe de jeu spécial bilingue du congé de mars ! Conçu pour permettre aux enfants de 0 à 6 ans de vivre des expériences d’apprentissage par le jeu amusantes et stimulantes ! \nInscription request – S.V.P.\, veuillez vous inscrire à un événement seulement le 15 mars. Lors de l’inscription\, veuillez indiquer le nombre total d’invités\, par exemple\, parent et enfant = 2 invités. L’inscription pour les activités du congé de mars débute le 6 mars à 8 h 30 et terminera le jour de l’activité à 9 h. \nDo you have kids who are in grades 1 to 6? See what the Children & Youth program has to offer at the same time and place as our EarlyON March Break activities.\n*Exclusively on March 15th from 2 to 4 p.m. and 6 to 8 p.m. and on March 17th from 9:30 to 11 a.m. during our March Break activities.
URL:https://events-evenements.crcoc.ca/event-evenement/march-break-bilingual-playgroup-groupe-de-jeu-bilingue-du-conge-de-mars/
LOCATION:OCCRC | CRCOC\, 240 Centrum Blvd\, Orléans\, Orléans\, K1E 3J4\, Canada
CATEGORIES:Early ON-ON y va
ATTACH;FMTTYPE=image/png:https://events-evenements.crcoc.ca/wp-content/uploads/2023/02/MarchBilingualPlaygroup.png
ORGANIZER;CN="EarlyON | ON y va":MAILTO:EarlyONyva@crcoc.ca
END:VEVENT
BEGIN:VEVENT
DTSTART;TZID=America/Toronto:20230317T093000
DTEND;TZID=America/Toronto:20230317T113000
DTSTAMP:20260422T150409
CREATED:20230223T154022Z
LAST-MODIFIED:20230224T202139Z
UID:16152-1679045400-1679052600@events-evenements.crcoc.ca
SUMMARY:Kids March Break - Paper Mache Volcano Creation // Congé de mars enfants - Création d'un volcan en papier mâché
DESCRIPTION:GRADES 1 TO 6 | BILINGUAL | IN PERSON | LIMITED SPOTS (MAX 20) \n\nMarch 17th: \n\n9:30 – 11:30 a.m.: Paper Maché Volcano Creation\n\n\n\nRegistration opens on the Monday of the previous week at 8:30 a.m. If you have any complications registering online\, please email Fanny or call at 613-830-4357\, ext. 152. See poster! \nNOTE: When registering\, please specify your allergies and dietary restrictions (halal\, dairy\, gluten\, vegetarian\, vegan). \nDo you have kids ages 0-6? See what the EarlyON centre has to offer at the same time and place as our Kids March Break activities.\n*Exclusively on March 15th from 2 to 4 p.m. and 6 to 8 p.m. and on March 17th from 9:30 to 11 a.m. during our special activities. \n\n\n\n\nDescription en FRANÇAIS \n1re À LA 6e ANNÉE | BILINGUE | EN PERSONNE | PLACES LIMITÉES (MAX 20) \n\n17 mars : \n\n9 h 30 à 11 h 30 : Volcan en papier mâché\n\n\n\nL’inscription débute le lundi de la semaine précédente à 8 h 30. Si l’inscription en ligne vous pose problème\, veuillez envoyer un courriel à Fanny ou appeler 613-830-4357\, poste 152. Voir l’affiche! \nREMARQUE : Lors de votre inscription\, veuillez préciser vos allergies et vos restrictions alimentaires (halal\, produits laitiers\, gluten\, végétarien\, végétalien). \nAvez-vous des enfants âgés de 0 à 6 ans ? Découvrez ce que l’équipe ON y va peuvent vous offrir ici sur place au même moment que nos activités de congé de mars. *Exclusivement le 15 mars de 14 h à 16 h et de 18 h à 20 h et le 17 mars de 9 h 30 à 11 h lors de nos activités de congé de mars.
URL:https://events-evenements.crcoc.ca/event-evenement/kids-march-break-paper-mache-volcano-creation-conge-de-mars-enfants-creation-dun-volcan-en-papier-mache/
LOCATION:OCCRC | CRCOC\, 240 Centrum Blvd\, Orléans\, Orléans\, K1E 3J4\, Canada
CATEGORIES:Children & Youth-Enfants et jeunes
ATTACH;FMTTYPE=image/png:https://events-evenements.crcoc.ca/wp-content/uploads/2023/02/Camps-de-mars-ados-2023_infolettre.png
ORGANIZER;CN="Children & Youth | Enfants et jeunes":MAILTO:info@crcoc.ca
END:VEVENT
BEGIN:VEVENT
DTSTART;TZID=America/Toronto:20230317T130000
DTEND;TZID=America/Toronto:20230317T150000
DTSTAMP:20260422T150409
CREATED:20230317T153848Z
LAST-MODIFIED:20231202T185257Z
UID:16605-1679058000-1679065200@events-evenements.crcoc.ca
SUMMARY:Inclusive Adult Social Group  // Groupes social inclusif pour adultes
DESCRIPTION:AGES 30+ | *BILINGUAL | IN PERSON\n*Conversations will be primarily in English. **Limited spots.\n\n\n\n\n\n\nThe peer support group welcomes individuals ages 30+ needing a supportive space and companionship.\nFridays from 1 p.m. to 3 p.m. in person at the Centre\nRegistration is required\, as spots are limited.\nFor more information and to register\, contact Christine or call 613-830-4357\, ext. 309.\nSee poster.\n\n\n\n\n\nÂGES 30+ | *BILINGUE | **EN PERSONNE\n*Les conversations se déroulent principalement en anglais **Les places sont limitées.\n \n\n\n\n\n\n\n\nNous accueillons les individus 30+ qui aimeraient un espace convivial et du soutien par leurs pairs.\nLes vendredis de 13 h à 15 h en personne au Centre\nL’inscription est obligatoire\, car les places sont limitées\nPour plus d’informations contactez Christine ou appelez 613-830-4357\, poste 309.\nVoir l’affiche
URL:https://events-evenements.crcoc.ca/event-evenement/inclusive-adult-social-group-groupes-social-inclusif-pour-adultes/2023-03-17/
LOCATION:OCCRC | CRCOC\, 240 Centrum Blvd\, Orléans\, Orléans\, K1E 3J4\, Canada
CATEGORIES:Community Engagement-Engagement communautaire
ATTACH;FMTTYPE=image/png:https://events-evenements.crcoc.ca/wp-content/uploads/2022/09/Inclusive-Adult-Social-Group-BIL-1.png
END:VEVENT
END:VCALENDAR