BEGIN:VCALENDAR
VERSION:2.0
PRODID:-//OCCRC Events | Évènements CRCOC - ECPv6.15.18//NONSGML v1.0//EN
CALSCALE:GREGORIAN
METHOD:PUBLISH
X-WR-CALNAME:OCCRC Events | Évènements CRCOC
X-ORIGINAL-URL:https://events-evenements.crcoc.ca
X-WR-CALDESC:Events for OCCRC Events | Évènements CRCOC
REFRESH-INTERVAL;VALUE=DURATION:PT1H
X-Robots-Tag:noindex
X-PUBLISHED-TTL:PT1H
BEGIN:VTIMEZONE
TZID:America/Toronto
BEGIN:DAYLIGHT
TZOFFSETFROM:-0500
TZOFFSETTO:-0400
TZNAME:EDT
DTSTART:20210314T070000
END:DAYLIGHT
BEGIN:STANDARD
TZOFFSETFROM:-0400
TZOFFSETTO:-0500
TZNAME:EST
DTSTART:20211107T060000
END:STANDARD
BEGIN:DAYLIGHT
TZOFFSETFROM:-0500
TZOFFSETTO:-0400
TZNAME:EDT
DTSTART:20220313T070000
END:DAYLIGHT
BEGIN:STANDARD
TZOFFSETFROM:-0400
TZOFFSETTO:-0500
TZNAME:EST
DTSTART:20221106T060000
END:STANDARD
BEGIN:DAYLIGHT
TZOFFSETFROM:-0500
TZOFFSETTO:-0400
TZNAME:EDT
DTSTART:20230312T070000
END:DAYLIGHT
BEGIN:STANDARD
TZOFFSETFROM:-0400
TZOFFSETTO:-0500
TZNAME:EST
DTSTART:20231105T060000
END:STANDARD
END:VTIMEZONE
BEGIN:VEVENT
DTSTART;TZID=America/Toronto:20221205T093000
DTEND;TZID=America/Toronto:20221205T110000
DTSTAMP:20260422T075911
CREATED:20221124T192336Z
LAST-MODIFIED:20221124T192730Z
UID:15337-1670232600-1670238000@events-evenements.crcoc.ca
SUMMARY:Groupe de jeu francophone au Centre ON y va !
DESCRIPTION:Joignez-vous à nous au Centre de ressources communautaires Orléans-Cumberland (240 boulevard Centrum unité 105 à Orléans) pour un groupe de jeu porte ouverte ! Conçu pour permettre aux enfants de 0 à 6 ans de vivre des expériences d’apprentissage par le jeu amusantes et stimulantes ! \nÀ NOTER : Nous sommes très heureuses de vous annoncer que les inscriptions pour les groupes de jeu ne seront plus nécessaires ! Nos groupes de jeu seront maintenant des portes ouvertes\, premier arrivé/premier servi. \nÀ partir de 9 h 30\, une intervenante auprès de la famille vous accueillera et vous distribuera un numéro pour participer au groupe de jeu. \nNous vous demandons de ne pas arriver avant 9 h 30. La même chose s’applique pour les groupes de jeu pour bébés qui débutent à 13 h 30\, car aucune salle d’attente n’est disponible. \nLorsque le groupe de jeu est complet\, une affiche sera mise dans la vitrine à la porte d’entrée. Nous publierons aussi un message sur notre page Facebook.
URL:https://events-evenements.crcoc.ca/event-evenement/groupe-de-jeu-francophone-au-centre-on-y-va-21/2022-12-05/
LOCATION:Ontario
CATEGORIES:Early ON-ON y va
ATTACH;FMTTYPE=image/jpeg:https://events-evenements.crcoc.ca/wp-content/uploads/2022/05/Francophone-Group-Pic.jpg
ORGANIZER;CN="EarlyON | ON y va":MAILTO:EarlyONyva@crcoc.ca
END:VEVENT
BEGIN:VEVENT
DTSTART;TZID=America/Toronto:20221205T120000
DTEND;TZID=America/Toronto:20221205T130000
DTSTAMP:20260422T075911
CREATED:20221201T164343Z
LAST-MODIFIED:20221201T165206Z
UID:15533-1670241600-1670245200@events-evenements.crcoc.ca
SUMMARY:Know What to Do: Hope\, help and strength when faced with suicide
DESCRIPTION:The Convent Glen Orléans Wood Community Association invites community members in Orléans to a free lunch & learn webinar about how to become a stronger community in the face of mental health challenges and suicide. \nThe webinar will: \n\nShare tools about how to talk about suicide with someone who is struggling\nShare tools to help people who are struggling to talk about suicide and to get help\nHighlight trainings that are available in Ottawa if you’d like to go deeper in learning about how to be a community supporter\nShare existing organizational supports if people need to speak to a professional or a peer support person about their struggles.\n\nRegister here! \n— \nLe Convent Glen Orléans Wood Community Association invite les membres de la communauté d’Orléans à un webinaire gratuit sur la façon de devenir une communauté plus forte aux problèmes de santé mentale et au suicide. \nLe webinaire permettra de : \n\nPartager des outils sur la façon de parler du suicide avec une personne qui est en difficulté.\nPartager des outils pour aider les personnes qui ont des difficultés à parler du suicide et à obtenir de l’aide.\nMettre en évidence les formations qui sont disponibles à Ottawa si vous souhaitez approfondir vos connaissances sur la façon de devenir un soutien communautaire.\nPartager les soutiens organisationnels existants si les gens ont besoin de parler de leurs difficultés à un professionnel ou à un pair.\n\nInscrivez-vous ici ! \n*Veuillez noter que le webinaire sera en anglais seulement.
URL:https://events-evenements.crcoc.ca/event-evenement/know-what-to-do-hope-help-and-strength-when-faced-with-suicide/
LOCATION:Ontario
CATEGORIES:Community Engagement-Engagement communautaire
ATTACH;FMTTYPE=image/png:https://events-evenements.crcoc.ca/wp-content/uploads/2022/12/KnowWhatToDoWebinar.png
END:VEVENT
BEGIN:VEVENT
DTSTART;TZID=America/Toronto:20221205T133000
DTEND;TZID=America/Toronto:20221205T150000
DTSTAMP:20260422T075911
CREATED:20221124T192917Z
LAST-MODIFIED:20221124T203439Z
UID:15341-1670247000-1670252400@events-evenements.crcoc.ca
SUMMARY:Baby & Me playgroup at the EarlyON Centre! // Groupe de jeu Bébé & Moi au Centre ON y va !
DESCRIPTION:Let’s meet at the Orléans-Cumberland Community Resource Centre (240 Centrum boulevard unit 105) for a Drop-in playgroup! This program is geared towards babies from birth to 12 months old. With a small group of parents and babies\, you will have the opportunity to chat\, share parenting stories and socialize in a safe and friendly environment. \nPLEASE NOTE:  Online registration for playgroups will no longer be required! Our playgroups will now be Drop in’s\, first come / first served. \nStarting at 1:30 p.m.\, a Family Resource Worker will greet you and give you a number to attend the playgroup. We ask that you arrive no earlier than 1:30 p.m. since we don’t have a waiting room available. \nWhen the playgroup is full\, we will have a sign on the window beside the front door. We will also post a message on our Facebook page. \n\nJoignez-vous à nous au Centre de ressources communautaires Orléans-Cumberland (240 boulevard Centrum unité 105) pour un groupe de jeu en personne ! Ce groupe est conçu pour les bébés de la naissance à 12 mois. Avec un petit groupe de parents et bébés\, venez discuter et partager vos histoires avec d’autres parents ou socialiser dans un environnement amical et sécuritaire. \nÀ NOTER :  Les inscriptions pour les groupes de jeu ne seront plus nécessaires ! Nos groupes de jeu seront maintenant des portes ouvertes\, premier arrivé/premier servi. \nÀ partir de 13 h 30\, une intervenante auprès de la famille vous accueillera et vous distribuera un numéro pour participer au groupe de jeu. Nous vous demandons de ne pas arriver avant 13 h 30\, car aucune salle d’attente n’est disponible. \nLorsque le groupe de jeu est complet\, une affiche sera mise dans la vitrine à la porte d’entrée. Nous publierons aussi un message sur notre page Facebook.
URL:https://events-evenements.crcoc.ca/event-evenement/baby-me-playgroup-at-the-earlyon-centre-groupe-de-jeu-bebe-moi-au-centre-on-y-va-18/2022-12-05/
LOCATION:Ontario
CATEGORIES:Early ON-ON y va
ATTACH;FMTTYPE=image/jpeg:https://events-evenements.crcoc.ca/wp-content/uploads/2021/09/Baby-Me-Picture.jpg
ORGANIZER;CN="EarlyON | ON y va":MAILTO:EarlyONyva@crcoc.ca
END:VEVENT
BEGIN:VEVENT
DTSTART;TZID=America/Toronto:20221206T093000
DTEND;TZID=America/Toronto:20221206T110000
DTSTAMP:20260422T075911
CREATED:20221124T193330Z
LAST-MODIFIED:20221124T193330Z
UID:15347-1670319000-1670324400@events-evenements.crcoc.ca
SUMMARY:English playgroup at the EarlyON Centre!
DESCRIPTION:Let’s meet at the Orléans-Cumberland Community Resource Centre (240 Centrum boulevard unit 105) for a Drop-in playgroup! This program is geared toward children 0 to 6 years old. Children will enjoy play-based learning experiences that are fun and engaging. All participants will be asked to use the front door facing St-Joseph Boulevard to access the EarlyON Centre. \nPLEASE NOTE:  Online registration for playgroups will no longer be required! Our playgroups will now be Drop in’s\, first come / first served. \nStarting at 9:30 a.m.\, a Family Resource Worker will greet you and give you a number to attend the playgroup. We ask that you arrive no earlier than 9:30 a.m. since we don’t have a waiting room available. \nWhen the playgroup is full\, we will have a sign on the window beside the front door. We will also post a message on our Facebook page.
URL:https://events-evenements.crcoc.ca/event-evenement/english-playgroup-at-the-earlyon-centre-23/2022-12-06/
LOCATION:Ontario
CATEGORIES:Early ON-ON y va
ATTACH;FMTTYPE=image/jpeg:https://events-evenements.crcoc.ca/wp-content/uploads/2022/05/Francophone-Group-Pic.jpg
ORGANIZER;CN="EarlyON | ON y va":MAILTO:EarlyONyva@crcoc.ca
END:VEVENT
BEGIN:VEVENT
DTSTART;TZID=America/Toronto:20221206T160000
DTEND;TZID=America/Toronto:20221206T180000
DTSTAMP:20260422T075911
CREATED:20221111T203622Z
LAST-MODIFIED:20221121T174204Z
UID:15291-1670342400-1670349600@events-evenements.crcoc.ca
SUMMARY:Kids Space - Grade 1 to 6 - In-person // Espace Enfants - 1re à 6e année - En personne
DESCRIPTION:IN-PERSON programming on Tuesdays from 4 p.m. – 6 p.m. in December.  A space to connect with other kids\, have fun\, learn some strategies and talk!  REGISTER online – (Registration opens every Monday at 8:30 a.m. for the following week.)\n\n\n\nDecember 6th: Escape the Jumanji\nDecember 13th: Winter Wonderland\nDecember 20th: Tis’ the Season – Movie Night\nDecember 27th: Closed\n\nIf you have complications registering online\, please contact Fanny. \n\nDescription en FRANÇAIS \nEN PERSONNE les mardis de 16 h à 18 h en décembre. Un espace pour se connecter avec d’autres enfants\, s’amuser\, apprendre des stratégies et parler !   INSCRIVEZ-VOUS en ligne — (l’inscription ouvre tous les lundis à 8 h 30 pour la semaine suivante). \n\n6 décembre : Échapper au Jumanji\n13 décembre : Les merveilles d’hiver\n20 décembre : C’est la saison — Soirée cinéma\n27 décembre : Fermé\n\nSi l’inscription en ligne vous pose problème\, contacter Fanny.
URL:https://events-evenements.crcoc.ca/event-evenement/kids-space-grade-1-to-6-in-person-espace-enfants-1re-a-6e-annee-en-personne-13/
LOCATION:Ontario
CATEGORIES:Children & Youth-Enfants et jeunes
ATTACH;FMTTYPE=image/jpeg:https://events-evenements.crcoc.ca/wp-content/uploads/2021/01/kids-space-espace-enfants.jpg
ORGANIZER;CN="Children & Youth | Enfants et jeunes":MAILTO:info@crcoc.ca
END:VEVENT
BEGIN:VEVENT
DTSTART;TZID=America/Toronto:20221206T190000
DTEND;TZID=America/Toronto:20221206T193000
DTSTAMP:20260422T075911
CREATED:20221124T194847Z
LAST-MODIFIED:20221124T195159Z
UID:15351-1670353200-1670355000@events-evenements.crcoc.ca
SUMMARY:Virtual Bedtime Stories // L'heure du conte virtuelle
DESCRIPTION:We invite you to join us for virtual bedtime stories every Tuesday evening at 7:00 p.m. Geared towards children 2 to 6 years old. Registration required.  //  Nous vous invitons à l’heure du conte virtuelle tous les mardis à 19 h. Pour les enfants de 2 à 6 ans. Inscription requise.
URL:https://events-evenements.crcoc.ca/event-evenement/virtual-bedtime-stories-lheure-du-conte-virtuelle/2022-12-06/
LOCATION:Ontario
CATEGORIES:Early ON-ON y va
ATTACH;FMTTYPE=image/png:https://events-evenements.crcoc.ca/wp-content/uploads/2022/11/Virtual-Bedtime-Stories.png
ORGANIZER;CN="EarlyON | ON y va":MAILTO:EarlyONyva@crcoc.ca
END:VEVENT
BEGIN:VEVENT
DTSTART;TZID=America/Toronto:20221207T093000
DTEND;TZID=America/Toronto:20221207T110000
DTSTAMP:20260422T075911
CREATED:20221124T195559Z
LAST-MODIFIED:20221124T195559Z
UID:15361-1670405400-1670410800@events-evenements.crcoc.ca
SUMMARY:Groupe de jeu francophone au Centre ON y va !
DESCRIPTION:Joignez-vous à nous au Centre de ressources communautaires Orléans-Cumberland (240 boulevard Centrum unité 105 à Orléans) pour un groupe de jeu porte ouverte ! Conçu pour permettre aux enfants de 0 à 6 ans de vivre des expériences d’apprentissage par le jeu amusantes et stimulantes ! \nÀ NOTER : Nous sommes très heureuses de vous annoncer que les inscriptions pour les groupes de jeu ne seront plus nécessaires ! Nos groupes de jeu seront maintenant des portes ouvertes\, premier arrivé/premier servi. \nÀ partir de 9 h 30\, une intervenante auprès de la famille vous accueillera et vous distribuera un numéro pour participer au groupe de jeu. \nNous vous demandons de ne pas arriver avant 9 h 30. La même chose s’applique pour les groupes de jeu pour bébés qui débutent à 13 h 30\, car aucune salle d’attente n’est disponible. \nLorsque le groupe de jeu est complet\, une affiche sera mise dans la vitrine à la porte d’entrée. Nous publierons aussi un message sur notre page Facebook.
URL:https://events-evenements.crcoc.ca/event-evenement/groupe-de-jeu-francophone-au-centre-on-y-va-22/2022-12-07/
LOCATION:Ontario
CATEGORIES:Early ON-ON y va
ATTACH;FMTTYPE=image/jpeg:https://events-evenements.crcoc.ca/wp-content/uploads/2022/05/Francophone-Group-Pic.jpg
ORGANIZER;CN="EarlyON | ON y va":MAILTO:EarlyONyva@crcoc.ca
END:VEVENT
BEGIN:VEVENT
DTSTART;TZID=America/Toronto:20221207T093000
DTEND;TZID=America/Toronto:20221207T110000
DTSTAMP:20260422T075911
CREATED:20221124T200032Z
LAST-MODIFIED:20221124T200032Z
UID:15365-1670405400-1670410800@events-evenements.crcoc.ca
SUMMARY:Playgroup at the Navan Arena //  Groupe de jeu à l'arena de Navan
DESCRIPTION:Let’s meet at the Navan Memorial Centre & Arena\, 1295 Colonial Road\, Navan\, ON K4B 1N1\, for a Drop-in playgroup! This program is geared toward children 0 to 6 years old. Children will enjoy play-based learning experiences that are fun and engaging.\n \nNo groups will be offered in Cumberland or Navan when school buses are cancelled. \n— \nJoignez-vous à nous au Centre commémoratif et aréna de Navan\, 1295 Colonial Road\, Navan\, ON K4B 1N1 pour un groupe de jeu porte ouverte !  Conçu pour permettre aux enfants de 0 à 6 ans de vivre des expériences d’apprentissage par le jeu amusantes et stimulantes ! \nLorsque le transport scolaire est annulé\, tous les groupes à Cumberland et à Navan ne seront pas offerts.
URL:https://events-evenements.crcoc.ca/event-evenement/playgroup-at-the-navan-arena-groupe-de-jeu-a-larena-de-navan-3/2022-12-07/
LOCATION:Ontario
CATEGORIES:Early ON-ON y va
ATTACH;FMTTYPE=image/jpeg:https://events-evenements.crcoc.ca/wp-content/uploads/2021/12/pic-0-to-2-ans.jpg
ORGANIZER;CN="EarlyON | ON y va":MAILTO:EarlyONyva@crcoc.ca
END:VEVENT
END:VCALENDAR