BEGIN:VCALENDAR
VERSION:2.0
PRODID:-//OCCRC Events | Évènements CRCOC - ECPv6.15.18//NONSGML v1.0//EN
CALSCALE:GREGORIAN
METHOD:PUBLISH
X-WR-CALNAME:OCCRC Events | Évènements CRCOC
X-ORIGINAL-URL:https://events-evenements.crcoc.ca
X-WR-CALDESC:Events for OCCRC Events | Évènements CRCOC
REFRESH-INTERVAL;VALUE=DURATION:PT1H
X-Robots-Tag:noindex
X-PUBLISHED-TTL:PT1H
BEGIN:VTIMEZONE
TZID:America/Toronto
BEGIN:DAYLIGHT
TZOFFSETFROM:-0500
TZOFFSETTO:-0400
TZNAME:EDT
DTSTART:20210314T070000
END:DAYLIGHT
BEGIN:STANDARD
TZOFFSETFROM:-0400
TZOFFSETTO:-0500
TZNAME:EST
DTSTART:20211107T060000
END:STANDARD
BEGIN:DAYLIGHT
TZOFFSETFROM:-0500
TZOFFSETTO:-0400
TZNAME:EDT
DTSTART:20220313T070000
END:DAYLIGHT
BEGIN:STANDARD
TZOFFSETFROM:-0400
TZOFFSETTO:-0500
TZNAME:EST
DTSTART:20221106T060000
END:STANDARD
BEGIN:DAYLIGHT
TZOFFSETFROM:-0500
TZOFFSETTO:-0400
TZNAME:EDT
DTSTART:20230312T070000
END:DAYLIGHT
BEGIN:STANDARD
TZOFFSETFROM:-0400
TZOFFSETTO:-0500
TZNAME:EST
DTSTART:20231105T060000
END:STANDARD
END:VTIMEZONE
BEGIN:VEVENT
DTSTART;TZID=America/Toronto:20221129T100000
DTEND;TZID=America/Toronto:20221129T110000
DTSTAMP:20260422T075911
CREATED:20221025T200752Z
LAST-MODIFIED:20221124T183049Z
UID:15179-1669716000-1669719600@events-evenements.crcoc.ca
SUMMARY:CANCELLED - Gross motor fun at The Navan Arena! // ANNULÉ - On bouge en s’amusant à l’aréna de Navan !
DESCRIPTION:Let’s meet at the Navan Memorial Centre & Arena\, 1295 Colonial\, Navan\, ON K4B 1N1\, for this fun activity! Registration required. Get ready to jump\, run\, climb and move with us at the park! During this activity\, your children will get the chance to practice all of their gross motor skills! \n— \nJoignez-vous à nous au Centre commémoratif et aréna de Navan\, 1295 Colonial\, Navan\, ON K4B 1N1 pour cette activité amusante ! Inscription require. Venez sauter\, courir\, grimper et bouger avec nous au parc ! Durant cette activité\, votre enfant aura la chance de mettre sa motricité globale en pratique !
URL:https://events-evenements.crcoc.ca/event-evenement/gross-motor-fun-at-the-navan-arena-on-bouge-en-samusant-a-larena-de-navan/
LOCATION:Ontario
CATEGORIES:Early ON-ON y va
ATTACH;FMTTYPE=image/png:https://events-evenements.crcoc.ca/wp-content/uploads/2022/10/Screen-Shot-2022-10-25-at-4.07.28-PM.png
ORGANIZER;CN="EarlyON | ON y va":MAILTO:EarlyONyva@crcoc.ca
END:VEVENT
BEGIN:VEVENT
DTSTART;TZID=America/Toronto:20221129T160000
DTEND;TZID=America/Toronto:20221129T180000
DTSTAMP:20260422T075911
CREATED:20221025T202157Z
LAST-MODIFIED:20221121T174053Z
UID:15192-1669737600-1669744800@events-evenements.crcoc.ca
SUMMARY:Kids Space - Grade 1 to 6 - In-person // Espace Enfants - 1re à 6e année - En personne
DESCRIPTION:ENGLISH Description\n\nIN-PERSON programming on Tuesdays from 4 p.m. – 6 p.m. in November.  A space to connect with other kids\, have fun\, learn some strategies and talk!  REGISTER online – (Registration opens every Monday at 8:30 a.m. for the following week.)\n\n\n\n1: What the Future Holds\n8: Movie Night – Lets Take the Train of Thought (Inside Out)\n 15: Tuning in to You\n\n22: “Check” Your Limits\n29: Body\, Mind & Soul\n\nIf you have complications registering online\, please contact Fanny. \n\nDescription en FRANÇAIS \nEN PERSONNE les mardis de 16 h à 18 h en novembre. Un espace pour se connecter avec d’autres enfants\, s’amuser\, apprendre des stratégies et parler !   INSCRIVEZ-VOUS en ligne — (l’inscription ouvre tous les lundis à 8 h 30 pour la semaine suivante). \n\n1 : Ce que le futur sera\n8 : Soirée cinéma — Prenons le train de la pensée et (vice-versa)\n 15 : Se mettre à ton écoute\n 22 : Maîtriser son jeu\n29 : Corps\, pensées et esprit\n\nSi l’inscription en ligne vous pose problème\, contacter Fanny.
URL:https://events-evenements.crcoc.ca/event-evenement/kids-space-grade-1-to-6-in-person-espace-enfants-1re-a-6e-annee-en-personne-12-2022-11-29/
LOCATION:Ontario
CATEGORIES:Children & Youth-Enfants et jeunes
ATTACH;FMTTYPE=image/jpeg:https://events-evenements.crcoc.ca/wp-content/uploads/2021/01/kids-space-espace-enfants.jpg
ORGANIZER;CN="Children & Youth | Enfants et jeunes":MAILTO:info@crcoc.ca
END:VEVENT
BEGIN:VEVENT
DTSTART;TZID=America/Toronto:20221201T093000
DTEND;TZID=America/Toronto:20221201T110000
DTSTAMP:20260422T075911
CREATED:20221124T200245Z
LAST-MODIFIED:20221124T201605Z
UID:15370-1669887000-1669892400@events-evenements.crcoc.ca
SUMMARY:English playgroup at the EarlyON Centre!
DESCRIPTION:Let’s meet at the Orléans-Cumberland Community Resource Centre (240 Centrum boulevard unit 105) for a Drop-in playgroup! This program is geared toward children 0 to 6 years old. Children will enjoy play-based learning experiences that are fun and engaging. All participants will be asked to use the front door facing St-Joseph Boulevard to access the EarlyON Centre. \nPLEASE NOTE:  Online registration for playgroups will no longer be required! Our playgroups will now be Drop in’s\, first come / first served. \nStarting at 9:30 a.m.\, a Family Resource Worker will greet you and give you a number to attend the playgroup. We ask that you arrive no earlier than 9:30 a.m. since we don’t have a waiting room available. \nWhen the playgroup is full\, we will have a sign on the window beside the front door. We will also post a message on our Facebook page.
URL:https://events-evenements.crcoc.ca/event-evenement/english-playgroup-at-the-earlyon-centre-24/2022-12-01/
LOCATION:Ontario
CATEGORIES:Early ON-ON y va
ATTACH;FMTTYPE=image/jpeg:https://events-evenements.crcoc.ca/wp-content/uploads/2022/05/Francophone-Group-Pic.jpg
ORGANIZER;CN="EarlyON | ON y va":MAILTO:EarlyONyva@crcoc.ca
END:VEVENT
BEGIN:VEVENT
DTSTART;TZID=America/Toronto:20221201T093000
DTEND;TZID=America/Toronto:20221201T110000
DTSTAMP:20260422T075911
CREATED:20221124T201138Z
LAST-MODIFIED:20221124T201639Z
UID:15380-1669887000-1669892400@events-evenements.crcoc.ca
SUMMARY:Playgroup at the Cumberland Arena  //  Groupe de jeu à l'aréna de Cumberland
DESCRIPTION:Let’s meet at the R.J. Kennedy Arena\, 1115 Dunning Road\, for a playgroup! This program is geared toward children 0 to 6 years old. Children will enjoy play-based learning experiences that are fun and engaging.\n \nNo groups will be offered in Cumberland or Navan when school buses are cancelled. \n— \nJoignez-vous à nous à l’aréna R.J. Kennedy au 115 chemin Dunning\, pour un groupe de jeu ! Conçu pour permettre aux enfants de 0 à 6 ans de vivre des expériences d’apprentissage par le jeu amusantes et stimulantes ! \nLorsque le transport scolaire est annulé\, tous les groupes à Cumberland et à Navan ne seront pas offerts.
URL:https://events-evenements.crcoc.ca/event-evenement/playgroup-at-the-cumberland-arena-groupe-de-jeu-a-larena-de-cumberland-8/2022-12-01/
LOCATION:Ontario
CATEGORIES:Early ON-ON y va
ATTACH;FMTTYPE=image/jpeg:https://events-evenements.crcoc.ca/wp-content/uploads/2022/03/Cumberland-Pic.jpg
ORGANIZER;CN="EarlyON | ON y va":MAILTO:EarlyONyva@crcoc.ca
END:VEVENT
BEGIN:VEVENT
DTSTART;TZID=America/Toronto:20221201T130000
DTEND;TZID=America/Toronto:20221201T150000
DTSTAMP:20260422T075911
CREATED:20221124T201510Z
LAST-MODIFIED:20221125T033806Z
UID:15384-1669899600-1669906800@events-evenements.crcoc.ca
SUMMARY:Parenting in Ottawa Drop-Ins  //  Carrefours « Être parent à Ottawa »
DESCRIPTION:Speak\, in person\, with a Public Health Nurse about parenting. No appointment is necessary\, simply drop in during the clinic’s hours. \n\nGet support for infant feeding.\nLearn ways to help your child eat healthy and be active\nMake sure your child is on track with their growth and development\nAsk about your child’s social and emotional development\n\nThe program is available to: \n\nExpectant parents\, parents and guardians of children aged birth to 6 years of age\n\nThursdays from 1 p.m. to 3 p.m. – 240 Centrum Blvd\, Orléans\, ON K1E 3J4 \n\nVous pouvez parler de votre rôle de parent avec une infirmière en santé publique. Aucun rendez-vous nécessaire\, il suffit de se présenter pendant les heures d’ouverture de la clinique. \n\nObtenez du soutien à l’allaitement.\nApprenez comment aider votre enfant à bien manger et à être actif.\nAssurez-vous de la bonne croissance et du bon développement de votre enfant.\nInformez-vous sur le développement social et émotionnel de votre enfant.\n\nÀ qui s’adresse le programme ? \n\nAux futurs parents\, parents et tuteurs d’enfants de la naissance à six ans.\n\nLes jeudis de 13 h à 15 h – 240 boulevard Centrum\, Orléans (Ontario) K1E 3J4
URL:https://events-evenements.crcoc.ca/event-evenement/parenting-in-ottawa-drop-ins-carrefours-etre-parent-a-ottawa-5/2022-12-01/
LOCATION:Ontario
CATEGORIES:Early ON-ON y va
ATTACH;FMTTYPE=image/png:https://events-evenements.crcoc.ca/wp-content/uploads/2022/06/parenting-on-ottawa-pic.png
ORGANIZER;CN="EarlyON | ON y va":MAILTO:EarlyONyva@crcoc.ca
END:VEVENT
BEGIN:VEVENT
DTSTART;TZID=America/Toronto:20221201T130000
DTEND;TZID=America/Toronto:20221201T150000
DTSTAMP:20260422T075911
CREATED:20221124T201912Z
LAST-MODIFIED:20221124T201912Z
UID:15395-1669899600-1669906800@events-evenements.crcoc.ca
SUMMARY:Baby weigh-in //  Prise de poids pour bébés
DESCRIPTION:During Parenting in Ottawa Drop-ins\, parents can weigh their baby (self-serve) on Thursdays from 1-3 p.m. No appointment is needed. \n— \nDurant les Carrefours « Être parent à Ottawa »\, les parents peuvent peser leur bébé (libre-service) les jeudis de 13 h à 15 h. Aucun rendez-vous nécessaire.
URL:https://events-evenements.crcoc.ca/event-evenement/baby-weigh-in-prise-de-poids-pour-bebes-15/2022-12-01/
LOCATION:Ontario
CATEGORIES:Early ON-ON y va
ATTACH;FMTTYPE=image/jpeg:https://events-evenements.crcoc.ca/wp-content/uploads/2021/07/Baby-Weigh-in-pict.jpg
ORGANIZER;CN="EarlyON | ON y va":MAILTO:EarlyONyva@crcoc.ca
END:VEVENT
BEGIN:VEVENT
DTSTART;TZID=America/Toronto:20221201T160000
DTEND;TZID=America/Toronto:20221201T180000
DTSTAMP:20260422T075911
CREATED:20221111T202501Z
LAST-MODIFIED:20221111T202501Z
UID:15288-1669910400-1669917600@events-evenements.crcoc.ca
SUMMARY:Youth Space - Grade 7 to 12 //  Espace Jeunesse - 7e à 12e année
DESCRIPTION:Bi-weekly\, ongoing program – Bilingual – In person – Thursdays. A space to connect with peers\, have fun\, share experiences\, relate with others and talk about things important to you. Fall has many hidden treasures\, let’s find them together while having fun through art\, games\, great chats and more! \nWe’re going back to a drop-in format (first come – first serve) no registration is required. No supper only snacks. Please only arrive 15 minutes before the group starts. If you have any questions\, please email Tanya. \n\nDecember – 4 p.m. to 6 p.m.  //  Décembre – 16 h  à 18 h\n\n1  –  2SLGBTQIA+ & allies / et alliés.es : The fate of Jumanji is in your hands! //  Le destin de Jumanji est entre vos mains !\n15 –  Everyone /Toustes : Warm Winter Wishes! // Vœux d’hiver chaleureux !\n\n\n\nBihebdomadaire\, programme continu — bilingue — en personne — les jeudis. Un espace pour connecter avec ses pairs\, s’amuser\, partager des expériences\, établir des liens avec les autres et parler de choses importantes pour toi. L’automne a des joies cachées\, trouvons-les ensemble en nous amusons avec de l’art\, des jeux\, de bonnes discussions et plus encore ! \nNous revenons au format porte ouverte (premier arrivé\, premier servi)\, sans inscription. Pas de souper\, seulement des collations.Veuillez n’arriver que 15 minutes avant le début du groupe. Si vous avez des questions\, envoyer un courriel à Tanya.
URL:https://events-evenements.crcoc.ca/event-evenement/youth-space-grade-7-to-12-espace-jeunesse-7e-a-12e-annee-11/2022-12-01/
LOCATION:Ontario
CATEGORIES:Children & Youth-Enfants et jeunes
ATTACH;FMTTYPE=image/jpeg:https://events-evenements.crcoc.ca/wp-content/uploads/2021/01/Youth-Space-espace-jeunesse.jpg
ORGANIZER;CN="Children & Youth | Enfants et jeunes":MAILTO:info@crcoc.ca
END:VEVENT
BEGIN:VEVENT
DTSTART;TZID=America/Toronto:20221202T093000
DTEND;TZID=America/Toronto:20221202T103000
DTSTAMP:20260422T075911
CREATED:20221124T202327Z
LAST-MODIFIED:20221202T143246Z
UID:15400-1669973400-1669977000@events-evenements.crcoc.ca
SUMMARY:Outdoor playgroup at the Queenswood Heights park!  //  Groupe de jeu au parc de Queenswood Heights!
DESCRIPTION:Let’s meet at Queenswood Heights park\, 1485 Duford Drive\, to enjoy the outdoors together! Rain or Shine (or snow)! \nCancelled if temperatures reach -25C. \n— \nJoignez-vous à nous au parc de Queenswoods Heights au 1485 Duford Drive ! Venez profiter de la nature avec nous ! Beau temps\, mauvais temps ! \nAnnulé si la température atteint les -25 C.
URL:https://events-evenements.crcoc.ca/event-evenement/outdoor-playgroup-at-the-queenswood-heights-park-groupe-de-jeu-au-parc-de-queenswood-heights-4/2022-12-02/
LOCATION:Ontario
CATEGORIES:Early ON-ON y va
ATTACH;FMTTYPE=image/png:https://events-evenements.crcoc.ca/wp-content/uploads/2022/11/OutdoorPlaygroupQueenswoodHeightsPark.png
ORGANIZER;CN="EarlyON | ON y va":MAILTO:EarlyONyva@crcoc.ca
END:VEVENT
BEGIN:VEVENT
DTSTART;TZID=America/Toronto:20221203T093000
DTEND;TZID=America/Toronto:20221203T110000
DTSTAMP:20260422T075911
CREATED:20221124T202729Z
LAST-MODIFIED:20221124T202729Z
UID:15418-1670059800-1670065200@events-evenements.crcoc.ca
SUMMARY:Saturday playgroup at the EarlyON Centre! // Groupe de jeu du samedi au Centre ON y va !
DESCRIPTION:Let’s meet at the Orléans-Cumberland Community Resource Centre (240 Centrum boulevard unit 105) for a Drop-in playgroup! This program is geared toward children 0 to 6 years old. Children will enjoy play-based learning experiences that are fun and engaging. All participants will be asked to use the front door facing St-Joseph Boulevard to access the EarlyON Centre. \nPLEASE NOTE:  Online registration for playgroups will no longer be required! Our playgroups will now be Drop in’s\, first come / first served. \nStarting at 9:30 a.m.\, a Family Resource Worker will greet you and give you a number to attend the playgroup. We ask that you arrive no earlier than 9:30 a.m. since we don’t have a waiting room available. \nWhen the playgroup is full\, we will have a sign on the window beside the front door. We will also post a message on our Facebook page. \n\nJoignez-vous à nous au Centre de ressources communautaires Orléans-Cumberland (240 boulevard Centrum unité 105 à Orléans) pour un groupe de jeu porte ouverte ! Conçu pour permettre aux enfants de 0 à 6 ans de vivre des expériences d’apprentissage par le jeu amusantes et stimulantes ! \nÀ NOTER : Nous sommes très heureuses de vous annoncer que les inscriptions pour les groupes de jeu ne seront plus nécessaires ! Nos groupes de jeu seront maintenant des portes ouvertes\, premier arrivé/premier servi. \nÀ partir de 9 h 30\, une intervenante auprès de la famille vous accueillera et vous distribuera un numéro pour participer au groupe de jeu. Nous vous demandons de ne pas arriver avant 9 h 30. La même chose s’applique pour les groupes de jeu pour bébés qui débutent à 13 h 30\, car aucune salle d’attente n’est disponible. \nLorsque le groupe de jeu est complet\, une affiche sera mise dans la vitrine à la porte d’entrée. Nous publierons aussi un message sur notre page Facebook.
URL:https://events-evenements.crcoc.ca/event-evenement/saturday-playgroup-at-the-earlyon-centre-groupe-de-jeu-du-samedi-au-centre-on-y-va-13/2022-12-03/
LOCATION:Ontario
CATEGORIES:Early ON-ON y va
ATTACH;FMTTYPE=image/jpeg:https://events-evenements.crcoc.ca/wp-content/uploads/2022/05/Francophone-Group-Pic.jpg
ORGANIZER;CN="EarlyON | ON y va":MAILTO:EarlyONyva@crcoc.ca
END:VEVENT
END:VCALENDAR