BEGIN:VCALENDAR
VERSION:2.0
PRODID:-//OCCRC Events | Évènements CRCOC - ECPv6.15.18//NONSGML v1.0//EN
CALSCALE:GREGORIAN
METHOD:PUBLISH
X-ORIGINAL-URL:https://events-evenements.crcoc.ca
X-WR-CALDESC:Events for OCCRC Events | Évènements CRCOC
REFRESH-INTERVAL;VALUE=DURATION:PT1H
X-Robots-Tag:noindex
X-PUBLISHED-TTL:PT1H
BEGIN:VTIMEZONE
TZID:America/Toronto
BEGIN:DAYLIGHT
TZOFFSETFROM:-0500
TZOFFSETTO:-0400
TZNAME:EDT
DTSTART:20210314T070000
END:DAYLIGHT
BEGIN:STANDARD
TZOFFSETFROM:-0400
TZOFFSETTO:-0500
TZNAME:EST
DTSTART:20211107T060000
END:STANDARD
BEGIN:DAYLIGHT
TZOFFSETFROM:-0500
TZOFFSETTO:-0400
TZNAME:EDT
DTSTART:20220313T070000
END:DAYLIGHT
BEGIN:STANDARD
TZOFFSETFROM:-0400
TZOFFSETTO:-0500
TZNAME:EST
DTSTART:20221106T060000
END:STANDARD
BEGIN:DAYLIGHT
TZOFFSETFROM:-0500
TZOFFSETTO:-0400
TZNAME:EDT
DTSTART:20230312T070000
END:DAYLIGHT
BEGIN:STANDARD
TZOFFSETFROM:-0400
TZOFFSETTO:-0500
TZNAME:EST
DTSTART:20231105T060000
END:STANDARD
END:VTIMEZONE
BEGIN:VEVENT
DTSTART;TZID=America/Toronto:20221107T093000
DTEND;TZID=America/Toronto:20221107T110000
DTSTAMP:20260422T201613
CREATED:20221025T193106Z
LAST-MODIFIED:20221125T030409Z
UID:15156-1667813400-1667818800@events-evenements.crcoc.ca
SUMMARY:Groupe de jeu francophone au Centre ON y va !
DESCRIPTION:Joignez-vous à nous au Centre de ressources communautaires Orléans-Cumberland (240 boulevard Centrum unité 105 à Orléans) pour un groupe de jeu porte ouverte ! Conçu pour permettre aux enfants de 0 à 6 ans de vivre des expériences d’apprentissage par le jeu amusantes et stimulantes ! \nÀ NOTER : Nous sommes très heureuses de vous annoncer que les inscriptions pour les groupes de jeu ne seront plus nécessaires ! Nos groupes de jeu seront maintenant des portes ouvertes\, premier arrivé/premier servi. \nÀ partir de 9 h 30\, une intervenante auprès de la famille vous accueillera et vous distribuera un numéro pour participer au groupe de jeu. \nNous vous demandons de ne pas arriver avant 9 h 30. La même chose s’applique pour les groupes de jeu pour bébés qui débutent à 13 h 30\, car aucune salle d’attente n’est disponible. \nLorsque le groupe de jeu est complet\, une affiche sera mise dans la vitrine à la porte d’entrée. Nous publierons aussi un message sur notre page Facebook : https://www.facebook.com/earlyonorleans.
URL:https://events-evenements.crcoc.ca/event-evenement/groupe-de-jeu-francophone-au-centre-on-y-va-20/2022-11-07/
LOCATION:Ontario
CATEGORIES:Early ON-ON y va
ATTACH;FMTTYPE=image/jpeg:https://events-evenements.crcoc.ca/wp-content/uploads/2022/05/Francophone-Group-Pic.jpg
ORGANIZER;CN="EarlyON | ON y va":MAILTO:EarlyONyva@crcoc.ca
END:VEVENT
BEGIN:VEVENT
DTSTART;TZID=America/Toronto:20221107T133000
DTEND;TZID=America/Toronto:20221107T150000
DTSTAMP:20260422T201613
CREATED:20221025T193448Z
LAST-MODIFIED:20221125T031039Z
UID:15163-1667827800-1667833200@events-evenements.crcoc.ca
SUMMARY:Baby & Me playgroup at the EarlyON Centre! // Groupe de jeu Bébé & Moi au Centre ON y va !
DESCRIPTION:Let’s meet at the Orléans-Cumberland Community Resource Centre (240 Centrum boulevard unit 105) for a Drop-in playgroup! This program is geared towards babies from birth to 12 months old. With a small group of parents and babies\, you will have the opportunity to chat\, share parenting stories and socialize in a safe and friendly environment. \nPLEASE NOTE:  Online registration for playgroups will no longer be required! Our playgroups will now be Drop in’s\, first come / first served. \nStarting at 1:30 p.m.\, a Family Resource Worker will greet you and give you a number to attend the playgroup. We ask that you arrive no earlier than 1:30 p.m. since we don’t have a waiting room available. \nWhen the playgroup is full\, we will have a sign on the window beside the front door. We will also post a message on our Facebook page: https://www.facebook.com/earlyonorleans. \n\nJoignez-vous à nous au Centre de ressources communautaires Orléans-Cumberland (240 boulevard Centrum unité 105) pour un groupe de jeu en personne ! Ce groupe est conçu pour les bébés de la naissance à 12 mois. Avec un petit groupe de parents et bébés\, venez discuter et partager vos histoires avec d’autres parents ou socialiser dans un environnement amical et sécuritaire. \nÀ NOTER :  Les inscriptions pour les groupes de jeu ne seront plus nécessaires ! Nos groupes de jeu seront maintenant des portes ouvertes\, premier arrivé/premier servi. \nÀ partir de 13 h 30\, une intervenante auprès de la famille vous accueillera et vous distribuera un numéro pour participer au groupe de jeu. Nous vous demandons de ne pas arriver avant 13 h 30\, car aucune salle d’attente n’est disponible. \nLorsque le groupe de jeu est complet\, une affiche sera mise dans la vitrine à la porte d’entrée. Nous publierons aussi un message sur notre page Facebook : https://www.facebook.com/earlyonorleans.
URL:https://events-evenements.crcoc.ca/event-evenement/baby-me-playgroup-at-the-earlyon-centre-groupe-de-jeu-bebe-moi-au-centre-on-y-va-17/2022-11-07/
LOCATION:Ontario
CATEGORIES:Early ON-ON y va
ATTACH;FMTTYPE=image/jpeg:https://events-evenements.crcoc.ca/wp-content/uploads/2021/09/Baby-Me-Picture.jpg
ORGANIZER;CN="EarlyON | ON y va":MAILTO:EarlyONyva@crcoc.ca
END:VEVENT
BEGIN:VEVENT
DTSTART;TZID=America/Toronto:20221108T160000
DTEND;TZID=America/Toronto:20221108T180000
DTSTAMP:20260422T201613
CREATED:20221025T202157Z
LAST-MODIFIED:20221025T202423Z
UID:15189-1667923200-1667930400@events-evenements.crcoc.ca
SUMMARY:Kids Space - Grade 1 to 6 - In-person // Espace Enfants - 1re à 6e année - En personne
DESCRIPTION:ENGLISH Description\n\nIN-PERSON programming on Tuesdays from 4 p.m. – 6 p.m. in November.  A space to connect with other kids\, have fun\, learn some strategies and talk!  REGISTER online – (Registration opens every Monday at 8:30 a.m. for the following week.)\n\n\n\n1: What the Future Holds\n8: Movie Night – Lets Take the Train of Thought (Inside Out)\n 15: Tuning in to You\n\n22: “Check” Your Limits\n29: Body\, Mind & Soul\n\nIf you have complications registering online\, please contact Fanny. \n\nDescription en FRANÇAIS \nEN PERSONNE les mardis de 16 h à 18 h en novembre. Un espace pour se connecter avec d’autres enfants\, s’amuser\, apprendre des stratégies et parler !   INSCRIVEZ-VOUS en ligne — (l’inscription ouvre tous les lundis à 8 h 30 pour la semaine suivante). \n\n1 : Ce que le futur sera\n8 : Soirée cinéma — Prenons le train de la pensée et (vice-versa)\n 15 : Se mettre à ton écoute\n 22 : Maîtriser son jeu\n29 : Corps\, pensées et esprit\n\nSi l’inscription en ligne vous pose problème\, contacter Fanny.
URL:https://events-evenements.crcoc.ca/event-evenement/kids-space-grade-1-to-6-in-person-espace-enfants-1re-a-6e-annee-en-personne-12-2022-11-08/
LOCATION:Ontario
CATEGORIES:Children & Youth-Enfants et jeunes
ATTACH;FMTTYPE=image/jpeg:https://events-evenements.crcoc.ca/wp-content/uploads/2021/01/kids-space-espace-enfants.jpg
ORGANIZER;CN="Children & Youth | Enfants et jeunes":MAILTO:info@crcoc.ca
END:VEVENT
BEGIN:VEVENT
DTSTART;TZID=America/Toronto:20221112T093000
DTEND;TZID=America/Toronto:20221112T110000
DTSTAMP:20260422T201613
CREATED:20221025T192915Z
LAST-MODIFIED:20221125T030709Z
UID:15153-1668245400-1668250800@events-evenements.crcoc.ca
SUMMARY:Saturday playgroup at the EarlyON Centre! // Groupe de jeu du samedi au Centre ON y va !
DESCRIPTION:Let’s meet at the Orléans-Cumberland Community Resource Centre (240 Centrum boulevard unit 105) for a Drop-in playgroup! This program is geared toward children 0 to 6 years old. Children will enjoy play-based learning experiences that are fun and engaging. All participants will be asked to use the front door facing St-Joseph Boulevard to access the EarlyON Centre. \nPLEASE NOTE:  Online registration for playgroups will no longer be required! Our playgroups will now be Drop in’s\, first come / first served. \nStarting at 9:30 a.m.\, a Family Resource Worker will greet you and give you a number to attend the playgroup. We ask that you arrive no earlier than 9:30 a.m. since we don’t have a waiting room available. \nWhen the playgroup is full\, we will have a sign on the window beside the front door. We will also post a message on our Facebook page: https://www.facebook.com/earlyonorleans. \n\nJoignez-vous à nous au Centre de ressources communautaires Orléans-Cumberland (240 boulevard Centrum unité 105 à Orléans) pour un groupe de jeu porte ouverte ! Conçu pour permettre aux enfants de 0 à 6 ans de vivre des expériences d’apprentissage par le jeu amusantes et stimulantes ! \nÀ NOTER : Nous sommes très heureuses de vous annoncer que les inscriptions pour les groupes de jeu ne seront plus nécessaires ! Nos groupes de jeu seront maintenant des portes ouvertes\, premier arrivé/premier servi. \nÀ partir de 9 h 30\, une intervenante auprès de la famille vous accueillera et vous distribuera un numéro pour participer au groupe de jeu. Nous vous demandons de ne pas arriver avant 9 h 30. La même chose s’applique pour les groupes de jeu pour bébés qui débutent à 13 h 30\, car aucune salle d’attente n’est disponible. \nLorsque le groupe de jeu est complet\, une affiche sera mise dans la vitrine à la porte d’entrée. Nous publierons aussi un message sur notre page Facebook : https://www.facebook.com/earlyonorleans.
URL:https://events-evenements.crcoc.ca/event-evenement/saturday-playgroup-at-the-earlyon-centre-groupe-de-jeu-du-samedi-au-centre-on-y-va-12/2022-11-12/
LOCATION:Ontario
CATEGORIES:Early ON-ON y va
ATTACH;FMTTYPE=image/jpeg:https://events-evenements.crcoc.ca/wp-content/uploads/2022/05/Francophone-Group-Pic.jpg
ORGANIZER;CN="EarlyON | ON y va":MAILTO:EarlyONyva@crcoc.ca
END:VEVENT
END:VCALENDAR