BEGIN:VCALENDAR
VERSION:2.0
PRODID:-//OCCRC Events | Évènements CRCOC - ECPv6.15.18//NONSGML v1.0//EN
CALSCALE:GREGORIAN
METHOD:PUBLISH
X-ORIGINAL-URL:https://events-evenements.crcoc.ca
X-WR-CALDESC:Events for OCCRC Events | Évènements CRCOC
REFRESH-INTERVAL;VALUE=DURATION:PT1H
X-Robots-Tag:noindex
X-PUBLISHED-TTL:PT1H
BEGIN:VTIMEZONE
TZID:America/Toronto
BEGIN:DAYLIGHT
TZOFFSETFROM:-0500
TZOFFSETTO:-0400
TZNAME:EDT
DTSTART:20210314T070000
END:DAYLIGHT
BEGIN:STANDARD
TZOFFSETFROM:-0400
TZOFFSETTO:-0500
TZNAME:EST
DTSTART:20211107T060000
END:STANDARD
BEGIN:DAYLIGHT
TZOFFSETFROM:-0500
TZOFFSETTO:-0400
TZNAME:EDT
DTSTART:20220313T070000
END:DAYLIGHT
BEGIN:STANDARD
TZOFFSETFROM:-0400
TZOFFSETTO:-0500
TZNAME:EST
DTSTART:20221106T060000
END:STANDARD
BEGIN:DAYLIGHT
TZOFFSETFROM:-0500
TZOFFSETTO:-0400
TZNAME:EDT
DTSTART:20230312T070000
END:DAYLIGHT
BEGIN:STANDARD
TZOFFSETFROM:-0400
TZOFFSETTO:-0500
TZNAME:EST
DTSTART:20231105T060000
END:STANDARD
END:VTIMEZONE
BEGIN:VEVENT
DTSTART;TZID=America/Toronto:20221025T133000
DTEND;TZID=America/Toronto:20221025T143000
DTSTAMP:20260422T232052
CREATED:20220927T135754Z
LAST-MODIFIED:20220927T135905Z
UID:14950-1666704600-1666708200@events-evenements.crcoc.ca
SUMMARY:Introduction to Infant Massage  //  Introduction aux massages pour bébés
DESCRIPTION:Let’s meet at the Orléans-Cumberland Community Resource Centre (240 Centrum Blvd. unit 105 in Orléans) for an infant massage workshop! There are many benefits of Infant Massage. Together we will explore different ways to massage baby and enjoy the interactions among parents.  // \nJoignez-vous à nous au Centre de ressources communautaires Orléans-Cumberland (240 boulevard Centrum unité 105 à Orléans) pour un atelier de massage pour bébés. Il y a plusieurs bienfaits au massage pour bébés et nous en profiterons pour discuter entre parents.
URL:https://events-evenements.crcoc.ca/event-evenement/introduction-to-infant-massage-introduction-aux-massages-pour-bebes-4/
LOCATION:Ontario
CATEGORIES:Early ON-ON y va
ATTACH;FMTTYPE=image/jpeg:https://events-evenements.crcoc.ca/wp-content/uploads/2021/08/Infant-Message-Pic.jpg
ORGANIZER;CN="EarlyON | ON y va":MAILTO:EarlyONyva@crcoc.ca
END:VEVENT
BEGIN:VEVENT
DTSTART;TZID=America/Toronto:20221025T160000
DTEND;TZID=America/Toronto:20221025T180000
DTSTAMP:20260422T232052
CREATED:20220926T141336Z
LAST-MODIFIED:20220926T141513Z
UID:14801-1666713600-1666720800@events-evenements.crcoc.ca
SUMMARY:Kids Space - Grade 1 to 6 - In-person // Espace Enfants - 1re à 6e année - En personne
DESCRIPTION:IN-PERSON programming on Tuesdays from 4 p.m. – 6 p.m. in October.  A space to connect with other kids\, have fun\, learn some strategies and talk!  REGISTER online – (Registration opens every Mondays at 8:30 a.m. for the following week.) //\n\n\n\n\n\nEN PERSONNE les mardis de 16 h à 18 h en octobre.   Un espace pour se connecter avec d’autres enfants\, s’asumer\, apprendre des stratégies et parler!   INSCRIVEZ-VOUS en ligne – (L’inscription ouvre tous les lundies à 8h30 pour la semaine suivant.)\n\n\n\nENGLISH Description\n\n4: See it to Believe it\n11: Movie Night – You’re a Wizard Harry\n 18: The Sorting Hat – Harry Potter and the Personality Test\n\n25: Spooky Masks for Scary Feelings\n\n  \nDescription en FRANÇAIS \n\n4 : Voyez-le pour le croire\n11 : Soirée cinéma – Tu es un sorcier Harry\n 18 : Le chapeau de tri – Harry Potter et le test de personnalité\n 25 : Masques épeurants pour les gros émotions\n\n  \nIf you have complications registering online\, please contact Fanny.  // Si l’inscription en ligne vous pose problème\, contacter Fanny.
URL:https://events-evenements.crcoc.ca/event-evenement/kids-space-grade-1-to-6-in-person-espace-enfants-1re-a-6e-annee-en-personne-11-2022-10-25/
LOCATION:Ontario
CATEGORIES:Children & Youth-Enfants et jeunes
ATTACH;FMTTYPE=image/jpeg:https://events-evenements.crcoc.ca/wp-content/uploads/2021/01/kids-space-espace-enfants.jpg
ORGANIZER;CN="Children & Youth | Enfants et jeunes":MAILTO:info@crcoc.ca
END:VEVENT
BEGIN:VEVENT
DTSTART;TZID=America/Toronto:20221025T160000
DTEND;TZID=America/Toronto:20221025T180000
DTSTAMP:20260422T232052
CREATED:20221025T202157Z
LAST-MODIFIED:20221025T202157Z
UID:15183-1666713600-1666720800@events-evenements.crcoc.ca
SUMMARY:Kids Space - Grade 1 to 6 - In-person // Espace Enfants - 1re à 6e année - En personne
DESCRIPTION:ENGLISH Description\n\nIN-PERSON programming on Tuesdays from 4 p.m. – 6 p.m. in November.  A space to connect with other kids\, have fun\, learn some strategies and talk!  REGISTER online – (Registration opens every Monday at 8:30 a.m. for the following week.)\n\n\n\n1: What the Future Holds\n8: Movie Night – Lets Take the Train of Thought (Inside Out)\n 15: Tuning in to You\n\n22: “Check” Your Limits\n29: Body\, Mind & Soul\n\nIf you have complications registering online\, please contact Fanny. \n\nDescription en FRANÇAIS \nEN PERSONNE les mardis de 16 h à 18 h en novembre. Un espace pour se connecter avec d’autres enfants\, s’amuser\, apprendre des stratégies et parler !   INSCRIVEZ-VOUS en ligne — (l’inscription ouvre tous les lundis à 8 h 30 pour la semaine suivante). \n\n1 : Ce que le futur sera\n8 : Soirée cinéma — Prenons le train de la pensée et (vice-versa)\n 15 : Se mettre à ton écoute\n 22 : Maîtriser son jeu\n29 : Corps\, pensées et esprit\n\nSi l’inscription en ligne vous pose problème\, contacter Fanny.
URL:https://events-evenements.crcoc.ca/event-evenement/kids-space-grade-1-to-6-in-person-espace-enfants-1re-a-6e-annee-en-personne-12/2022-10-25/
LOCATION:Ontario
CATEGORIES:Children & Youth-Enfants et jeunes
ATTACH;FMTTYPE=image/jpeg:https://events-evenements.crcoc.ca/wp-content/uploads/2021/01/kids-space-espace-enfants.jpg
ORGANIZER;CN="Children & Youth | Enfants et jeunes":MAILTO:info@crcoc.ca
END:VEVENT
BEGIN:VEVENT
DTSTART;TZID=America/Toronto:20221027T160000
DTEND;TZID=America/Toronto:20221027T190000
DTSTAMP:20260422T232052
CREATED:20220926T160912Z
LAST-MODIFIED:20220926T161225Z
UID:14816-1666886400-1666897200@events-evenements.crcoc.ca
SUMMARY:Youth Space - Grade 7 to 12 //  Espace Jeunesse - 7e à 12e année
DESCRIPTION:Weekly\, ongoing program – Bilingual – In person – Thursdays. A space to connect with peers\, have fun\, share experiences\, relate with others and talk about things important to you. Fall has many hidden treasures\, let’s find them together while having fun through art\, games\, great chats and more! \nRegister online to join us (limited spots 12 people).   If you have any complication registering please email Tanya. \n\nOctober – 4 p.m. to 7 p.m.  //  Octobre – 16 h  à 19 h\n\n6  –  2SLGBTQIA+ & allies / et alliés.es : Groupe Cancelled  //  Groupe annulé\n\n13 –  Everyone /Toustes : Another Fall\, Another Turned Leaf!; Dinner:  Chili & Garlic Bread //  Un autre automne\, une autre feuille tournée !;  Souper :  Chili et pain à l’ail\n20  –  Girls / Filles : Pumpkin Spice & Everything Nice!; Dinner:  Spaghetti Squash Chicken Alfredo  // Épices à la citrouille rien de meilleurs;  Souper : Alfredo au poulet à la courge spaghetti\n27  –  Everyone /Toustes : Lights. Camera. Action!; Dinner: Pizza & Salad  // Lumière. Caméra. Action !; Souper : Pizza et salade\n\n\n\nHebdomadaire\, programme continu – bilingue – En personne – les jeudis. Un espace pour connecter avec ses pairs\, s’amuser\, partager des expériences\, établir des liens avec les autres et parler de choses importantes pour toi. L’automne a des joies cachées\, trouvons-les ensemble en nous amusons avec de l’art\, des jeux\, de bonnes discussions et plus encore! \nInscrivez en ligne pour nous joindre (places limitées 12 personnes).  Si l’inscription en ligne vous pose problème\, envoyer un courriel à Tanya.
URL:https://events-evenements.crcoc.ca/event-evenement/youth-space-grade-7-to-12-espace-jeunesse-7e-a-12e-annee-10-2022-10-27/
LOCATION:Ontario
CATEGORIES:Children & Youth-Enfants et jeunes
ATTACH;FMTTYPE=image/jpeg:https://events-evenements.crcoc.ca/wp-content/uploads/2021/01/Youth-Space-espace-jeunesse.jpg
ORGANIZER;CN="Children & Youth | Enfants et jeunes":MAILTO:info@crcoc.ca
END:VEVENT
BEGIN:VEVENT
DTSTART;TZID=America/Toronto:20221029T093000
DTEND;TZID=America/Toronto:20221029T110000
DTSTAMP:20260422T232052
CREATED:20220927T125526Z
LAST-MODIFIED:20220927T125628Z
UID:14914-1667035800-1667041200@events-evenements.crcoc.ca
SUMMARY:Saturday playgroup at the EarlyON Centre! // Groupe de jeu du samedi au Centre ON y va !
DESCRIPTION:Let’s meet at the Orléans-Cumberland Community Resource Centre (240 Centrum boulevard unit 105) for a Drop-in playgroup! This program is geared towards children 0 to 6 years old. Children will enjoy play-based learning experiences that are fun and engaging. *Wear your costumes! All participants will be asked to use the front door facing St-Joseph Boulevard to access the EarlyON Centre. \nPLEASE NOTE:  Online registration for playgroups will no longer be required! Our playgroups will now be Drop in’s\, first come / first served. \nStarting at 9:30 a.m.\, a Family Resource Worker will greet and give you a number to attend the playgroup. We ask that you arrive no earlier than 9:30 a.m. since we don’t have a waiting room available. \nWhen the playgroup is full\, we will have a sign on the window beside the front door. We will also post a message on our Facebook page: https://www.facebook.com/earlyonorleans. \n\nJoignez-vous à nous au Centre de ressources communautaires Orléans-Cumberland (240 boulevard Centrum unité 105 à Orléans) pour un groupe de jeu porte ouverte ! Conçu pour permettre aux enfants de 0 à 6 ans de vivre des expériences d’apprentissage par le jeu amusantes et stimulantes ! *Portez vos déguisements ! \nÀ NOTER : Nous sommes très heureuses de vous annoncer que les inscriptions pour les groupes de jeu ne seront plus nécessaires ! Nos groupes de jeu seront maintenant des portes ouvertes\, premier arrivé/premier servi. \nÀ partir de 9 h 30\, une intervenante auprès de la famille vous accueillera et vous distribuera un numéro pour participer au groupe de jeu. Nous vous demandons de ne pas arriver avant 9 h 30. La même chose s’applique pour les groupes de jeu pour bébés qui débutent à 13 h 30\, car aucune salle d’attente n’est disponible. \nLorsque le groupe de jeu est complet\, une affiche sera mise dans la vitrine à la porte d’entrée. Nous publierons aussi un message sur notre page Facebook : https://www.facebook.com/earlyonorleans.
URL:https://events-evenements.crcoc.ca/event-evenement/saturday-playgroup-at-the-earlyon-centre-groupe-de-jeu-du-samedi-au-centre-on-y-va-11/
LOCATION:Ontario
CATEGORIES:Early ON-ON y va
ATTACH;FMTTYPE=image/jpeg:https://events-evenements.crcoc.ca/wp-content/uploads/2022/05/Francophone-Group-Pic.jpg
ORGANIZER;CN="EarlyON | ON y va":MAILTO:EarlyONyva@crcoc.ca
END:VEVENT
END:VCALENDAR