BEGIN:VCALENDAR
VERSION:2.0
PRODID:-//OCCRC Events | Évènements CRCOC - ECPv6.15.18//NONSGML v1.0//EN
CALSCALE:GREGORIAN
METHOD:PUBLISH
X-ORIGINAL-URL:https://events-evenements.crcoc.ca
X-WR-CALDESC:Events for OCCRC Events | Évènements CRCOC
REFRESH-INTERVAL;VALUE=DURATION:PT1H
X-Robots-Tag:noindex
X-PUBLISHED-TTL:PT1H
BEGIN:VTIMEZONE
TZID:America/Toronto
BEGIN:DAYLIGHT
TZOFFSETFROM:-0500
TZOFFSETTO:-0400
TZNAME:EDT
DTSTART:20210314T070000
END:DAYLIGHT
BEGIN:STANDARD
TZOFFSETFROM:-0400
TZOFFSETTO:-0500
TZNAME:EST
DTSTART:20211107T060000
END:STANDARD
BEGIN:DAYLIGHT
TZOFFSETFROM:-0500
TZOFFSETTO:-0400
TZNAME:EDT
DTSTART:20220313T070000
END:DAYLIGHT
BEGIN:STANDARD
TZOFFSETFROM:-0400
TZOFFSETTO:-0500
TZNAME:EST
DTSTART:20221106T060000
END:STANDARD
BEGIN:DAYLIGHT
TZOFFSETFROM:-0500
TZOFFSETTO:-0400
TZNAME:EDT
DTSTART:20230312T070000
END:DAYLIGHT
BEGIN:STANDARD
TZOFFSETFROM:-0400
TZOFFSETTO:-0500
TZNAME:EST
DTSTART:20231105T060000
END:STANDARD
END:VTIMEZONE
BEGIN:VEVENT
DTSTART;TZID=America/Toronto:20221018T160000
DTEND;TZID=America/Toronto:20221018T180000
DTSTAMP:20260422T232054
CREATED:20220926T141336Z
LAST-MODIFIED:20220926T141756Z
UID:14800-1666108800-1666116000@events-evenements.crcoc.ca
SUMMARY:Kids Space - Grade 1 to 6 - In-person // Espace Enfants - 1re à 6e année - En personne
DESCRIPTION:IN-PERSON programming on Tuesdays from 4 p.m. – 6 p.m. in October.  A space to connect with other kids\, have fun\, learn some strategies and talk!  REGISTER online – (Registration opens every Mondays at 8:30 a.m. for the following week.) //\n\n\n\n\n\nEN PERSONNE les mardis de 16 h à 18 h en octobre.   Un espace pour se connecter avec d’autres enfants\, s’asumer\, apprendre des stratégies et parler!   INSCRIVEZ-VOUS en ligne – (L’inscription ouvre tous les lundies à 8h30 pour la semaine suivant.)\n\n\n\nENGLISH Description\n\n4: See it to Believe it\n11: Movie Night – You’re a Wizard Harry\n 18: The Sorting Hat – Harry Potter and the Personality Test\n\n25: Spooky Masks for Scary Feelings\n\n  \nDescription en FRANÇAIS \n\n4 : Voyez-le pour le croire\n11 : Soirée cinéma – Tu es un sorcier Harry\n 18 : Le chapeau de tri – Harry Potter et le test de personnalité\n 25 : Masques épeurants pour les gros émotions\n\n  \nIf you have complications registering online\, please contact Fanny.  // Si l’inscription en ligne vous pose problème\, contacter Fanny.
URL:https://events-evenements.crcoc.ca/event-evenement/kids-space-grade-1-to-6-in-person-espace-enfants-1re-a-6e-annee-en-personne-11-2022-10-18/
LOCATION:Ontario
CATEGORIES:Children & Youth-Enfants et jeunes
ATTACH;FMTTYPE=image/jpeg:https://events-evenements.crcoc.ca/wp-content/uploads/2021/01/kids-space-espace-enfants.jpg
ORGANIZER;CN="Children & Youth | Enfants et jeunes":MAILTO:info@crcoc.ca
END:VEVENT
BEGIN:VEVENT
DTSTART;TZID=America/Toronto:20221019T133000
DTEND;TZID=America/Toronto:20221019T143000
DTSTAMP:20260422T232054
CREATED:20220927T134941Z
LAST-MODIFIED:20220927T135940Z
UID:14946-1666186200-1666189800@events-evenements.crcoc.ca
SUMMARY:Baby Sign Language Workshop (0-2 years) // Atelier de langage signer pour bébé (0-2 an)
DESCRIPTION:Come join us at the Orléans-Cumberland Community Resource Centre (240 Centrum Blvd. unit 105) for a sign language workshop with your baby. Explore some signs to facilitate communication between the both of you.  // \n  \nVenez nous joindre au Centre de ressources communautaires Orléans-Cumberland (240 boulevard Centrum unité 105) pour un atelier de langage signé avec votre bébé. Venez explorer quelques signes clés pour faciliter la communication entre vous et bébé. \n 
URL:https://events-evenements.crcoc.ca/event-evenement/baby-sign-language-workshop-0-2-years-atelier-de-langage-signer-pour-bebe-0-2-an/
LOCATION:Ontario
CATEGORIES:Early ON-ON y va
ATTACH;FMTTYPE=image/png:https://events-evenements.crcoc.ca/wp-content/uploads/2022/09/Baby-Sign-Language.png
ORGANIZER;CN="EarlyON | ON y va":MAILTO:EarlyONyva@crcoc.ca
END:VEVENT
BEGIN:VEVENT
DTSTART;TZID=America/Toronto:20221020T160000
DTEND;TZID=America/Toronto:20221020T190000
DTSTAMP:20260422T232054
CREATED:20220926T160912Z
LAST-MODIFIED:20221019T130447Z
UID:14815-1666281600-1666292400@events-evenements.crcoc.ca
SUMMARY:Youth Space - Grade 7 to 12 //  Espace Jeunesse - 7e à 12e année
DESCRIPTION:Weekly\, ongoing program – Bilingual – In person – Thursdays. A space to connect with peers\, have fun\, share experiences\, relate with others and talk about things important to you. Fall has many hidden treasures\, let’s find them together while having fun through art\, games\, great chats and more! \nRegister online to join us (limited spots 12 people).   If you have any complication registering please email Tanya. \n\nOctober – 4 p.m. to 7 p.m.  //  Octobre – 16 h  à 19 h\n\n6  –  2SLGBTQIA+ & allies / et alliés.es : Group Cancelled  //  Groupe annulé\n\n13 –  Everyone /Toustes : Another Fall\, Another Turned Leaf!; Dinner:  Chili & Garlic Bread //  Un autre automne\, une autre feuille tournée !;  Souper :  Chili et pain à l’ail\n20  –  Girls / Filles : Group Cancelled  //  Groupe annulé\n27  –  Everyone /Toustes : Lights. Camera. Action!; Dinner: Pizza & Salad  // Lumière. Caméra. Action !; Souper : Pizza et salade\n\n\n\nHebdomadaire\, programme continu – bilingue – En personne – les jeudis. Un espace pour connecter avec ses pairs\, s’amuser\, partager des expériences\, établir des liens avec les autres et parler de choses importantes pour toi. L’automne a des joies cachées\, trouvons-les ensemble en nous amusons avec de l’art\, des jeux\, de bonnes discussions et plus encore! \nInscrivez en ligne pour nous joindre (places limitées 12 personnes).  Si l’inscription en ligne vous pose problème\, envoyer un courriel à Tanya.
URL:https://events-evenements.crcoc.ca/event-evenement/youth-space-grade-7-to-12-espace-jeunesse-7e-a-12e-annee-10-2022-10-20/
LOCATION:Ontario
CATEGORIES:Children & Youth-Enfants et jeunes
ATTACH;FMTTYPE=image/jpeg:https://events-evenements.crcoc.ca/wp-content/uploads/2021/01/Youth-Space-espace-jeunesse.jpg
ORGANIZER;CN="Children & Youth | Enfants et jeunes":MAILTO:info@crcoc.ca
END:VEVENT
END:VCALENDAR