BEGIN:VCALENDAR
VERSION:2.0
PRODID:-//OCCRC Events | Évènements CRCOC - ECPv6.15.18//NONSGML v1.0//EN
CALSCALE:GREGORIAN
METHOD:PUBLISH
X-WR-CALNAME:OCCRC Events | Évènements CRCOC
X-ORIGINAL-URL:https://events-evenements.crcoc.ca
X-WR-CALDESC:Events for OCCRC Events | Évènements CRCOC
REFRESH-INTERVAL;VALUE=DURATION:PT1H
X-Robots-Tag:noindex
X-PUBLISHED-TTL:PT1H
BEGIN:VTIMEZONE
TZID:America/Toronto
BEGIN:DAYLIGHT
TZOFFSETFROM:-0500
TZOFFSETTO:-0400
TZNAME:EDT
DTSTART:20210314T070000
END:DAYLIGHT
BEGIN:STANDARD
TZOFFSETFROM:-0400
TZOFFSETTO:-0500
TZNAME:EST
DTSTART:20211107T060000
END:STANDARD
BEGIN:DAYLIGHT
TZOFFSETFROM:-0500
TZOFFSETTO:-0400
TZNAME:EDT
DTSTART:20220313T070000
END:DAYLIGHT
BEGIN:STANDARD
TZOFFSETFROM:-0400
TZOFFSETTO:-0500
TZNAME:EST
DTSTART:20221106T060000
END:STANDARD
BEGIN:DAYLIGHT
TZOFFSETFROM:-0500
TZOFFSETTO:-0400
TZNAME:EDT
DTSTART:20230312T070000
END:DAYLIGHT
BEGIN:STANDARD
TZOFFSETFROM:-0400
TZOFFSETTO:-0500
TZNAME:EST
DTSTART:20231105T060000
END:STANDARD
END:VTIMEZONE
BEGIN:VEVENT
DTSTART;TZID=America/Toronto:20221003T093000
DTEND;TZID=America/Toronto:20221003T113000
DTSTAMP:20260422T220221
CREATED:20220926T140016Z
LAST-MODIFIED:20220926T202526Z
UID:14789-1664789400-1664796600@events-evenements.crcoc.ca
SUMMARY:Groupe de jeu francophone au Centre ON y va!
DESCRIPTION:Joignez-vous à nous au Centre de ressources communautaires Orléans-Cumberland (240 boulevard Centrum unité 105 à Orléans) pour un groupe de jeu porte ouverte ! Conçu pour permettre aux enfants de 0 à 6 ans de vivre des expériences d’apprentissage par le jeu amusantes et stimulantes ! \nÀ NOTER : Nous sommes très heureuses de vous annoncer que les inscriptions pour les groupes de jeu ne seront plus nécessaires ! Nos groupes de jeu seront maintenant des portes ouvertes\, premier arrivé/premier servi. \nÀ partir de 9 h 30\, une intervenante auprès de la famille vous accueillera et vous distribuera un numéro pour participer au groupe de jeu. \nNous vous demandons de ne pas arriver avant 9 h 30. La même chose s’applique pour les groupes de jeu pour bébés qui débutent à 13 h 30\, car aucune salle d’attente n’est disponible. \nLorsque le groupe de jeu est complet\, une affiche sera mise dans la vitrine à la porte d’entrée. Nous publierons aussi un message sur notre page Facebook : https://www.facebook.com/earlyonorleans.
URL:https://events-evenements.crcoc.ca/event-evenement/groupe-de-jeu-francophone-au-centre-on-y-va-18/2022-10-03/
LOCATION:OCCRC | CRCOC\, 240 Centrum Blvd\, Orléans\, Orléans\, K1E 3J4\, Canada
CATEGORIES:Early ON-ON y va
ATTACH;FMTTYPE=image/jpeg:https://events-evenements.crcoc.ca/wp-content/uploads/2022/05/Francophone-Group-Pic.jpg
ORGANIZER;CN="EarlyON | ON y va":MAILTO:EarlyONyva@crcoc.ca
END:VEVENT
BEGIN:VEVENT
DTSTART;TZID=America/Toronto:20221003T133000
DTEND;TZID=America/Toronto:20221003T150000
DTSTAMP:20260422T220221
CREATED:20220927T130623Z
LAST-MODIFIED:20220927T130634Z
UID:14917-1664803800-1664809200@events-evenements.crcoc.ca
SUMMARY:Baby & Me playgroup at the EarlyON Centre! // Groupe de jeu Bébé & Moi au Centre ON y va!
DESCRIPTION:Let’s meet at the Orléans-Cumberland Community Resource Centre (240 Centrum boulevard unit 105) for a Drop-in playgroup! This program is geared towards babies from birth to 12 months old. With a small group of parents and babies\, you will have the opportunity to chat\, share parenting stories and socialize in a safe and friendly environment. \nPLEASE NOTE:  Online registration for playgroups will no longer be required! Our playgroups will now be Drop in’s\, first come / first served. \nStarting at 1:30 p.m.\, a Family Resource Worker will greet and give you a number to attend the playgroup. We ask that you arrive no earlier than 1:30 p.m. since we don’t have a waiting room available. \nWhen the playgroup is full\, we will have a sign on the window beside the front door. We will also post a message on our Facebook page: https://www.facebook.com/earlyonorleans. \n\nJoignez-vous à nous au Centre de ressources communautaires Orléans-Cumberland (240 boulevard Centrum unité 105) pour un groupe de jeu en personne! Ce groupe est conçu pour les bébés de la naissance à 12 mois. Avec un petit groupe de parents et bébés\, venez discuter et partager vos histoires avec d’autres parents ou socialiser dans un environnement amical et sécuritaire. \nÀ NOTER:  Les inscriptions pour les groupes de jeu ne seront plus nécessaires! Nos groupes de jeu seront maintenant des portes ouvertes\, premier arrivé / premier servi. \nÀ partir de 13 h 30\, une intervenante auprès de la famille vous accueillera et vous distribuera un numéro pour participer au groupe de jeu.  Nous vous demandons de ne pas arriver avant 13 h 30\, car aucune salle d’attente n’est disponible. \nLorsque le groupe de jeu est complet\, une affiche sera mise dans la vitrine à la porte d’entrée. Nous publierons aussi un message sur notre page Facebook : https://www.facebook.com/earlyonorleans.
URL:https://events-evenements.crcoc.ca/event-evenement/baby-me-playgroup-at-the-earlyon-centre-groupe-de-jeu-bebe-moi-au-centre-on-y-va-16/2022-10-03/
LOCATION:Ontario
CATEGORIES:Early ON-ON y va
ATTACH;FMTTYPE=image/jpeg:https://events-evenements.crcoc.ca/wp-content/uploads/2021/09/Baby-Me-Picture.jpg
ORGANIZER;CN="EarlyON | ON y va":MAILTO:EarlyONyva@crcoc.ca
END:VEVENT
BEGIN:VEVENT
DTSTART;TZID=America/Toronto:20221004T093000
DTEND;TZID=America/Toronto:20221004T113000
DTSTAMP:20260422T220221
CREATED:20220926T194451Z
LAST-MODIFIED:20220926T202043Z
UID:14836-1664875800-1664883000@events-evenements.crcoc.ca
SUMMARY:English playgroup at the EarlyON Centre!
DESCRIPTION:Let’s meet at the Orléans-Cumberland Community Resource Centre (240 Centrum boulevard unit 105) for a Drop-in playgroup! This program is geared towards children 0 to 6 years old. Children will enjoy play-based learning experiences that are fun and engaging. All participants will be asked to use the front door facing St-Joseph Boulevard to access the EarlyON Centre. \nPLEASE NOTE:  Online registration for playgroups will no longer be required! Our playgroups will now be Drop in’s\, first come / first served. \nStarting at 9:30 a.m.\, a Family Resource Worker will greet and give you a number to attend the playgroup. We ask that you arrive no earlier than 9:30 a.m. since we don’t have a waiting room available. \nWhen the playgroup is full\, we will have a sign on the window beside the front door. We will also post a message on our Facebook page: https://www.facebook.com/earlyonorleans.
URL:https://events-evenements.crcoc.ca/event-evenement/english-playgroup-at-the-earlyon-centre-20/2022-10-04/
LOCATION:Ontario
CATEGORIES:Early ON-ON y va
ATTACH;FMTTYPE=image/jpeg:https://events-evenements.crcoc.ca/wp-content/uploads/2022/05/Francophone-Group-Pic.jpg
ORGANIZER;CN="EarlyON | ON y va":MAILTO:EarlyONyva@crcoc.ca
END:VEVENT
BEGIN:VEVENT
DTSTART;TZID=America/Toronto:20221004T160000
DTEND;TZID=America/Toronto:20221004T180000
DTSTAMP:20260422T220221
CREATED:20220926T141336Z
LAST-MODIFIED:20220926T142000Z
UID:14796-1664899200-1664906400@events-evenements.crcoc.ca
SUMMARY:Kids Space - Grade 1 to 6 - In-person // Espace Enfants - 1re à 6e année - En personne
DESCRIPTION:IN-PERSON programming on Tuesdays from 4 p.m. – 6 p.m. in October.  A space to connect with other kids\, have fun\, learn some strategies and talk!  REGISTER online – (Registration opens every Mondays at 8:30 a.m. for the following week.) //\n\n\n\n\n\nEN PERSONNE les mardis de 16 h à 18 h en octobre.   Un espace pour se connecter avec d’autres enfants\, s’asumer\, apprendre des stratégies et parler!   INSCRIVEZ-VOUS en ligne – (L’inscription ouvre tous les lundies à 8h30 pour la semaine suivant.)\n\n\n\nENGLISH Description\n\n4: See it to Believe it\n11: Movie Night – You’re a Wizard Harry\n 18: The Sorting Hat – Harry Potter and the Personality Test\n\n25: Spooky Masks for Scary Feelings\n\n  \nDescription en FRANÇAIS \n\n4 : Voyez-le pour le croire\n11 : Soirée cinéma – Tu es un sorcier Harry\n 18 : Le chapeau de tri – Harry Potter et le test de personnalité\n 25 : Masques épeurants pour les gros émotions\n\n  \nIf you have complications registering online\, please contact Fanny.  // Si l’inscription en ligne vous pose problème\, contacter Fanny.
URL:https://events-evenements.crcoc.ca/event-evenement/kids-space-grade-1-to-6-in-person-espace-enfants-1re-a-6e-annee-en-personne-11/
LOCATION:Ontario
CATEGORIES:Children & Youth-Enfants et jeunes
ATTACH;FMTTYPE=image/jpeg:https://events-evenements.crcoc.ca/wp-content/uploads/2021/01/kids-space-espace-enfants.jpg
ORGANIZER;CN="Children & Youth | Enfants et jeunes":MAILTO:info@crcoc.ca
END:VEVENT
BEGIN:VEVENT
DTSTART;TZID=America/Toronto:20221007T093000
DTEND;TZID=America/Toronto:20221007T110000
DTSTAMP:20260422T220221
CREATED:20220926T200253Z
LAST-MODIFIED:20220926T200253Z
UID:14867-1665135000-1665140400@events-evenements.crcoc.ca
SUMMARY:Outdoor playgroup at the Queenswood Heights park!  //  Groupe de jeu au parc de Queenswood Heights!
DESCRIPTION:Let’s meet at the Queenswood Heights park\, 1485 Duford Drive\, to enjoy the outdoors together! Rain or Shine! Rain or Shine! \n  \nJoignez-vous à nous au parc de Queenswoods Heights au 1485 Duford Drive ! Venez profiter de la nature avec nous ! Beau temps\, mauvais temps !
URL:https://events-evenements.crcoc.ca/event-evenement/outdoor-playgroup-at-the-queenswood-heights-park-groupe-de-jeu-au-parc-de-queenswood-heights-2/2022-10-07/
LOCATION:Ontario
CATEGORIES:Early ON-ON y va
ATTACH;FMTTYPE=image/jpeg:https://events-evenements.crcoc.ca/wp-content/uploads/2022/04/Outdoor-Pic.jpg
ORGANIZER;CN="EarlyON | ON y va":MAILTO:EarlyONyva@crcoc.ca
END:VEVENT
BEGIN:VEVENT
DTSTART;TZID=America/Toronto:20221007T130000
DTEND;TZID=America/Toronto:20221007T150000
DTSTAMP:20260422T220221
CREATED:20220927T142542Z
LAST-MODIFIED:20220927T142542Z
UID:14972-1665147600-1665154800@events-evenements.crcoc.ca
SUMMARY:Inclusive Adult Social Group (ages 30+ | bilingual) // Group social inclusif pour adultes (âges 30 ans +| bilingue)
DESCRIPTION:*Conversations will be primarily in English  **Limited spots \n\nThe peer support group welcomes individuals ages 30+ needing a supportive space and companionship.\nFridays from 1 p.m. to 3 p.m. in person at the Centre \nRegistration is required\, as spots are limited\n\nFor more information and to register\, contact Christine at 613-830-4357\, ext. 309 or cleclair@crcoc.ca. \n\n*Les conversations se déroulent principalement en anglais **Places limitées \n\nNous accueillons les individus 30+ qui aimeraient un espace convivial et du soutien par leurs pairs.\nVendredis de 13 h à 15 h en personne au Centre\nPour plus d’informations et pour recevoir le lien Zoom\, contactez Christine au 613-830-4357\, poste 309 ou cleclair@crcoc.ca.
URL:https://events-evenements.crcoc.ca/event-evenement/inclusive-adult-social-group-ages-30-bilingual-group-social-inclusif-pour-adultes-ages-30-ans-bilingue/2022-10-07/
LOCATION:Ontario
CATEGORIES:Community Engagement-Engagement communautaire
ATTACH;FMTTYPE=image/png:https://events-evenements.crcoc.ca/wp-content/uploads/2022/09/Inclusive-Adult-Social-Group-BIL-1.png
END:VEVENT
BEGIN:VEVENT
DTSTART;TZID=America/Toronto:20221007T183000
DTEND;TZID=America/Toronto:20221007T203000
DTSTAMP:20260422T220221
CREATED:20220927T144906Z
LAST-MODIFIED:20220927T144906Z
UID:14987-1665167400-1665174600@events-evenements.crcoc.ca
SUMMARY:Indigenous Beading Sessions (all ages) English Only - FREE  //  Sessions de perlage autochtones (tous les âges) anglais seulement - gratuit
DESCRIPTION:Do you want to connect with your Indigenous roots?\nBeading is a great way to practice your ancestral art form. Beading heals. Beading teaches patience and perseverance. Beading is medicine.\nWeekly sessions are offered by Indigenous Roots Orleans/Ottawa East.\nBeginner to Advanced.\nFree supply kits are available for pick up in Orleans or use your own supplies.\nAdults\, youth and children (with parental assistance).\nFridays from 6:30 p.m. – 8:30 p.m.\nFor more information\, check the Events tab on Indigenous Roots Orleans/Ottawa East’s Facebook page or email: indigenousottawa@gmail.com.\n\n\n\nVoulez-vous vous connecter avec vos racines autochtones ?\nLe perlage est un excellent moyen de pratiquer votre forme d’art ancestrale. Le perlage guérit. Le perlage enseigne la patience et la persévérance. Le perlage est une médecine.\nSessions hebdomadaires offertes par Indigenous Roots Orleans/Ottawa East.\nDébutant à avancé.\nTrousses de fournitures gratuites et disponibles à ramasser à Orléans ou utiliser vos propres fournitures.\nAdultes\, adolescents et enfants (avec l’aide d’un parent).\nVendredis de 18 h 30 à 20 h 30\nPour information\, consultez l’onglet Événements sur la page Facebook de Indigenous Roots Orleans/Ottawa East ou envoyez un courriel à : indigenousottawa@gmail.com.
URL:https://events-evenements.crcoc.ca/event-evenement/indigenous-beading-sessions-all-ages-english-only-free-sessions-de-perlage-autochtones-tous-les-ages-anglais-seulement-gratuit/2022-10-07/
LOCATION:Ontario
CATEGORIES:Community Engagement-Engagement communautaire
ATTACH;FMTTYPE=image/jpeg:https://events-evenements.crcoc.ca/wp-content/uploads/2022/09/multicoloured-gc884aad47_1920.jpg
END:VEVENT
END:VCALENDAR