BEGIN:VCALENDAR
VERSION:2.0
PRODID:-//OCCRC Events | Évènements CRCOC - ECPv6.15.18//NONSGML v1.0//EN
CALSCALE:GREGORIAN
METHOD:PUBLISH
X-ORIGINAL-URL:https://events-evenements.crcoc.ca
X-WR-CALDESC:Events for OCCRC Events | Évènements CRCOC
REFRESH-INTERVAL;VALUE=DURATION:PT1H
X-Robots-Tag:noindex
X-PUBLISHED-TTL:PT1H
BEGIN:VTIMEZONE
TZID:America/Toronto
BEGIN:DAYLIGHT
TZOFFSETFROM:-0500
TZOFFSETTO:-0400
TZNAME:EDT
DTSTART:20210314T070000
END:DAYLIGHT
BEGIN:STANDARD
TZOFFSETFROM:-0400
TZOFFSETTO:-0500
TZNAME:EST
DTSTART:20211107T060000
END:STANDARD
BEGIN:DAYLIGHT
TZOFFSETFROM:-0500
TZOFFSETTO:-0400
TZNAME:EDT
DTSTART:20220313T070000
END:DAYLIGHT
BEGIN:STANDARD
TZOFFSETFROM:-0400
TZOFFSETTO:-0500
TZNAME:EST
DTSTART:20221106T060000
END:STANDARD
BEGIN:DAYLIGHT
TZOFFSETFROM:-0500
TZOFFSETTO:-0400
TZNAME:EDT
DTSTART:20230312T070000
END:DAYLIGHT
BEGIN:STANDARD
TZOFFSETFROM:-0400
TZOFFSETTO:-0500
TZNAME:EST
DTSTART:20231105T060000
END:STANDARD
END:VTIMEZONE
BEGIN:VEVENT
DTSTART;TZID=America/Toronto:20220920T100000
DTEND;TZID=America/Toronto:20220920T110000
DTSTAMP:20260422T195701
CREATED:20220825T085529Z
LAST-MODIFIED:20220825T085529Z
UID:14630-1663668000-1663671600@events-evenements.crcoc.ca
SUMMARY:Family Yoga at the park! //  Yoga en famille au parc!
DESCRIPTION:This activity will take place at the Queenswood Heights Park (1485 Duford Drive\, Orléans).   Come to Cardinal Creek park to do a little yoga and explore the Community Garden!  The yoga component is age appropriate for children 2 year and up.   The whole family is welcome!  Registration required for this special activity – Register online! //\n \nCette activité aura lieu au parc Queenswood Heights (1485 Prom. Duford\, Orléans).  Venez au Parc Cardinal Creek pour faire du yoga et explorer le jardin communautaire! Pour les enfants de 2 ans et plus\, mais toute la famille est bienvenue !  Inscription requise pour cette activité spéciale – Inscrivez-vous en ligne !
URL:https://events-evenements.crcoc.ca/event-evenement/family-yoga-at-the-park-yoga-en-famille-au-parc-3/
LOCATION:Ontario
CATEGORIES:Early ON-ON y va
ATTACH;FMTTYPE=image/jpeg:https://events-evenements.crcoc.ca/wp-content/uploads/2022/04/Yoga-Pic.jpg
ORGANIZER;CN="EarlyON | ON y va":MAILTO:EarlyONyva@crcoc.ca
END:VEVENT
BEGIN:VEVENT
DTSTART;TZID=America/Toronto:20220920T160000
DTEND;TZID=America/Toronto:20220920T180000
DTSTAMP:20260422T195701
CREATED:20220825T092023Z
LAST-MODIFIED:20220825T092257Z
UID:14641-1663689600-1663696800@events-evenements.crcoc.ca
SUMMARY:Kids Space - Grade 1 to 6 - In-person // Espace Enfants - 1re à 6e année - En personne
DESCRIPTION:IN-PERSON programming on Tuesdays from 4pm – 6pm in June.  A space to connect with other kids\, have fun\, learn some strategies and talk!  REGISTER online – (Registration opens every Mondays at 8:30am for the following week.) //\n\n\n\n\n\nEN PERSONNE les mardis de 16 H à 18 H en juin.   Un espace pour se connecter avec d’autres enfants\, s’asumer\, apprendre des stratégies et parler!   INSCRIVEZ-VOUS en ligne – (L’inscription ouvre tous les lundies à 8h30 pour la semaine suivant.)\n\n\n\nENGLISH Description\n\n6:   Back to School Celebration!\n13:  Think It\, Be It\n 20:  Fall Festival\n\n27:  Minute to Win it\n\n  \nDescription en FRANÇAIS \n\n6 :   Célébration de la rentrée des classes!\n13 :   Pensez-y\, soyez-y\n 20 :  Festival d’automne\n 27 :  Une minute pour gagner\n\n  \nIf you have complications registering online\, please contact Fanny.  // Si l’inscription en ligne vous pose problème\, contacter Fanny.
URL:https://events-evenements.crcoc.ca/event-evenement/kids-space-grade-1-to-6-in-person-espace-enfants-1re-a-6e-annee-en-personne-10-2022-09-20/
LOCATION:Ontario
CATEGORIES:Children & Youth-Enfants et jeunes
ATTACH;FMTTYPE=image/jpeg:https://events-evenements.crcoc.ca/wp-content/uploads/2021/01/kids-space-espace-enfants.jpg
ORGANIZER;CN="Children & Youth | Enfants et jeunes":MAILTO:info@crcoc.ca
END:VEVENT
BEGIN:VEVENT
DTSTART;TZID=America/Toronto:20220922T160000
DTEND;TZID=America/Toronto:20220922T190000
DTSTAMP:20260422T195701
CREATED:20220825T094115Z
LAST-MODIFIED:20220825T094401Z
UID:14653-1663862400-1663873200@events-evenements.crcoc.ca
SUMMARY:Youth Space - Grade 7 to 12 //  Espace Jeunesse - 7e à 12e année
DESCRIPTION:Weekly\, ongoing program – Bilingual – In person – Thursdays.  A space to connect with other youth\, have fun\, share experiences\, relate with others and talk about things important to you.  School started\, so let’s get back into the groove and routine all while having fun with some art\, games\, great chats and more! \nRegister online to join us (limited spots 12 people).   If you have any complication registering please email Tanya. \n\nSeptembre – 4 pm to 7 pm  //  Septembre– 16 H  à 19 H\n\n1  –  Groupe Cancelled  //  Groupe annulé\n\n8 –  2SLGBTQIA+ & allies / et alliés.es :  Hogwarts awaits us!; Dinner:  Spaghetti //  Poudlard nou attend !;  Souper :  spaghetti\n15  –  Everyone /Toustes :  We’re all in this together!; Dinner:  Quesadillas  // Nous sommes toustes là-dedans ensembre !;  Souper : quesadillas\n22  –  Girls / Filles :  Schoolin’ Life!; Dinner: Grilled sandwiches & soup  // La vie scolaire !; Souper :sandwichs au fromage grillé et soupe\n29  –  Everyone /Toustes :  Mistakes don’t define you!; Dinner:  Taco salad  // Les erreurs ne nhous définissent pas !; Souper : salade de tacos\n\n\n\nHebdomadaire\, programme continu – bilingue – En personne – les jeudis.  Un espace pour se connecter avec d’autres jeunes\, s’amuser\, partager des expériences et parler de choses importantes pour toi.  L’école a commencé\, alors retournons au groove et à la routine tout en nous amusant avec de l’art\, des jeux\, de bonnes discussions et plus encore ! \nInscrivez en ligne pour nous joindre (places limitées 12 personnes).  Si l’inscription en ligne vous pose problème\, envoyer un courriel à Tanya.
URL:https://events-evenements.crcoc.ca/event-evenement/youth-space-grade-7-to-12-espace-jeunesse-7e-a-12e-annee-9-2022-09-22/
LOCATION:Ontario
CATEGORIES:Children & Youth-Enfants et jeunes
ATTACH;FMTTYPE=image/jpeg:https://events-evenements.crcoc.ca/wp-content/uploads/2021/01/Youth-Space-espace-jeunesse.jpg
ORGANIZER;CN="Children & Youth | Enfants et jeunes":MAILTO:info@crcoc.ca
END:VEVENT
BEGIN:VEVENT
DTSTART;TZID=America/Toronto:20220923T103000
DTEND;TZID=America/Toronto:20220923T113000
DTSTAMP:20260422T195701
CREATED:20220825T085104Z
LAST-MODIFIED:20220923T130812Z
UID:14626-1663929000-1663932600@events-evenements.crcoc.ca
SUMMARY:Introduction to solid foods //   Introduction aux aliments solides
DESCRIPTION:This activity is geared for parents and babies under the age of 6 months. Together we will have an open discussion about introducing solid foods to your baby. We will explore: signs that indicate your baby is ready\, how to start solids\, homemade baby food\, Baby-Led weaning\, allergies and more. We will make homemade baby food together and compare it with store bought baby food. Workshop being held at 240 Centrum Blvd.\, Unit 105\, Orléans. Registration required for this special activity – Register online! //\n \n  \nCette activité est conçue pour les parents et bébés âgés de 6 ans et moins. Ensemble nous aurons une discussion ouverte à propos de l’introduction aux aliments solides pour votre bébé. Nous allons explorer ensemble : les signes que votre bébé est prêt\, comment débuter les aliments solides\, les purées maisons\, l’alimentation autonome (Baby-Led weaning)\, les allergies et autre. Nous allons faire de la purée maison afin de la comparer à la purée commerciale.  L’activité est à notre local au 240\, boul. Centrum\, Unité 105\, Orléans.  Inscription requise pour cette activité spéciale – Inscrivez-vous en ligne!
URL:https://events-evenements.crcoc.ca/event-evenement/introduction-to-solid-foods-introduction-aux-aliments-solides/
LOCATION:Ontario
CATEGORIES:Early ON-ON y va
ATTACH;FMTTYPE=image/jpeg:https://events-evenements.crcoc.ca/wp-content/uploads/2022/08/Introduce-Solid-Food.jpg
ORGANIZER;CN="EarlyON | ON y va":MAILTO:EarlyONyva@crcoc.ca
END:VEVENT
END:VCALENDAR