BEGIN:VCALENDAR
VERSION:2.0
PRODID:-//OCCRC Events | Évènements CRCOC - ECPv6.15.18//NONSGML v1.0//EN
CALSCALE:GREGORIAN
METHOD:PUBLISH
X-ORIGINAL-URL:https://events-evenements.crcoc.ca
X-WR-CALDESC:Events for OCCRC Events | Évènements CRCOC
REFRESH-INTERVAL;VALUE=DURATION:PT1H
X-Robots-Tag:noindex
X-PUBLISHED-TTL:PT1H
BEGIN:VTIMEZONE
TZID:America/Toronto
BEGIN:DAYLIGHT
TZOFFSETFROM:-0500
TZOFFSETTO:-0400
TZNAME:EDT
DTSTART:20210314T070000
END:DAYLIGHT
BEGIN:STANDARD
TZOFFSETFROM:-0400
TZOFFSETTO:-0500
TZNAME:EST
DTSTART:20211107T060000
END:STANDARD
BEGIN:DAYLIGHT
TZOFFSETFROM:-0500
TZOFFSETTO:-0400
TZNAME:EDT
DTSTART:20220313T070000
END:DAYLIGHT
BEGIN:STANDARD
TZOFFSETFROM:-0400
TZOFFSETTO:-0500
TZNAME:EST
DTSTART:20221106T060000
END:STANDARD
BEGIN:DAYLIGHT
TZOFFSETFROM:-0500
TZOFFSETTO:-0400
TZNAME:EDT
DTSTART:20230312T070000
END:DAYLIGHT
BEGIN:STANDARD
TZOFFSETFROM:-0400
TZOFFSETTO:-0500
TZNAME:EST
DTSTART:20231105T060000
END:STANDARD
END:VTIMEZONE
BEGIN:VEVENT
DTSTART;TZID=America/Toronto:20220912T093000
DTEND;TZID=America/Toronto:20220912T113000
DTSTAMP:20260422T195659
CREATED:20220825T080945Z
LAST-MODIFIED:20220825T080945Z
UID:14566-1662975000-1662982200@events-evenements.crcoc.ca
SUMMARY:Groupe de jeu francophone au Centre ON y va!
DESCRIPTION:Joignez-vous à nous au Centre de ressources communautaires Orléans-Cumberland (240 boulevard Centrum unité 105 à Orléans) pour un groupe de jeu en personne! \nConçu pour permettre aux enfants de 0 à 6 ans de vivre des expériences d’apprentissage par le jeu amusantes et stimulantes! \n  \nA NOTER:  Nous sommes très heureuses de vous annoncer qu’à partir du mois de mai\, les inscriptions pour les groupes de jeu ne seront plus nécessaires! Nos groupes de jeu seront maintenant des portes ouvertes\, premier arrivé / premier servi. \nÀ partir de 9h30\, Une intervenante auprès de la famille vous accueillera et vous distribuera un numéro pour participer au groupe de jeu. \nNous vous demandons de ne pas arriver avant 9h30. La même chose s’applique pour les groupes de jeu pour bébés qui débutent à 13h30 car aucune salle d’attente n’est disponible. \nLorsque le groupe de jeu est complet\, une affiche sera mise dans la vitrine à la porte d’entrée. Nous publierons aussi un message sur notre page Facebook : https://www.facebook.com/earlyonorleans
URL:https://events-evenements.crcoc.ca/event-evenement/groupe-de-jeu-francophone-au-centre-on-y-va-16/2022-09-12/
LOCATION:Ontario
CATEGORIES:Early ON-ON y va
ATTACH;FMTTYPE=image/jpeg:https://events-evenements.crcoc.ca/wp-content/uploads/2022/05/Francophone-Group-Pic.jpg
ORGANIZER;CN="EarlyON | ON y va":MAILTO:EarlyONyva@crcoc.ca
END:VEVENT
BEGIN:VEVENT
DTSTART;TZID=America/Toronto:20220912T133000
DTEND;TZID=America/Toronto:20220912T150000
DTSTAMP:20260422T195659
CREATED:20220825T081212Z
LAST-MODIFIED:20220825T081212Z
UID:14570-1662989400-1662994800@events-evenements.crcoc.ca
SUMMARY:Baby & Me playgroup at the EarlyON Centre! // Groupe de jeu Bébé & Moi au Centre ON y va!
DESCRIPTION:Let’s meet at the Orléans-Cumberland Community Resource Centre (240 Centrum boulevard unit 105) for an in person playgroup! This program is geared towards babies from birth to 12 months old. With a small group of parents and babies\, you will have the opportunity to chat\, share parenting stories and socialize in a safe and friendly environment.  // Joignez-vous à nous au Centre de ressources communautaires Orléans-Cumberland (240 boulevard Centrum unité 105) pour un groupe de jeu en personne! Ce groupe est conçu pour les bébés de la naissance à 12 mois. Avec un petit groupe de parents et bébés\, venez discuter et partager vos histoires avec d’autres parents ou socialiser dans un environnement amicale et sécuritaire. \n  \nPLEASE NOTE:  Online registration for playgroups will no longer be required! Our playgroups will now be Drop in’s\, first come / first served. \nStarting at 1:30pm\, a Family Resource Worker will greet and give you a number to attend the playgroup.  We ask that you arrive no earlier then 1:30pm since we don’t have a waiting room available. \nWhen the playgroup is full\, we will have a sign on the window beside the front door. We will also post a message on our Facebook page: https://www.facebook.com/earlyonorleans  // \n  \nA NOTER:  Les inscriptions pour les groupes de jeu ne seront plus nécessaires! Nos groupes de jeu seront maintenant des portes ouvertes\, premier arrivé / premier servi. \nÀ partir de 13 H 30\, Une intervenante auprès de la famille vous accueillera et vous distribuera un numéro pour participer au groupe de jeu.  Nous vous demandons de ne pas arriver avant 13 H 30 car aucune salle d’attente n’est disponible. \nLorsque le groupe de jeu est complet\, une affiche sera mise dans la vitrine à la porte d’entrée. Nous publierons aussi un message sur notre page Facebook : https://www.facebook.com/earlyonorleans
URL:https://events-evenements.crcoc.ca/event-evenement/baby-me-playgroup-at-the-earlyon-centre-groupe-de-jeu-bebe-moi-au-centre-on-y-va-15/2022-09-12/
LOCATION:Ontario
CATEGORIES:Early ON-ON y va
ATTACH;FMTTYPE=image/jpeg:https://events-evenements.crcoc.ca/wp-content/uploads/2021/09/Baby-Me-Picture.jpg
ORGANIZER;CN="EarlyON | ON y va":MAILTO:EarlyONyva@crcoc.ca
END:VEVENT
BEGIN:VEVENT
DTSTART;TZID=America/Toronto:20220913T100000
DTEND;TZID=America/Toronto:20220913T113000
DTSTAMP:20260422T195659
CREATED:20220825T090148Z
LAST-MODIFIED:20220825T090148Z
UID:14633-1663063200-1663068600@events-evenements.crcoc.ca
SUMMARY:Walk and Snack at Petrie Island  //  Promenade et collation à L’Île Petrie
DESCRIPTION:This activity will take place at Petrie’s Island (795 Trim Road).  Join us for a walk in the nature followed by snack time together.   Don’t forget to bring your snack and blanket. Please note that this activity will take place rain or shine.  **Meeting place: At the entrance of the turtle trail**  —   Registration required for this special activity – Register online! //\n \n  \nCette activité aura lieu à l’île Petrie (795 Trim Road).  Joignez-vous à nous pour une promenade en nature suivi d’un temps de collation ensemble.  N’oubliez pas d’apporter votre collation et votre couverture. Veuillez noter que l’activité aura lieu même s’il pleut.   **Point de rencontre : À l’entrée du sentier des tortues**  —  Inscription requise pour cette activité spéciale – Inscrivez-vous en ligne !\n \n  \n 
URL:https://events-evenements.crcoc.ca/event-evenement/walk-and-snack-at-petrie-island-promenade-et-collation-a-lile-petrie-3/
LOCATION:Ontario
CATEGORIES:Early ON-ON y va
ATTACH;FMTTYPE=image/jpeg:https://events-evenements.crcoc.ca/wp-content/uploads/2022/08/Walk-and-Snack-at-Petrie-Island.jpg
ORGANIZER;CN="EarlyON | ON y va":MAILTO:EarlyONyva@crcoc.ca
END:VEVENT
BEGIN:VEVENT
DTSTART;TZID=America/Toronto:20220913T160000
DTEND;TZID=America/Toronto:20220913T180000
DTSTAMP:20260422T195659
CREATED:20220825T092023Z
LAST-MODIFIED:20220825T092351Z
UID:14640-1663084800-1663092000@events-evenements.crcoc.ca
SUMMARY:Kids Space - Grade 1 to 6 - In-person // Espace Enfants - 1re à 6e année - En personne
DESCRIPTION:IN-PERSON programming on Tuesdays from 4pm – 6pm in June.  A space to connect with other kids\, have fun\, learn some strategies and talk!  REGISTER online – (Registration opens every Mondays at 8:30am for the following week.) //\n\n\n\n\n\nEN PERSONNE les mardis de 16 H à 18 H en juin.   Un espace pour se connecter avec d’autres enfants\, s’asumer\, apprendre des stratégies et parler!   INSCRIVEZ-VOUS en ligne – (L’inscription ouvre tous les lundies à 8h30 pour la semaine suivant.)\n\n\n\nENGLISH Description\n\n6:   Back to School Celebration!\n13:  Think It\, Be It\n 20:  Fall Festival\n\n27:  Minute to Win it\n\n  \nDescription en FRANÇAIS \n\n6 :   Célébration de la rentrée des classes!\n13 :   Pensez-y\, soyez-y\n 20 :  Festival d’automne\n 27 :  Une minute pour gagner\n\n  \nIf you have complications registering online\, please contact Fanny.  // Si l’inscription en ligne vous pose problème\, contacter Fanny.
URL:https://events-evenements.crcoc.ca/event-evenement/kids-space-grade-1-to-6-in-person-espace-enfants-1re-a-6e-annee-en-personne-10-2022-09-13/
LOCATION:Ontario
CATEGORIES:Children & Youth-Enfants et jeunes
ATTACH;FMTTYPE=image/jpeg:https://events-evenements.crcoc.ca/wp-content/uploads/2021/01/kids-space-espace-enfants.jpg
ORGANIZER;CN="Children & Youth | Enfants et jeunes":MAILTO:info@crcoc.ca
END:VEVENT
BEGIN:VEVENT
DTSTART;TZID=America/Toronto:20220915T160000
DTEND;TZID=America/Toronto:20220915T190000
DTSTAMP:20260422T195659
CREATED:20220825T094115Z
LAST-MODIFIED:20220825T094453Z
UID:14652-1663257600-1663268400@events-evenements.crcoc.ca
SUMMARY:Youth Space - Grade 7 to 12 //  Espace Jeunesse - 7e à 12e année
DESCRIPTION:Weekly\, ongoing program – Bilingual – In person – Thursdays.  A space to connect with other youth\, have fun\, share experiences\, relate with others and talk about things important to you.  School started\, so let’s get back into the groove and routine all while having fun with some art\, games\, great chats and more! \nRegister online to join us (limited spots 12 people).   If you have any complication registering please email Tanya. \n\nSeptembre – 4 pm to 7 pm  //  Septembre– 16 H  à 19 H\n\n1  –  Groupe Cancelled  //  Groupe annulé\n\n8 –  2SLGBTQIA+ & allies / et alliés.es :  Hogwarts awaits us!; Dinner:  Spaghetti //  Poudlard nou attend !;  Souper :  spaghetti\n15  –  Everyone /Toustes :  We’re all in this together!; Dinner:  Quesadillas  // Nous sommes toustes là-dedans ensembre !;  Souper : quesadillas\n22  –  Girls / Filles :  Schoolin’ Life!; Dinner: Grilled sandwiches & soup  // La vie scolaire !; Souper :sandwichs au fromage grillé et soupe\n29  –  Everyone /Toustes :  Mistakes don’t define you!; Dinner:  Taco salad  // Les erreurs ne nhous définissent pas !; Souper : salade de tacos\n\n\n\nHebdomadaire\, programme continu – bilingue – En personne – les jeudis.  Un espace pour se connecter avec d’autres jeunes\, s’amuser\, partager des expériences et parler de choses importantes pour toi.  L’école a commencé\, alors retournons au groove et à la routine tout en nous amusant avec de l’art\, des jeux\, de bonnes discussions et plus encore ! \nInscrivez en ligne pour nous joindre (places limitées 12 personnes).  Si l’inscription en ligne vous pose problème\, envoyer un courriel à Tanya.
URL:https://events-evenements.crcoc.ca/event-evenement/youth-space-grade-7-to-12-espace-jeunesse-7e-a-12e-annee-9-2022-09-15/
LOCATION:Ontario
CATEGORIES:Children & Youth-Enfants et jeunes
ATTACH;FMTTYPE=image/jpeg:https://events-evenements.crcoc.ca/wp-content/uploads/2021/01/Youth-Space-espace-jeunesse.jpg
ORGANIZER;CN="Children & Youth | Enfants et jeunes":MAILTO:info@crcoc.ca
END:VEVENT
END:VCALENDAR