BEGIN:VCALENDAR
VERSION:2.0
PRODID:-//OCCRC Events | Évènements CRCOC - ECPv6.15.18//NONSGML v1.0//EN
CALSCALE:GREGORIAN
METHOD:PUBLISH
X-WR-CALNAME:OCCRC Events | Évènements CRCOC
X-ORIGINAL-URL:https://events-evenements.crcoc.ca
X-WR-CALDESC:Events for OCCRC Events | Évènements CRCOC
REFRESH-INTERVAL;VALUE=DURATION:PT1H
X-Robots-Tag:noindex
X-PUBLISHED-TTL:PT1H
BEGIN:VTIMEZONE
TZID:America/Toronto
BEGIN:DAYLIGHT
TZOFFSETFROM:-0500
TZOFFSETTO:-0400
TZNAME:EDT
DTSTART:20210314T070000
END:DAYLIGHT
BEGIN:STANDARD
TZOFFSETFROM:-0400
TZOFFSETTO:-0500
TZNAME:EST
DTSTART:20211107T060000
END:STANDARD
BEGIN:DAYLIGHT
TZOFFSETFROM:-0500
TZOFFSETTO:-0400
TZNAME:EDT
DTSTART:20220313T070000
END:DAYLIGHT
BEGIN:STANDARD
TZOFFSETFROM:-0400
TZOFFSETTO:-0500
TZNAME:EST
DTSTART:20221106T060000
END:STANDARD
BEGIN:DAYLIGHT
TZOFFSETFROM:-0500
TZOFFSETTO:-0400
TZNAME:EDT
DTSTART:20230312T070000
END:DAYLIGHT
BEGIN:STANDARD
TZOFFSETFROM:-0400
TZOFFSETTO:-0500
TZNAME:EST
DTSTART:20231105T060000
END:STANDARD
END:VTIMEZONE
BEGIN:VEVENT
DTSTART;TZID=America/Toronto:20220828T120000
DTEND;TZID=America/Toronto:20220828T150000
DTSTAMP:20260423T082405
CREATED:20220729T032649Z
LAST-MODIFIED:20220801T124533Z
UID:14230-1661688000-1661698800@events-evenements.crcoc.ca
SUMMARY:Youth - Summer Outing - Grade 7 to 12 // Sortie d'été pour les ados - 7e à 12e année
DESCRIPTION:Youth Summer Outing – Bilingual  —  SUNDAY August 28th – 12 pm to 3 pm  \nRegister online to join us (limited spots – Max. 15).  Registration will open the Monday of the week prior to the outing at 8:30 am and close that Friday at 4 pm.   If you have any complication registering please email Tanya. \nFor all outings\, parent/legal guardian consent is required for participants under 18 yrs.  Participants 18 yrs can consent for themselves. \nTransportation to and from the location is the responsibility of the parent/legal guardian.  Bus tickets can be provided upon request. \n  \n\nPride Parade // Défilé fierté  (420\, rue Cooper Street\, Ottawa)\n\n\nSortie d’été pour Ados – Bilingue — dimanche 28 août – 12 H à 15 H \nInscrivez en ligne pour nous joindre (places limitées – Max 15).  Les inscriptions ouvriront le lundi de la semaine précédente à 8 H 30 et fermeront le vendredi qui suit à 16 H.   Si l’inscription en ligne vous pose problème\, envoyer un courriel à Tanya. \nPour toutes les sorties\, le consentement d’un parent/tuteur.rice légal.e est requis pour les participants.es de moins de 18 ans.  Les participants.es de 18 ans peuvent consentir pour eux-même. \nLe transport pour vous rendre à la destination et le retour à la maison est la responsabilité du parent/tuteur.rice légal.e.  Les billets d’autobus peuvent être fournis sur dema
URL:https://events-evenements.crcoc.ca/event-evenement/youth-summer-outing-grade-7-to-12-sortie-dete-pour-les-ados-7e-a-12e-annee-4/
LOCATION:Ontario
CATEGORIES:Children & Youth-Enfants et jeunes
ATTACH;FMTTYPE=image/png:https://events-evenements.crcoc.ca/wp-content/uploads/2022/07/Youth-Outings-August-En-2022.png
ORGANIZER;CN="Children & Youth | Enfants et jeunes":MAILTO:info@crcoc.ca
END:VEVENT
BEGIN:VEVENT
DTSTART;TZID=America/Toronto:20220829T093000
DTEND;TZID=America/Toronto:20220829T110000
DTSTAMP:20260423T082405
CREATED:20220729T040842Z
LAST-MODIFIED:20220729T040905Z
UID:14260-1661765400-1661770800@events-evenements.crcoc.ca
SUMMARY:Groupe de jeu francophone au Centre ON y va!
DESCRIPTION:Joignez-vous à nous au Centre de ressources communautaires Orléans-Cumberland (240 boulevard Centrum unité 105 à Orléans) pour un groupe de jeu en personne! \nConçu pour permettre aux enfants de 0 à 6 ans de vivre des expériences d’apprentissage par le jeu amusantes et stimulantes! \n  \nA NOTER:  Nous sommes très heureuses de vous annoncer qu’à partir du mois de mai\, les inscriptions pour les groupes de jeu ne seront plus nécessaires! Nos groupes de jeu seront maintenant des portes ouvertes\, premier arrivé / premier servi. \nÀ partir de 9h30\, Une intervenante auprès de la famille vous accueillera et vous distribuera un numéro pour participer au groupe de jeu. \nNous vous demandons de ne pas arriver avant 9h30. La même chose s’applique pour les groupes de jeu pour bébés qui débutent à 13h30 car aucune salle d’attente n’est disponible. \nLorsque le groupe de jeu est complet\, une affiche sera mise dans la vitrine à la porte d’entrée. Nous publierons aussi un message sur notre page Facebook : https://www.facebook.com/earlyonorleans
URL:https://events-evenements.crcoc.ca/event-evenement/groupe-de-jeu-francophone-au-centre-on-y-va-15-2022-08-29/
LOCATION:Ontario
CATEGORIES:Early ON-ON y va
ATTACH;FMTTYPE=image/jpeg:https://events-evenements.crcoc.ca/wp-content/uploads/2022/05/Francophone-Group-Pic.jpg
ORGANIZER;CN="EarlyON | ON y va":MAILTO:EarlyONyva@crcoc.ca
END:VEVENT
BEGIN:VEVENT
DTSTART;TZID=America/Toronto:20220831T110000
DTEND;TZID=America/Toronto:20220831T113000
DTSTAMP:20260423T082405
CREATED:20220729T041548Z
LAST-MODIFIED:20220729T041706Z
UID:14280-1661943600-1661945400@events-evenements.crcoc.ca
SUMMARY:Virtual interactive circle time! // Temps de cercle virtuel interactif!
DESCRIPTION:Come sing\, play and have fun during our virtual circle time! The songs\, rhymes and story time will be enjoyable for all children! // \n  \nVenez chanter\, jouer et vous amusez avec nous durant nos temps de cercle virtuel! Les chansons\, comptines et histoires plairont aux plus petits comme aux plus grands!
URL:https://events-evenements.crcoc.ca/event-evenement/virtual-interactive-circle-time-temps-de-cercle-virtuel-interactif-10-2022-08-31/
LOCATION:Ontario
CATEGORIES:Early ON-ON y va
ATTACH;FMTTYPE=image/jpeg:https://events-evenements.crcoc.ca/wp-content/uploads/2022/05/Circle-time-Pic.jpg
ORGANIZER;CN="EarlyON | ON y va":MAILTO:EarlyONyva@crcoc.ca
END:VEVENT
BEGIN:VEVENT
DTSTART;TZID=America/Toronto:20220901T093000
DTEND;TZID=America/Toronto:20220901T113000
DTSTAMP:20260423T082405
CREATED:20220825T082433Z
LAST-MODIFIED:20220825T082433Z
UID:14589-1662024600-1662031800@events-evenements.crcoc.ca
SUMMARY:English playgroup at the EarlyON Centre!
DESCRIPTION:Let’s meet at the Orléans-Cumberland Community Resource Centre (240 Centrum boulevard unit 105) for an in person playgroup! This program is geared towards children 0 to 6 years old. Children will enjoy play based learning experiences that are fun and engaging.  All participants will be ask to use the front door facing St-Joseph Boulevard to acces the EarlyON Centre. \n  \nPLEASE NOTE:  Online registration for playgroups will no longer be required! Our playgroups will now be Drop in’s\, first come / first served. \nStarting at 9:30a.m.\, a Family Resource Worker will greet and give you a number to attend the playgroup.  We ask that you arrive no earlier then 9:30 a.m.  since we don’t have a waiting room available. \nWhen the playgroup is full\, we will have a sign on the window beside the front door. We will also post a message on our Facebook page: https://www.facebook.com/earlyonorleans
URL:https://events-evenements.crcoc.ca/event-evenement/english-playgroup-at-the-earlyon-centre-19/2022-09-01/
LOCATION:Ontario
CATEGORIES:Early ON-ON y va
ATTACH;FMTTYPE=image/jpeg:https://events-evenements.crcoc.ca/wp-content/uploads/2022/05/Francophone-Group-Pic.jpg
ORGANIZER;CN="EarlyON | ON y va":MAILTO:EarlyONyva@crcoc.ca
END:VEVENT
BEGIN:VEVENT
DTSTART;TZID=America/Toronto:20220901T093000
DTEND;TZID=America/Toronto:20220901T113000
DTSTAMP:20260423T082405
CREATED:20220825T082648Z
LAST-MODIFIED:20220825T082648Z
UID:14595-1662024600-1662031800@events-evenements.crcoc.ca
SUMMARY:Outdoor Playgroup at the Cumberland Park!  //  Groupe de jeu au parc de Cumberland!
DESCRIPTION:Let’s meet at the R.J Kennedy Arena \, 1115 Dunning Road\, to enjoy the outdoors together! Rain or Shine!  Group cancelled +30c with humidex. //\n \n  \nJoignez-vous à nous au parc de Cumberland à l’Arena R.J Kennedy\, au 1115 ch. Dunning. Venez profiter de la nature avec nous!  Beau temps\, mauvais temps!   Groupe annulé +30c avec humidex.
URL:https://events-evenements.crcoc.ca/event-evenement/outdoor-playgroup-at-the-cumberland-park-groupe-de-jeu-au-parc-de-cumberland-6/2022-09-01/
LOCATION:Ontario
CATEGORIES:Early ON-ON y va
ATTACH;FMTTYPE=image/jpeg:https://events-evenements.crcoc.ca/wp-content/uploads/2022/04/Outdoor-Pic.jpg
ORGANIZER;CN="EarlyON | ON y va":MAILTO:EarlyONyva@crcoc.ca
END:VEVENT
BEGIN:VEVENT
DTSTART;TZID=America/Toronto:20220901T130000
DTEND;TZID=America/Toronto:20220901T150000
DTSTAMP:20260423T082405
CREATED:20220825T083205Z
LAST-MODIFIED:20220825T083226Z
UID:14601-1662037200-1662044400@events-evenements.crcoc.ca
SUMMARY:Baby weigh-in //  Prise de poids pour bébés
DESCRIPTION:Parents can weigh their baby (self-serve) on Thursdays from 1-3pm by appointment only. To book an appointment call the 613-830-4357 and ask to speak with the EarlyON team\, or email us at earlyonyva@crcoc.ca \nPlease note: This is not a medical appointment and a health care provider will not be present to assess the baby’s weight. However\, an EarlyON staff will be present to assist you with the scale. //\n \n  \nLes parents peuvent peser leur bébé (libre-service) les jeudis de 13 à 15h sur rendez-vous seulement. Pour prendre rendez-vous appeler le 613-830-4357 et demander à parler à un membre de l’équipe ON y va\, ou par courriel au earlyonyva@crcoc.ca \nPrendre note que ceci n’est pas un rendez-vous médical et qu’aucun professionnel de la santé ne sera présent pour évaluer la prise de poids du bébé. Cependant\, un membre de l’équipe ON y va sera disponible pour vous aider avec la balance.
URL:https://events-evenements.crcoc.ca/event-evenement/baby-weigh-in-prise-de-poids-pour-bebes-13/2022-09-01/
LOCATION:Ontario
CATEGORIES:Early ON-ON y va
ATTACH;FMTTYPE=image/jpeg:https://events-evenements.crcoc.ca/wp-content/uploads/2021/07/Baby-Weigh-in-pict.jpg
ORGANIZER;CN="EarlyON | ON y va":MAILTO:EarlyONyva@crcoc.ca
END:VEVENT
BEGIN:VEVENT
DTSTART;TZID=America/Toronto:20220901T130000
DTEND;TZID=America/Toronto:20220901T150000
DTSTAMP:20260423T082405
CREATED:20220825T083423Z
LAST-MODIFIED:20220825T083423Z
UID:14611-1662037200-1662044400@events-evenements.crcoc.ca
SUMMARY:Parenting in Ottawa Drop-Ins  //  Carrefours «Être parent à Ottawa»
DESCRIPTION:Speak\, in person\, with a Public Health Nurse about parenting. No appointment necessary\, simply drop-in during the clinic’s hours. \n\nGet support for infant feeding\nLearn ways to help your child eat healthy and be active\nMake sure your child is on track with their growth and development\nAsk about your child’s social and emotional development\n\nThe program is available to: \n\nExpectant parents\, parents and guardians of children aged birth to 6 years of age\n\nThursdays from 1pm to 3pm – 240 Centrum Blvd\, Orléans\, ON K1E 3J4  //
URL:https://events-evenements.crcoc.ca/event-evenement/parenting-in-ottawa-drop-ins-carrefours-etre-parent-a-ottawa-3/2022-09-01/
LOCATION:Ontario
CATEGORIES:Early ON-ON y va
ATTACH;FMTTYPE=image/png:https://events-evenements.crcoc.ca/wp-content/uploads/2022/06/parenting-on-ottawa-pic.png
ORGANIZER;CN="EarlyON | ON y va":MAILTO:EarlyONyva@crcoc.ca
END:VEVENT
BEGIN:VEVENT
DTSTART;TZID=America/Toronto:20220902T093000
DTEND;TZID=America/Toronto:20220902T110000
DTSTAMP:20260423T082405
CREATED:20220825T083752Z
LAST-MODIFIED:20220825T083752Z
UID:14617-1662111000-1662116400@events-evenements.crcoc.ca
SUMMARY:Outdoor playgroup at the Queenswood Heights park!  //  Groupe de jeu au parc de Queenswood Heights!
DESCRIPTION:Let’s meet at the Queenswood Heights park\, 1485 Duford Drive\, to enjoy the outdoors together! Rain or Shine!  Rain or Shine!  Group cancelled +30c with humidex.// \n  \nJoignez-vous à nous au parc de Queenswoods Heights au 1485 Duford Drive! Venez profiter de la nature avec nous!  Beau temps\, mauvais temps!   Groupe annulé +30c avec humidex.
URL:https://events-evenements.crcoc.ca/event-evenement/outdoor-playgroup-at-the-queenswood-heights-park-groupe-de-jeu-au-parc-de-queenswood-heights/2022-09-02/
LOCATION:Ontario
CATEGORIES:Early ON-ON y va
ATTACH;FMTTYPE=image/jpeg:https://events-evenements.crcoc.ca/wp-content/uploads/2022/04/Outdoor-Pic.jpg
ORGANIZER;CN="EarlyON | ON y va":MAILTO:EarlyONyva@crcoc.ca
END:VEVENT
END:VCALENDAR