BEGIN:VCALENDAR
VERSION:2.0
PRODID:-//OCCRC Events | Évènements CRCOC - ECPv6.15.18//NONSGML v1.0//EN
CALSCALE:GREGORIAN
METHOD:PUBLISH
X-ORIGINAL-URL:https://events-evenements.crcoc.ca
X-WR-CALDESC:Events for OCCRC Events | Évènements CRCOC
REFRESH-INTERVAL;VALUE=DURATION:PT1H
X-Robots-Tag:noindex
X-PUBLISHED-TTL:PT1H
BEGIN:VTIMEZONE
TZID:America/Toronto
BEGIN:DAYLIGHT
TZOFFSETFROM:-0500
TZOFFSETTO:-0400
TZNAME:EDT
DTSTART:20210314T070000
END:DAYLIGHT
BEGIN:STANDARD
TZOFFSETFROM:-0400
TZOFFSETTO:-0500
TZNAME:EST
DTSTART:20211107T060000
END:STANDARD
BEGIN:DAYLIGHT
TZOFFSETFROM:-0500
TZOFFSETTO:-0400
TZNAME:EDT
DTSTART:20220313T070000
END:DAYLIGHT
BEGIN:STANDARD
TZOFFSETFROM:-0400
TZOFFSETTO:-0500
TZNAME:EST
DTSTART:20221106T060000
END:STANDARD
BEGIN:DAYLIGHT
TZOFFSETFROM:-0500
TZOFFSETTO:-0400
TZNAME:EDT
DTSTART:20230312T070000
END:DAYLIGHT
BEGIN:STANDARD
TZOFFSETFROM:-0400
TZOFFSETTO:-0500
TZNAME:EST
DTSTART:20231105T060000
END:STANDARD
END:VTIMEZONE
BEGIN:VEVENT
DTSTART;TZID=America/Toronto:20220808T093000
DTEND;TZID=America/Toronto:20220808T110000
DTSTAMP:20260422T232921
CREATED:20220729T040842Z
LAST-MODIFIED:20220729T040842Z
UID:14256-1659951000-1659956400@events-evenements.crcoc.ca
SUMMARY:Groupe de jeu francophone au Centre ON y va!
DESCRIPTION:Joignez-vous à nous au Centre de ressources communautaires Orléans-Cumberland (240 boulevard Centrum unité 105 à Orléans) pour un groupe de jeu en personne! \nConçu pour permettre aux enfants de 0 à 6 ans de vivre des expériences d’apprentissage par le jeu amusantes et stimulantes! \n  \nA NOTER:  Nous sommes très heureuses de vous annoncer qu’à partir du mois de mai\, les inscriptions pour les groupes de jeu ne seront plus nécessaires! Nos groupes de jeu seront maintenant des portes ouvertes\, premier arrivé / premier servi. \nÀ partir de 9h30\, Une intervenante auprès de la famille vous accueillera et vous distribuera un numéro pour participer au groupe de jeu. \nNous vous demandons de ne pas arriver avant 9h30. La même chose s’applique pour les groupes de jeu pour bébés qui débutent à 13h30 car aucune salle d’attente n’est disponible. \nLorsque le groupe de jeu est complet\, une affiche sera mise dans la vitrine à la porte d’entrée. Nous publierons aussi un message sur notre page Facebook : https://www.facebook.com/earlyonorleans
URL:https://events-evenements.crcoc.ca/event-evenement/groupe-de-jeu-francophone-au-centre-on-y-va-15/2022-08-08/
LOCATION:Ontario
CATEGORIES:Early ON-ON y va
ATTACH;FMTTYPE=image/jpeg:https://events-evenements.crcoc.ca/wp-content/uploads/2022/05/Francophone-Group-Pic.jpg
ORGANIZER;CN="EarlyON | ON y va":MAILTO:EarlyONyva@crcoc.ca
END:VEVENT
BEGIN:VEVENT
DTSTART;TZID=America/Toronto:20220808T133000
DTEND;TZID=America/Toronto:20220808T150000
DTSTAMP:20260422T232921
CREATED:20220729T041144Z
LAST-MODIFIED:20220729T041144Z
UID:14263-1659965400-1659970800@events-evenements.crcoc.ca
SUMMARY:Baby & Me playgroup at the EarlyON Centre! // Groupe de jeu Bébé & Moi au Centre ON y va!
DESCRIPTION:Let’s meet at the Orléans-Cumberland Community Resource Centre (240 Centrum boulevard unit 105) for an in person playgroup! This program is geared towards babies from birth to 12 months old. With a small group of parents and babies\, you will have the opportunity to chat\, share parenting stories and socialize in a safe and friendly environment.  // Joignez-vous à nous au Centre de ressources communautaires Orléans-Cumberland (240 boulevard Centrum unité 105) pour un groupe de jeu en personne! Ce groupe est conçu pour les bébés de la naissance à 12 mois. Avec un petit groupe de parents et bébés\, venez discuter et partager vos histoires avec d’autres parents ou socialiser dans un environnement amicale et sécuritaire. \n  \nPLEASE NOTE:  Online registration for playgroups will no longer be required! Our playgroups will now be Drop in’s\, first come / first served. \nStarting at 1:30pm\, a Family Resource Worker will greet and give you a number to attend the playgroup.  We ask that you arrive no earlier then 1:30pm since we don’t have a waiting room available. \nWhen the playgroup is full\, we will have a sign on the window beside the front door. We will also post a message on our Facebook page: https://www.facebook.com/earlyonorleans  // \n  \nA NOTER:  Les inscriptions pour les groupes de jeu ne seront plus nécessaires! Nos groupes de jeu seront maintenant des portes ouvertes\, premier arrivé / premier servi. \nÀ partir de 13 H 30\, Une intervenante auprès de la famille vous accueillera et vous distribuera un numéro pour participer au groupe de jeu.  Nous vous demandons de ne pas arriver avant 13 H 30 car aucune salle d’attente n’est disponible. \nLorsque le groupe de jeu est complet\, une affiche sera mise dans la vitrine à la porte d’entrée. Nous publierons aussi un message sur notre page Facebook : https://www.facebook.com/earlyonorleans
URL:https://events-evenements.crcoc.ca/event-evenement/baby-me-playgroup-at-the-earlyon-centre-groupe-de-jeu-bebe-moi-au-centre-on-y-va-14/2022-08-08/
LOCATION:Ontario
CATEGORIES:Early ON-ON y va
ATTACH;FMTTYPE=image/jpeg:https://events-evenements.crcoc.ca/wp-content/uploads/2021/09/Baby-Me-Picture.jpg
END:VEVENT
BEGIN:VEVENT
DTSTART;TZID=America/Toronto:20220809T150000
DTEND;TZID=America/Toronto:20220809T180000
DTSTAMP:20260422T232921
CREATED:20220729T040025Z
LAST-MODIFIED:20220729T040234Z
UID:14249-1660057200-1660068000@events-evenements.crcoc.ca
SUMMARY:Child Summer Programming - Grade 1 to 6  // Programmation d'été pour enfants - 1re à 6e année
DESCRIPTION:IN-PERSON programming on Tuesdays from 3pm – 6pm in August.  A series of varied and exciting activities provided – where kids can play games\, learn recipes\, do crafts\, and make friends!  REGISTER online – Limited spots (Max. 12) – (Registration opens the week before the activity on Monday at 8:30am and closes on Friday at 4pm.)  Please be sure to sign up for each group you are interested in registering your child for *Individually*. //\n\n\n\n\n\nProgrammation EN PERSONNE les mardis de 15 H à 18 H en août.   Une série d’activités variées et amusantes offerte ou les enfants peuvent jouer\, apprendre des recettes\, faire du bricolage et se faire des amis!   INSCRIVEZ-VOUS en ligne – place limitées (Max. 12) – (L’inscription commence la semaine précédente l’événement le lundi à 8 h 30 et se termine le vendredi à 16 h.)  Veuillez vous assurer de vous inscrire pour chaque groupe auquel vous souhaitez inscrire votre enfant *individuellement*.\n\n\n\nENGLISH Description (Dinner and activities) held at the Resource Centre\n\n\n2:   Whimsy Gardening – Pizza\n9 :  Dinner Together!  Nachos\n 16 :  Indoor Camping Trip – Hot Dogs\n\n\n  \nDescription en FRANÇAIS  (Souper et activités) tenue au Centre de ressources\n \n\n 2:   Jardinage fantaisiste – Pizza\n 9 :   Soupons Ensembles ! – Nachos\n 16 :  Camping intérieur – Hot Dogs\n\n  \nIf you have complications registering online\, please contact Isabel OR call at 613-830-4357 ext. 177.  // Si l’inscription en ligne vous pose problème\, contacter Isabel ou appeler au 613-830-4357 poste 177.
URL:https://events-evenements.crcoc.ca/event-evenement/child-summer-programming-grade-1-to-6-programmation-dete-pour-enfants-1re-a-6e-annee-4-2022-08-09/
LOCATION:Ontario
CATEGORIES:Children & Youth-Enfants et jeunes
ATTACH;FMTTYPE=image/png:https://events-evenements.crcoc.ca/wp-content/uploads/2022/07/August-Kids-program-ENG.png
ORGANIZER;CN="Children & Youth | Enfants et jeunes":MAILTO:info@crcoc.ca
END:VEVENT
BEGIN:VEVENT
DTSTART;TZID=America/Toronto:20220810T100000
DTEND;TZID=America/Toronto:20220810T110000
DTSTAMP:20260422T232921
CREATED:20220729T042759Z
LAST-MODIFIED:20220729T042759Z
UID:14294-1660125600-1660129200@events-evenements.crcoc.ca
SUMMARY:Family Yoga at the park! //  Yoga en famille au parc!
DESCRIPTION:This activity will take place at the Queenswood Heights Park (1485 Duford Drive\, Orléans) – Registration is required.   Come to Cardinal Creek park to do a little yoga and explore the Community Garden!  The yoga component is age appropriate for children 2 year and up.   The whole family is welcome!  //\n \n\nCette activité aura lieu au parc Queenswood Heights (1485 Prom. Duford\, Orléans) – Inscription requise.  Venez au Parc Cardinal Creek pour faire du yoga et explorer le jardin communautaire! Pour les enfants de 2 ans et plus\, mais toute la famille est bienvenue ! \n 
URL:https://events-evenements.crcoc.ca/event-evenement/family-yoga-at-the-park-yoga-en-famille-au-parc-2/
LOCATION:Ontario
CATEGORIES:Early ON-ON y va
ATTACH;FMTTYPE=image/jpeg:https://events-evenements.crcoc.ca/wp-content/uploads/2022/04/Yoga-Pic.jpg
ORGANIZER;CN="EarlyON | ON y va":MAILTO:EarlyONyva@crcoc.ca
END:VEVENT
BEGIN:VEVENT
DTSTART;TZID=America/Toronto:20220810T100000
DTEND;TZID=America/Toronto:20220810T120000
DTSTAMP:20260422T232921
CREATED:20220624T115431Z
LAST-MODIFIED:20220624T134143Z
UID:13851-1660125600-1660132800@events-evenements.crcoc.ca
SUMMARY:Child Summer Outings- Grade 1 to 6  // Sorties d'étés pour enfants - 1re à 6e année
DESCRIPTION:IN-PERSON outings on Wednesdays from 10am to noon – Bi-weekly.   REGISTER online – Limited spots (Max. 15) – (Registration opens the week before the activity on Monday at 8:30am and closes on Friday at 4pm.)  Please be sure to sign up for each group you are interested in registering your child for *Individually*. //\n\n\n\n\n\nSorties EN PERSONNE les mercredis de 10 H à 12 H – bi-hebdomadaire.   Une série d’activités variées et amusantes offerte ou les enfants peuvent jouer\, apprendre des recettes\, faire du bricolage et se faire des amis!   INSCRIVEZ-VOUS en ligne – place limitées (Max. 12) – (L’inscription commence la semaine précédente l’événement le lundi à 8 h 30 et se termine le vendredi à 16 h.)  Veuillez vous assurer de vous inscrire pour chaque groupe auquel vous souhaitez inscrire votre enfant *individuellement*.\n\n\n\nENGLISH Description\n\n\nJuly 13th :   Cumberland Heritage Village Museum\nJuly 27th :   Mini golf at Mer Bleue Miniputt\n August 10th :  Bowling at Orleans Bowling Centre\n\n\n  \nDescription en FRANÇAIS\n \n\n 13 juillet:   Musée-village du patrimoine de Cumberland\n 27 juillet :   Mini golf au Miniputt Mer Bleue\n 10 août :  Quilles au Centre Orleans Bowling\n\n  \nIf you have complications registering online\, please contact Isabel OR call at 613-830-4357 ext. 177.  // Si l’inscription en ligne vous pose problème\, contacter Isabel ou appeler au 613-830-4357 poste 177.
URL:https://events-evenements.crcoc.ca/event-evenement/child-summer-outings-grade-1-to-6-sorties-detes-pour-enfants-1re-a-6e-annee-2022-08-10/
LOCATION:Ontario
CATEGORIES:Children & Youth-Enfants et jeunes
ATTACH;FMTTYPE=image/png:https://events-evenements.crcoc.ca/wp-content/uploads/2022/06/Summer-Outing-Kids-pic.png
ORGANIZER;CN="Children & Youth | Enfants et jeunes":MAILTO:info@crcoc.ca
END:VEVENT
BEGIN:VEVENT
DTSTART;TZID=America/Toronto:20220810T110000
DTEND;TZID=America/Toronto:20220810T113000
DTSTAMP:20260422T232921
CREATED:20220729T041548Z
LAST-MODIFIED:20220729T041920Z
UID:14277-1660129200-1660131000@events-evenements.crcoc.ca
SUMMARY:Virtual interactive circle time! // Temps de cercle virtuel interactif!
DESCRIPTION:Come sing\, play and have fun during our virtual circle time! The songs\, rhymes and story time will be enjoyable for all children! // \n  \nVenez chanter\, jouer et vous amusez avec nous durant nos temps de cercle virtuel! Les chansons\, comptines et histoires plairont aux plus petits comme aux plus grands!
URL:https://events-evenements.crcoc.ca/event-evenement/virtual-interactive-circle-time-temps-de-cercle-virtuel-interactif-10-2022-08-10/
LOCATION:Ontario
CATEGORIES:Early ON-ON y va
ATTACH;FMTTYPE=image/jpeg:https://events-evenements.crcoc.ca/wp-content/uploads/2022/05/Circle-time-Pic.jpg
ORGANIZER;CN="EarlyON | ON y va":MAILTO:EarlyONyva@crcoc.ca
END:VEVENT
BEGIN:VEVENT
DTSTART;TZID=America/Toronto:20220811T100000
DTEND;TZID=America/Toronto:20220811T120000
DTSTAMP:20260422T232921
CREATED:20220729T035009Z
LAST-MODIFIED:20220729T035216Z
UID:14238-1660212000-1660219200@events-evenements.crcoc.ca
SUMMARY:Child Summer Programming - Grade 1 to 6  // Programmation d'été pour enfants - 1re à 6e année
DESCRIPTION:IN-PERSON programming on Thursdays from 10 am to 12 pm in August.  A series of varied and exciting activities provided – where kids can play games\, learn recipes\, do crafts\, and make friends!  REGISTER online – Limited spots (Max. 12) – (Registration opens the week before the activity on Monday at 8:30am and closes on Friday at 4pm.)  Please be sure to sign up for each group you are interested in registering your child for *Individually*. //\n\n\n\n\n\nProgrammation EN PERSONNE les jeudis de 10 H à 12 H en août.   Une série d’activités variées et amusantes offerte ou les enfants peuvent jouer\, apprendre des recettes\, faire du bricolage et se faire des amis!   INSCRIVEZ-VOUS en ligne – place limitées (Max. 12) – (L’inscription commence la semaine précédente l’événement le lundi à 8 h 30 et se termine le vendredi à 16 h.)  Veuillez vous assurer de vous inscrire pour chaque groupe auquel vous souhaitez inscrire votre enfant *individuellement*.\n\n\n\nENGLISH Description  (Snack and crafts)\n\n\n4:    Homemade Popsicles & Ice Cream (at Centre)\n12 :   Build a Birdhouse (at Centre)\n 18 :  Scavenger Hunt (at Queenswood Heights Centennial)\n\n\n  \nDescription en FRANÇAIS  (Collations et bricolages)\n \n\n 4:    Popsicles et crêmes glacées faits maison (au Centre)\n 12 :   Créer une maison d’oiseaux (au Centre)\n 18 :  Chasse au trésor (au parc Queenswood Heights Centennial)\n\n  \nIf you have complications registering online\, please contact Isabel OR call at 613-830-4357 ext. 177.  // Si l’inscription en ligne vous pose problème\, contacter Isabel ou appeler au 613-830-4357 poste 177.
URL:https://events-evenements.crcoc.ca/event-evenement/child-summer-programming-grade-1-to-6-programmation-dete-pour-enfants-1re-a-6e-annee-3-2022-08-11/
LOCATION:Ontario
CATEGORIES:Children & Youth-Enfants et jeunes
ATTACH;FMTTYPE=image/png:https://events-evenements.crcoc.ca/wp-content/uploads/2022/07/August-Kids-Porgram-FRA.png
ORGANIZER;CN="Children & Youth | Enfants et jeunes":MAILTO:info@crcoc.ca
END:VEVENT
BEGIN:VEVENT
DTSTART;TZID=America/Toronto:20220811T150000
DTEND;TZID=America/Toronto:20220811T180000
DTSTAMP:20260422T232921
CREATED:20220729T031422Z
LAST-MODIFIED:20220729T031712Z
UID:14221-1660230000-1660240800@events-evenements.crcoc.ca
SUMMARY:Youth Space - Grade 7 to 12 //  Espace Jeunesse - 7e à 12e année
DESCRIPTION:Weekly\, ongoing program – Bilingual – In person – Thursdays.  A space to connect with other youth\, have fun\, share experiences\, relate with others and talk about things important to you.  Let’s get our summer vibes on with some art\, games\, challenges\, great conversation and more! \nRegister online to join us (limited spots 12 people).   If you have any complication registering please email Tanya. \n\nAugust – 3 pm to 6 pm  //  Août – 15 H  à 18 H\n\n4  –  2SLGBTQIA+ : Let your art be as unique as you! ; Dinner:  TBD //  Laissez votre art être aussi unique que vous !;  Souper :  à déterminer\n11  –  Everyone /Toustes :  The park is calling we must go!; Dinner:  TBD // Le parc nous appelle et nous devons y aller !;  Souper : à déterminer\n18  –  Girls / Filles :  Chill vibes for movie night!; Dinner: TBD  // Relaxons pour une soirée cinéma !; Souper : à déterminer\n25  –  Everyone /Toustes :  Life is what you bake it!; Dinner:  TBD // La vie\, c’est ce qu’on cuit !; Souper : à déterminer\n\n\n\nHebdomadaire\, programme continu – bilingue – En personne – les jeudis.  Un espace pour se connecter avec d’autres jeunes\, s’amuser\, partager des expériences et parler de choses importantes pour eux.  La fin de l’année scolaire approche\, donc…. mettons l’emphase sur prendre soin de nous\, de l’énergie positive et des stratégies pour surmonter tout ça! \nInscrivez en ligne pour nous joindre (places limitées 12 personnes).  Si l’inscription en ligne vous pose problème\, envoyer un courriel à Tanya.
URL:https://events-evenements.crcoc.ca/event-evenement/youth-space-grade-7-to-12-espace-jeunesse-7e-a-12e-annee-8-2022-08-11/
LOCATION:Ontario
CATEGORIES:Children & Youth-Enfants et jeunes
ATTACH;FMTTYPE=image/jpeg:https://events-evenements.crcoc.ca/wp-content/uploads/2021/01/Youth-Space-espace-jeunesse.jpg
ORGANIZER;CN="Children & Youth | Enfants et jeunes":MAILTO:info@crcoc.ca
END:VEVENT
END:VCALENDAR