BEGIN:VCALENDAR
VERSION:2.0
PRODID:-//OCCRC Events | Évènements CRCOC - ECPv6.15.18//NONSGML v1.0//EN
CALSCALE:GREGORIAN
METHOD:PUBLISH
X-ORIGINAL-URL:https://events-evenements.crcoc.ca
X-WR-CALDESC:Events for OCCRC Events | Évènements CRCOC
REFRESH-INTERVAL;VALUE=DURATION:PT1H
X-Robots-Tag:noindex
X-PUBLISHED-TTL:PT1H
BEGIN:VTIMEZONE
TZID:America/Toronto
BEGIN:DAYLIGHT
TZOFFSETFROM:-0500
TZOFFSETTO:-0400
TZNAME:EDT
DTSTART:20210314T070000
END:DAYLIGHT
BEGIN:STANDARD
TZOFFSETFROM:-0400
TZOFFSETTO:-0500
TZNAME:EST
DTSTART:20211107T060000
END:STANDARD
BEGIN:DAYLIGHT
TZOFFSETFROM:-0500
TZOFFSETTO:-0400
TZNAME:EDT
DTSTART:20220313T070000
END:DAYLIGHT
BEGIN:STANDARD
TZOFFSETFROM:-0400
TZOFFSETTO:-0500
TZNAME:EST
DTSTART:20221106T060000
END:STANDARD
BEGIN:DAYLIGHT
TZOFFSETFROM:-0500
TZOFFSETTO:-0400
TZNAME:EDT
DTSTART:20230312T070000
END:DAYLIGHT
BEGIN:STANDARD
TZOFFSETFROM:-0400
TZOFFSETTO:-0500
TZNAME:EST
DTSTART:20231105T060000
END:STANDARD
END:VTIMEZONE
BEGIN:VEVENT
DTSTART;TZID=America/Toronto:20220726T150000
DTEND;TZID=America/Toronto:20220726T180000
DTSTAMP:20260422T214439
CREATED:20220624T112335Z
LAST-MODIFIED:20220624T114113Z
UID:13824-1658847600-1658858400@events-evenements.crcoc.ca
SUMMARY:Child Summer Programming - Grade 1 to 6  // Programmation d'été pour enfants - 1re à 6e année
DESCRIPTION:IN-PERSON programming on Tuesdays from 3pm – 6pm in July.  A series of varied and exciting activities provided – where kids can play games\, learn recipes\, do crafts\, and make friends!  REGISTER online – Limited spots (Max. 12) – (Registration opens the week before the activity on Monday at 8:30am and closes on Friday at 4pm.)  Please be sure to sign up for each group you are interested in registering your child for *Individually*. //\n\n\n\n\n\nProgrammation EN PERSONNE les mardis de 15 H à 18 H en juillet.   Une série d’activités variées et amusantes offerte ou les enfants peuvent jouer\, apprendre des recettes\, faire du bricolage et se faire des amis!   INSCRIVEZ-VOUS en ligne – place limitées (Max. 12) – (L’inscription commence la semaine précédente l’événement le lundi à 8 h 30 et se termine le vendredi à 16 h.)  Veuillez vous assurer de vous inscrire pour chaque groupe auquel vous souhaitez inscrire votre enfant *individuellement*.\n\n\n\nENGLISH Description (Dinner and activities) held at the Ressource Centre\n\n\n12:   Cooking Burger Sliders\n19 :  Life-sized Board Games & Shawarma\n 26 :  Cooking Mini Pizzas\n\n\n  \nDescription en FRANÇAIS  (Souper et activités) tenue au Centre de ressources\n \n\n 12:   Cuisson de hamburgers en tranche\n 19 :   Jeux de société géants et shawarma\n 26 :  Cuisson de mini-pizza\n\n  \nIf you have complications registering online\, please contact Isabel OR call at 613-830-4357 ext. 177.  // Si l’inscription en ligne vous pose problème\, contacter Isabel ou appeler au 613-830-4357 poste 177.
URL:https://events-evenements.crcoc.ca/event-evenement/child-summer-programming-grade-1-to-6-programmation-dete-pour-enfants-1re-a-6e-annee-2022-07-26/
LOCATION:Ontario
CATEGORIES:Children & Youth-Enfants et jeunes
ATTACH;FMTTYPE=image/png:https://events-evenements.crcoc.ca/wp-content/uploads/2022/06/Summer-Program-pic.png
ORGANIZER;CN="Children & Youth | Enfants et jeunes":MAILTO:info@crcoc.ca
END:VEVENT
BEGIN:VEVENT
DTSTART;TZID=America/Toronto:20220727T100000
DTEND;TZID=America/Toronto:20220727T110000
DTSTAMP:20260422T214439
CREATED:20220624T124134Z
LAST-MODIFIED:20220624T140848Z
UID:13894-1658916000-1658919600@events-evenements.crcoc.ca
SUMMARY:Family Yoga at the park! //  Yoga en famille au parc! (Cardinal Creek)
DESCRIPTION:Come to Cardinal Creek park to do a little yoga and explore the Community Garden!  The yoga component is age appropriate for children 2 year and up. The whole family is welcome!  \nThis activity will take place at the Cardinal Creek Park (1825 Trim) – Registration is required  //\n \n  \nVenez au Parc Cardinal Creek pour faire du yoga et explorer le jardin communautaire!  Pour les enfants de 2 ans et plus\, mais toute la famille est bienvenue ! \nCette activité aura lieu au parc Cardinal Creek … (1825 Trim) – Inscription requise
URL:https://events-evenements.crcoc.ca/event-evenement/family-yoga-at-the-park-yoga-en-famille-au-parc-cardinal-creek/
LOCATION:Ontario
CATEGORIES:Early ON-ON y va
ATTACH;FMTTYPE=image/jpeg:https://events-evenements.crcoc.ca/wp-content/uploads/2022/04/Yoga-Pic.jpg
ORGANIZER;CN="EarlyON | ON y va":MAILTO:EarlyONyva@crcoc.ca
END:VEVENT
BEGIN:VEVENT
DTSTART;TZID=America/Toronto:20220727T100000
DTEND;TZID=America/Toronto:20220727T120000
DTSTAMP:20260422T214439
CREATED:20220624T115431Z
LAST-MODIFIED:20220624T134251Z
UID:13850-1658916000-1658923200@events-evenements.crcoc.ca
SUMMARY:Child Summer Outings- Grade 1 to 6  // Sorties d'étés pour enfants - 1re à 6e année
DESCRIPTION:IN-PERSON outings on Wednesdays from 10am to noon – Bi-weekly.   REGISTER online – Limited spots (Max. 15) – (Registration opens the week before the activity on Monday at 8:30am and closes on Friday at 4pm.)  Please be sure to sign up for each group you are interested in registering your child for *Individually*. //\n\n\n\n\n\nSorties EN PERSONNE les mercredis de 10 H à 12 H – bi-hebdomadaire.   Une série d’activités variées et amusantes offerte ou les enfants peuvent jouer\, apprendre des recettes\, faire du bricolage et se faire des amis!   INSCRIVEZ-VOUS en ligne – place limitées (Max. 12) – (L’inscription commence la semaine précédente l’événement le lundi à 8 h 30 et se termine le vendredi à 16 h.)  Veuillez vous assurer de vous inscrire pour chaque groupe auquel vous souhaitez inscrire votre enfant *individuellement*.\n\n\n\nENGLISH Description\n\n\nJuly 13th :   Cumberland Heritage Village Museum\nJuly 27th :   Mini golf at Mer Bleue Miniputt\n August 10th :  Bowling at Orleans Bowling Centre\n\n\n  \nDescription en FRANÇAIS\n \n\n 13 juillet:   Musée-village du patrimoine de Cumberland\n 27 juillet :   Mini golf au Miniputt Mer Bleue\n 10 août :  Quilles au Centre Orleans Bowling\n\n  \nIf you have complications registering online\, please contact Isabel OR call at 613-830-4357 ext. 177.  // Si l’inscription en ligne vous pose problème\, contacter Isabel ou appeler au 613-830-4357 poste 177.
URL:https://events-evenements.crcoc.ca/event-evenement/child-summer-outings-grade-1-to-6-sorties-detes-pour-enfants-1re-a-6e-annee-2022-07-27/
LOCATION:Ontario
CATEGORIES:Children & Youth-Enfants et jeunes
ATTACH;FMTTYPE=image/png:https://events-evenements.crcoc.ca/wp-content/uploads/2022/06/Summer-Outing-Kids-pic.png
ORGANIZER;CN="Children & Youth | Enfants et jeunes":MAILTO:info@crcoc.ca
END:VEVENT
BEGIN:VEVENT
DTSTART;TZID=America/Toronto:20220727T110000
DTEND;TZID=America/Toronto:20220727T113000
DTSTAMP:20260422T214439
CREATED:20220624T121312Z
LAST-MODIFIED:20220624T135615Z
UID:13876-1658919600-1658921400@events-evenements.crcoc.ca
SUMMARY:Virtual interactive circle time! // Temps de cercle virtuel interactif!
DESCRIPTION:Come sing\, play and have fun during our virtual circle time! The songs\, rhymes and story time will be enjoyable for all children! // \n  \nVenez chanter\, jouer et vous amusez avec nous durant nos temps de cercle virtuel! Les chansons\, comptines et histoires plairont aux plus petits comme aux plus grands!
URL:https://events-evenements.crcoc.ca/event-evenement/virtual-interactive-circle-time-temps-de-cercle-virtuel-interactif-9-2022-07-27/
LOCATION:Ontario
CATEGORIES:Early ON-ON y va
ATTACH;FMTTYPE=image/jpeg:https://events-evenements.crcoc.ca/wp-content/uploads/2022/05/Circle-time-Pic.jpg
ORGANIZER;CN="EarlyON | ON y va":MAILTO:EarlyONyva@crcoc.ca
END:VEVENT
BEGIN:VEVENT
DTSTART;TZID=America/Toronto:20220727T140000
DTEND;TZID=America/Toronto:20220727T160000
DTSTAMP:20260422T214439
CREATED:20220624T065959Z
LAST-MODIFIED:20220624T065959Z
UID:13807-1658930400-1658937600@events-evenements.crcoc.ca
SUMMARY:Youth - Summer Outing - Grade 7 to 12 // Sortie d'été pour les ados - 7e à 12e année
DESCRIPTION:Youth Summer Outing – Bilingual  —  July 27th – 2 pm to 4 pm  \nRegister online to join us (limited spots – Max. 15).  Registration will open the Monday of the week prior to the outing at 8:30 am and close that Friday at 4 pm.   If you have any complication registering please email Tanya. \nFor all outings\, parent/legal guardian consent is required for participants under 18 yrs.  Participants 18 yrs can consent for themselves. \nTransportation to and from the location is the responsibility of the parent/legal guardian.  Bus tickets can be provided upon request. \n  \n\nBowling at Orleans Bowling Centre  // Quilles au Centre Orleans Bowling\n\n\n  \nSortie d’été pour Ados – Bilingue — 27 juillet – 14 H à 16 H \nInscrivez en ligne pour nous joindre (places limitées – Max 15).  Les inscriptions ouvriront le lundi de la semaine précédente à 8 H 30 et fermeront le vendredi qui suit à 16 H.   Si l’inscription en ligne vous pose problème\, envoyer un courriel à Tanya. \nPour toutes les sorties\, le consentement d’un parent/tuteur.rice légal.e est requis pour les participants.es de moins de 18 ans.  Les participants.es de 18 ans peuvent consentir pour eux-même. \nLe transport pour vous rendre à la destination et le retour à la maison est la responsabilité du parent/tuteur.rice légal.e.  Les billets d’autobus peuvent être fournis sur demande.
URL:https://events-evenements.crcoc.ca/event-evenement/youth-summer-outing-grade-7-to-12-sortie-dete-pour-les-ados-7e-a-12e-annee-2/
LOCATION:Ontario
CATEGORIES:Children & Youth-Enfants et jeunes
ATTACH;FMTTYPE=image/jpeg:https://events-evenements.crcoc.ca/wp-content/uploads/2022/06/Bowling-Pic.jpg
ORGANIZER;CN="Children & Youth | Enfants et jeunes":MAILTO:info@crcoc.ca
END:VEVENT
BEGIN:VEVENT
DTSTART;TZID=America/Toronto:20220728T100000
DTEND;TZID=America/Toronto:20220728T120000
DTSTAMP:20260422T214439
CREATED:20220624T113814Z
LAST-MODIFIED:20220624T113957Z
UID:13837-1659002400-1659009600@events-evenements.crcoc.ca
SUMMARY:Child Summer Programming - Grade 1 to 6  // Programmation d'été pour enfants - 1re à 6e année
DESCRIPTION:IN-PERSON programming on Thursdays from 10 am to 12 pm in July.  A series of varied and exciting activities provided – where kids can play games\, learn recipes\, do crafts\, and make friends!  REGISTER online – Limited spots (Max. 12) – (Registration opens the week before the activity on Monday at 8:30am and closes on Friday at 4pm.)  Please be sure to sign up for each group you are interested in registering your child for *Individually*. //\n\n\n\n\n\nProgrammation EN PERSONNE les jeudis de 10 H à 12 H en juillet.   Une série d’activités variées et amusantes offerte ou les enfants peuvent jouer\, apprendre des recettes\, faire du bricolage et se faire des amis!   INSCRIVEZ-VOUS en ligne – place limitées (Max. 12) – (L’inscription commence la semaine précédente l’événement le lundi à 8 h 30 et se termine le vendredi à 16 h.)  Veuillez vous assurer de vous inscrire pour chaque groupe auquel vous souhaitez inscrire votre enfant *individuellement*.\n\n\n\nENGLISH Description  (Snack and crafts)\n\n\n14:    Tie Dye (at Queenswood Ridge Park)\n21 :   DIY PlayDough and Sculpting (at Centre)\n 28 :  Park outing and Nature Art (at Queenswood Heights Centennial)\n\n\n  \nDescription en FRANÇAIS  (Collations et bricolages)\n \n\n 14:    Tie Dye (au parc Queensood Ridge)\n 21 :   Pâte à modeler maison et sculpture (au Centre)\n 28 :  Sortie au parc et art naturel (au parc Queenswood Heights Centennial)\n\n  \nIf you have complications registering online\, please contact Isabel OR call at 613-830-4357 ext. 177.  // Si l’inscription en ligne vous pose problème\, contacter Isabel ou appeler au 613-830-4357 poste 177.
URL:https://events-evenements.crcoc.ca/event-evenement/child-summer-programming-grade-1-to-6-programmation-dete-pour-enfants-1re-a-6e-annee-2-2022-07-28/
LOCATION:Ontario
CATEGORIES:Children & Youth-Enfants et jeunes
ATTACH;FMTTYPE=image/png:https://events-evenements.crcoc.ca/wp-content/uploads/2022/06/Summer-Program-pic.png
ORGANIZER;CN="Children & Youth | Enfants et jeunes":MAILTO:info@crcoc.ca
END:VEVENT
BEGIN:VEVENT
DTSTART;TZID=America/Toronto:20220728T150000
DTEND;TZID=America/Toronto:20220728T180000
DTSTAMP:20260422T214439
CREATED:20220624T062025Z
LAST-MODIFIED:20220624T062218Z
UID:13793-1659020400-1659031200@events-evenements.crcoc.ca
SUMMARY:Youth Space - Grade 7 to 12 //  Espace Jeunesse - 7e à 12e année
DESCRIPTION:Weekly\, ongoing program – Bilingual – In person – Thursdays.  A space to connect with other youth\, have fun\, share experiences\, relate with others and talk about things important to you.  Let’s get our summer vibes on with some art\, games\, challenges\, great conversation and more! \nRegister online to join us (limited spots 12 people).   If you have any complication registering please email Tanya. \n\nJuly– 3 pm to 6 pm  //  Juillet– 15 H  à 18 H\n\n7  –  2SLGBTQIA+ : & allies: Believe you can & you’re halfway there! ; Dinner:  Burgers\, salad & poutine //  Crois en toi et tu as une étape de faite !;  Souper :  Burgers\, salade et poutine\n14  –  Everyone /Toustes :  Consent is simple!; Dinner:  Mac & Cheese // Le consentement est simple !;  Souper : Mac & cheese\n21  –  Girls / Filles :  We rise by lifting others!; Dinner: Fried rice & wings // On se lève ensemble !; Souper : Riz frit et ailes de poulet\n28  –  Everyone /Toustes :  Be your own kind of beautiful!; Dinner:  Pizza & veggie tray // Tu es beau.elle comme tu est !; Souper : Pizza et plateau de légumes\n\n\n\nHebdomadaire\, programme continu – bilingue – En personne – les jeudis.  Un espace pour se connecter avec d’autres jeunes\, s’amuser\, partager des expériences et parler de choses importantes pour eux.  La fin de l’année scolaire approche\, donc…. mettons l’emphase sur prendre soin de nous\, de l’énergie positive et des stratégies pour surmonter tout ça! \nInscrivez en ligne pour nous joindre (places limitées 12 personnes).  Si l’inscription en ligne vous pose problème\, envoyer un courriel à Tanya.
URL:https://events-evenements.crcoc.ca/event-evenement/youth-space-grade-7-to-12-espace-jeunesse-7e-a-12e-annee-7-2022-07-28/
LOCATION:Ontario
CATEGORIES:Children & Youth-Enfants et jeunes
ATTACH;FMTTYPE=image/jpeg:https://events-evenements.crcoc.ca/wp-content/uploads/2021/01/Youth-Space-espace-jeunesse.jpg
ORGANIZER;CN="Children & Youth | Enfants et jeunes":MAILTO:info@crcoc.ca
END:VEVENT
END:VCALENDAR