BEGIN:VCALENDAR
VERSION:2.0
PRODID:-//OCCRC Events | Évènements CRCOC - ECPv6.15.18//NONSGML v1.0//EN
CALSCALE:GREGORIAN
METHOD:PUBLISH
X-ORIGINAL-URL:https://events-evenements.crcoc.ca
X-WR-CALDESC:Events for OCCRC Events | Évènements CRCOC
REFRESH-INTERVAL;VALUE=DURATION:PT1H
X-Robots-Tag:noindex
X-PUBLISHED-TTL:PT1H
BEGIN:VTIMEZONE
TZID:America/Toronto
BEGIN:DAYLIGHT
TZOFFSETFROM:-0500
TZOFFSETTO:-0400
TZNAME:EDT
DTSTART:20210314T070000
END:DAYLIGHT
BEGIN:STANDARD
TZOFFSETFROM:-0400
TZOFFSETTO:-0500
TZNAME:EST
DTSTART:20211107T060000
END:STANDARD
BEGIN:DAYLIGHT
TZOFFSETFROM:-0500
TZOFFSETTO:-0400
TZNAME:EDT
DTSTART:20220313T070000
END:DAYLIGHT
BEGIN:STANDARD
TZOFFSETFROM:-0400
TZOFFSETTO:-0500
TZNAME:EST
DTSTART:20221106T060000
END:STANDARD
BEGIN:DAYLIGHT
TZOFFSETFROM:-0500
TZOFFSETTO:-0400
TZNAME:EDT
DTSTART:20230312T070000
END:DAYLIGHT
BEGIN:STANDARD
TZOFFSETFROM:-0400
TZOFFSETTO:-0500
TZNAME:EST
DTSTART:20231105T060000
END:STANDARD
END:VTIMEZONE
BEGIN:VEVENT
DTSTART;TZID=America/Toronto:20220719T130000
DTEND;TZID=America/Toronto:20220719T140000
DTSTAMP:20260423T033931
CREATED:20220624T144248Z
LAST-MODIFIED:20220718T193918Z
UID:13943-1658235600-1658239200@events-evenements.crcoc.ca
SUMMARY:CANCELLED - Life is Nicer with Microgreens: Grades 7 to 12 // ANNULÉ - La vie est meilleure avec des micropousses: 7e à 12e année
DESCRIPTION:Life is Nicer with Microgreens: Grades 7 to 12. Bilingual. 2-part workshop. In-person & Via Zoom \n\n In collaboration with our Collective Kitchen\, the Rideau-Rockliffe Community Resource Centre and Social Harvest\, we are offering an awesome 2-part workshop about microgreens!\n\nMicro-Harvest Workshop (Part 1): Thursday\, July 19th from 1pm-2pm\, in person\n\n Get a kit with supplies to grow microgreens. Learn how to plan and take care of them. We’ll also learn some fun facts about microgreens!\n\n\n\nCooking Workshop (Part 2):Thursday\, July 26th from 1pm-2pm\, via Zoom\n\nLearn what you can make with microgreens. We’ll be making some snacks\, bruschetta and a smoothie!\n\n\n\n\n\n Register online to join us.   –  If you have any complication registering online\, please email Tanya at tanya@crcoc.caor call at 613-830-4357\, ext. 140 \n\n\n\n\n\n\nLa vie est meilleure avec des micropousses: 7e à 12e année. Bilingue. Atelier en 2 parties. En personne et via Zoom \n\n En collaboration with notre Cuisine Collective \, le Centre de ressources communautaires Rideau-Rockliffe et Récolte Sociale\, nous offrons un atelier en deux parties sur les micropousses!\n\nAtelier micro-récolte (Partie 1):Jeudi 19 juillet de 13 H à 14 H\, en personne\n\n Tu recevras une trousse de fournitures pour cultiver des micropousses. Tu apprendras comment planter et entretenir tes plantes. Tu apprendras aussi des faits intéressants des micropousses! \n\n\nAtelier de cuisson (Partie 2):Jeudi 26 juillet de 13 H à 14 H \, via Zoom\n\nTu apprendras ce que tu peux faire avec des micropousses. Nous ferons même quelques collations\, du bruschetta et un smoothie!\n\n\n\n\n\n Inscris-toi en ligne.  –  Si l’inscription en ligne vous pose problème\, veuillez envoyer un courriel à Tanya à tanya@crcoc.ca ou appeler au 613-830-4357\, poste 140
URL:https://events-evenements.crcoc.ca/event-evenement/life-is-nicer-with-microgreens-grades-7-to-12-la-vie-est-meilleure-avec-des-micropousses-7e-a-12e-annee/
LOCATION:Ontario
CATEGORIES:Children & Youth-Enfants et jeunes
ATTACH;FMTTYPE=image/png:https://events-evenements.crcoc.ca/wp-content/uploads/2022/06/MIcrogreens-Workshop-Youth-2022-pic.png
ORGANIZER;CN="Children & Youth | Enfants et jeunes":MAILTO:info@crcoc.ca
END:VEVENT
BEGIN:VEVENT
DTSTART;TZID=America/Toronto:20220719T150000
DTEND;TZID=America/Toronto:20220719T160000
DTSTAMP:20260423T033931
CREATED:20220624T123809Z
LAST-MODIFIED:20220719T133355Z
UID:13891-1658242800-1658246400@events-evenements.crcoc.ca
SUMMARY:CANCELLED - Family Yoga at the park! //  ANNULÉ - Yoga en famille au parc! (Queenswood Heights)
DESCRIPTION:Join us at the park to a little yoga.  The yoga component is age appropriate for children 2 year and up. The whole family is welcome!  \nThis activity will take place at the Queenswood Heights Park (1485 Duford Drive\, Orléans) – Registration is required  //\n \n  \nRejoignez-nous au parc pour un peu de yoga!  Pour les enfants de 2 ans et plus\, mais toute la famille est bienvenue ! \nCette activité aura lieu au parc Queenswood Heights (1485 Prom. Duford\, Orléans) – Inscription requise
URL:https://events-evenements.crcoc.ca/event-evenement/family-yoga-at-the-park-yoga-en-famille-au-parc-queenswood-heights/
LOCATION:Ontario
CATEGORIES:Early ON-ON y va
ATTACH;FMTTYPE=image/jpeg:https://events-evenements.crcoc.ca/wp-content/uploads/2022/04/Yoga-Pic.jpg
ORGANIZER;CN="EarlyON | ON y va":MAILTO:EarlyONyva@crcoc.ca
END:VEVENT
BEGIN:VEVENT
DTSTART;TZID=America/Toronto:20220719T150000
DTEND;TZID=America/Toronto:20220719T180000
DTSTAMP:20260423T033931
CREATED:20220624T112335Z
LAST-MODIFIED:20220624T114430Z
UID:13823-1658242800-1658253600@events-evenements.crcoc.ca
SUMMARY:Child Summer Programming - Grade 1 to 6  // Programmation d'été pour enfants - 1re à 6e année
DESCRIPTION:IN-PERSON programming on Tuesdays from 3pm – 6pm in July.  A series of varied and exciting activities provided – where kids can play games\, learn recipes\, do crafts\, and make friends!  REGISTER online – Limited spots (Max. 12) – (Registration opens the week before the activity on Monday at 8:30am and closes on Friday at 4pm.)  Please be sure to sign up for each group you are interested in registering your child for *Individually*. //\n\n\n\n\n\nProgrammation EN PERSONNE les mardis de 15 H à 18 H en juillet.   Une série d’activités variées et amusantes offerte ou les enfants peuvent jouer\, apprendre des recettes\, faire du bricolage et se faire des amis!   INSCRIVEZ-VOUS en ligne – place limitées (Max. 12) – (L’inscription commence la semaine précédente l’événement le lundi à 8 h 30 et se termine le vendredi à 16 h.)  Veuillez vous assurer de vous inscrire pour chaque groupe auquel vous souhaitez inscrire votre enfant *individuellement*.\n\n\n\nENGLISH Description (Dinner and activities) held at the Resource Centre\n\n\n12:   Cooking Burger Sliders\n19 :  Life-sized Board Games & Shawarma\n 26 :  Cooking Mini Pizzas\n\n\n  \nDescription en FRANÇAIS (Souper et activités) tenue au Centre de ressources\n \n\n 12:   Cuisson de hamburgers en tranche\n 19 :   Jeux de société géants et shawarma\n 26 :  Cuisson de mini-pizza\n\n  \nIf you have complications registering online\, please contact Isabel OR call at 613-830-4357 ext. 177.  // Si l’inscription en ligne vous pose problème\, contacter Isabel ou appeler au 613-830-4357 poste 177.
URL:https://events-evenements.crcoc.ca/event-evenement/child-summer-programming-grade-1-to-6-programmation-dete-pour-enfants-1re-a-6e-annee-2022-07-19/
LOCATION:Ontario
CATEGORIES:Children & Youth-Enfants et jeunes
ATTACH;FMTTYPE=image/png:https://events-evenements.crcoc.ca/wp-content/uploads/2022/06/Summer-Program-pic.png
ORGANIZER;CN="Children & Youth | Enfants et jeunes":MAILTO:info@crcoc.ca
END:VEVENT
BEGIN:VEVENT
DTSTART;TZID=America/Toronto:20220720T093000
DTEND;TZID=America/Toronto:20220720T113000
DTSTAMP:20260423T033931
CREATED:20220624T124724Z
LAST-MODIFIED:20220719T192657Z
UID:13897-1658309400-1658316600@events-evenements.crcoc.ca
SUMMARY:CANCELLED - Walk at the Mer Bleu bog Trail  //   ANNULÉ - Promenade au sentier de la Tourbière de Mer Bleu!
DESCRIPTION:This activity will take place at the Mer Bleu bog Trail — Registration is required \nJoin us for a walk in the nature !  Please note that this activity will take place rain or shine.  **Meeting place: P22 Parking **  //\n \n  \nCette activité aura lieu au sentier de la Tourbière de Mer bleu — Inscription requise \nJoignez-vous à nous pour une promenade en nature!  Veuillez noter que l’activité aura lieu même s’il pleut.  **Point de rencontre : Stationnement P22** \n 
URL:https://events-evenements.crcoc.ca/event-evenement/walk-at-the-mer-bleu-bog-trail-promenade-au-sentier-de-la-tourbiere-de-mer-bleu/
LOCATION:Ontario
CATEGORIES:Early ON-ON y va
ATTACH;FMTTYPE=image/png:https://events-evenements.crcoc.ca/wp-content/uploads/2022/06/walk-bog-pic.png
ORGANIZER;CN="EarlyON | ON y va":MAILTO:EarlyONyva@crcoc.ca
END:VEVENT
BEGIN:VEVENT
DTSTART;TZID=America/Toronto:20220720T110000
DTEND;TZID=America/Toronto:20220720T113000
DTSTAMP:20260423T033931
CREATED:20220624T121312Z
LAST-MODIFIED:20220624T135639Z
UID:13875-1658314800-1658316600@events-evenements.crcoc.ca
SUMMARY:Virtual interactive circle time! // Temps de cercle virtuel interactif!
DESCRIPTION:Come sing\, play and have fun during our virtual circle time! The songs\, rhymes and story time will be enjoyable for all children! // \n  \nVenez chanter\, jouer et vous amusez avec nous durant nos temps de cercle virtuel! Les chansons\, comptines et histoires plairont aux plus petits comme aux plus grands!
URL:https://events-evenements.crcoc.ca/event-evenement/virtual-interactive-circle-time-temps-de-cercle-virtuel-interactif-9-2022-07-20/
LOCATION:Ontario
CATEGORIES:Early ON-ON y va
ATTACH;FMTTYPE=image/jpeg:https://events-evenements.crcoc.ca/wp-content/uploads/2022/05/Circle-time-Pic.jpg
ORGANIZER;CN="EarlyON | ON y va":MAILTO:EarlyONyva@crcoc.ca
END:VEVENT
BEGIN:VEVENT
DTSTART;TZID=America/Toronto:20220721T100000
DTEND;TZID=America/Toronto:20220721T120000
DTSTAMP:20260423T033931
CREATED:20220624T113814Z
LAST-MODIFIED:20220624T114214Z
UID:13836-1658397600-1658404800@events-evenements.crcoc.ca
SUMMARY:Child Summer Programming - Grade 1 to 6  // Programmation d'été pour enfants - 1re à 6e année
DESCRIPTION:IN-PERSON programming on Thursdays from 10 am to 12 pm in July.  A series of varied and exciting activities provided – where kids can play games\, learn recipes\, do crafts\, and make friends!  REGISTER online – Limited spots (Max. 12) – (Registration opens the week before the activity on Monday at 8:30am and closes on Friday at 4pm.)  Please be sure to sign up for each group you are interested in registering your child for *Individually*. //\n\n\n\n\n\nProgrammation EN PERSONNE les jeudis de 10 H à 12 H en juillet.   Une série d’activités variées et amusantes offerte ou les enfants peuvent jouer\, apprendre des recettes\, faire du bricolage et se faire des amis!   INSCRIVEZ-VOUS en ligne – place limitées (Max. 12) – (L’inscription commence la semaine précédente l’événement le lundi à 8 h 30 et se termine le vendredi à 16 h.)  Veuillez vous assurer de vous inscrire pour chaque groupe auquel vous souhaitez inscrire votre enfant *individuellement*.\n\n\n\nENGLISH Description  (Snack and crafts)\n\n\n14:    Tie Dye (at Queenswood Ridge Park)\n21 :   DIY PlayDough and Sculpting (at Centre)\n 28 :  Park outing and Nature Art (at Queenswood Heights Centennial)\n\n\n  \nDescription en FRANÇAIS  (Collations et bricolages)\n \n\n 14:    Tie Dye (au parc Queensood Ridge)\n 21 :   Pâte à modeler maison et sculpture (au Centre)\n 28 :  Sortie au parc et art naturel (au parc Queenswood Heights Centennial)\n\n  \nIf you have complications registering online\, please contact Isabel OR call at 613-830-4357 ext. 177.  // Si l’inscription en ligne vous pose problème\, contacter Isabel ou appeler au 613-830-4357 poste 177.
URL:https://events-evenements.crcoc.ca/event-evenement/child-summer-programming-grade-1-to-6-programmation-dete-pour-enfants-1re-a-6e-annee-2-2022-07-21/
LOCATION:Ontario
CATEGORIES:Children & Youth-Enfants et jeunes
ATTACH;FMTTYPE=image/png:https://events-evenements.crcoc.ca/wp-content/uploads/2022/06/Summer-Program-pic.png
ORGANIZER;CN="Children & Youth | Enfants et jeunes":MAILTO:info@crcoc.ca
END:VEVENT
BEGIN:VEVENT
DTSTART;TZID=America/Toronto:20220721T150000
DTEND;TZID=America/Toronto:20220721T180000
DTSTAMP:20260423T033931
CREATED:20220624T062025Z
LAST-MODIFIED:20220624T062322Z
UID:13792-1658415600-1658426400@events-evenements.crcoc.ca
SUMMARY:Youth Space - Grade 7 to 12 //  Espace Jeunesse - 7e à 12e année
DESCRIPTION:Weekly\, ongoing program – Bilingual – In person – Thursdays.  A space to connect with other youth\, have fun\, share experiences\, relate with others and talk about things important to you.  Let’s get our summer vibes on with some art\, games\, challenges\, great conversation and more! \nRegister online to join us (limited spots 12 people).   If you have any complication registering please email Tanya. \n\nJuly– 3 pm to 6 pm  //  Juillet– 15 H  à 18 H\n\n7  –  2SLGBTQIA+ : & allies: Believe you can & you’re halfway there! ; Dinner:  Burgers\, salad & poutine //  Crois en toi et tu as une étape de faite !;  Souper :  Burgers\, salade et poutine\n14  –  Everyone /Toustes :  Consent is simple!; Dinner:  Mac & Cheese // Le consentement est simple !;  Souper : Mac & cheese\n21  –  Girls / Filles :  We rise by lifting others!; Dinner: Fried rice & wings // On se lève ensemble !; Souper : Riz frit et ailes de poulet\n28  –  Everyone /Toustes :  Be your own kind of beautiful!; Dinner:  Pizza & veggie tray // Tu es beau.elle comme tu est !; Souper : Pizza et plateau de légumes\n\n\n\nHebdomadaire\, programme continu – bilingue – En personne – les jeudis.  Un espace pour se connecter avec d’autres jeunes\, s’amuser\, partager des expériences et parler de choses importantes pour eux.  La fin de l’année scolaire approche\, donc…. mettons l’emphase sur prendre soin de nous\, de l’énergie positive et des stratégies pour surmonter tout ça! \nInscrivez en ligne pour nous joindre (places limitées 12 personnes).  Si l’inscription en ligne vous pose problème\, envoyer un courriel à Tanya.
URL:https://events-evenements.crcoc.ca/event-evenement/youth-space-grade-7-to-12-espace-jeunesse-7e-a-12e-annee-7-2022-07-21/
LOCATION:Ontario
CATEGORIES:Children & Youth-Enfants et jeunes
ATTACH;FMTTYPE=image/jpeg:https://events-evenements.crcoc.ca/wp-content/uploads/2021/01/Youth-Space-espace-jeunesse.jpg
ORGANIZER;CN="Children & Youth | Enfants et jeunes":MAILTO:info@crcoc.ca
END:VEVENT
END:VCALENDAR