BEGIN:VCALENDAR
VERSION:2.0
PRODID:-//OCCRC Events | Évènements CRCOC - ECPv6.15.18//NONSGML v1.0//EN
CALSCALE:GREGORIAN
METHOD:PUBLISH
X-ORIGINAL-URL:https://events-evenements.crcoc.ca
X-WR-CALDESC:Events for OCCRC Events | Évènements CRCOC
REFRESH-INTERVAL;VALUE=DURATION:PT1H
X-Robots-Tag:noindex
X-PUBLISHED-TTL:PT1H
BEGIN:VTIMEZONE
TZID:America/Toronto
BEGIN:DAYLIGHT
TZOFFSETFROM:-0500
TZOFFSETTO:-0400
TZNAME:EDT
DTSTART:20210314T070000
END:DAYLIGHT
BEGIN:STANDARD
TZOFFSETFROM:-0400
TZOFFSETTO:-0500
TZNAME:EST
DTSTART:20211107T060000
END:STANDARD
BEGIN:DAYLIGHT
TZOFFSETFROM:-0500
TZOFFSETTO:-0400
TZNAME:EDT
DTSTART:20220313T070000
END:DAYLIGHT
BEGIN:STANDARD
TZOFFSETFROM:-0400
TZOFFSETTO:-0500
TZNAME:EST
DTSTART:20221106T060000
END:STANDARD
BEGIN:DAYLIGHT
TZOFFSETFROM:-0500
TZOFFSETTO:-0400
TZNAME:EDT
DTSTART:20230312T070000
END:DAYLIGHT
BEGIN:STANDARD
TZOFFSETFROM:-0400
TZOFFSETTO:-0500
TZNAME:EST
DTSTART:20231105T060000
END:STANDARD
END:VTIMEZONE
BEGIN:VEVENT
DTSTART;TZID=America/Toronto:20220621T160000
DTEND;TZID=America/Toronto:20220621T180000
DTSTAMP:20260422T232925
CREATED:20220527T045532Z
LAST-MODIFIED:20220527T045810Z
UID:13600-1655827200-1655834400@events-evenements.crcoc.ca
SUMMARY:Kids Space - Grade 1 to 6 - In-person // Espace Enfants - 1re à 6e année - En personne
DESCRIPTION:IN-PERSON programming on Tuesdays from 4pm – 6pm in June.  A space to connect with other kids\, have fun\, learn some strategies and talk!  REGISTER online – (Registration opens every Friday at 8:30am for the following week.) //\n\n\n\n\n\nEN PERSONNE les mardis de 16 H à 18 H en juin.   Un espace pour se connecter avec d’autres enfants\, s’asumer\, apprendre des stratégies et parler!   INSCRIVEZ-VOUS en ligne – (L’inscription ouvre tous les vendredis à 8h30 pour la semaine suivant.)\n\n\n\nENGLISH Description\n\n7:   Celebrating Differences\n14 :  Mad Science!\n 21 :  Movie Night and Pizza Supper  (movie TBD) \n\n  \nDescription en FRANÇAIS \n\n7 :   Célébrons nos différences\n14 :   Science-folie!\n 21 : Soirée film et souper pizza (film à déterminer)\n\n  \nIf you have complications registering online\, please contact Isabel.  // Si l’inscription en ligne vous pose problème\, contacter Isabel.
URL:https://events-evenements.crcoc.ca/event-evenement/kids-space-grade-1-to-6-in-person-espace-enfants-1re-a-6e-annee-en-personne-9-2022-06-21/
LOCATION:Ontario
CATEGORIES:Children & Youth-Enfants et jeunes
ATTACH;FMTTYPE=image/jpeg:https://events-evenements.crcoc.ca/wp-content/uploads/2021/01/kids-space-espace-enfants.jpg
ORGANIZER;CN="Children & Youth | Enfants et jeunes":MAILTO:info@crcoc.ca
END:VEVENT
BEGIN:VEVENT
DTSTART;TZID=America/Toronto:20220622T100000
DTEND;TZID=America/Toronto:20220622T110000
DTSTAMP:20260422T232925
CREATED:20220527T042009Z
LAST-MODIFIED:20220527T042009Z
UID:13560-1655892000-1655895600@events-evenements.crcoc.ca
SUMMARY:Process art workshop!  // Atelier sur le processus créatif!
DESCRIPTION:Let’s meet at the Orléans-Cumberland Community Resource Centre (240 Centrum Blvd.\, Unit 105 – Orléans).  Registration is required!\n \nThis art workshop focuses on the process of creation which will help children develop their imagination and creativity while having fun discovering and exploring different art mediums. This activity is geared towards children aged 2 to 6.  //\n \n  \nJoignez-vous à nous au Centre de ressources communautaires Orléans-Cumberland (240 boulevard Centrum unité 105 à Orléans).  Inscription requise! \nCet atelier d’art axé sur le processus de création permettra aux enfants de développer leur imagination et leur créativité tout en s’amusant à découvrir et explorer plusieurs médiums. Cette activité est idéale pour les enfants de 2 à 6 ans.
URL:https://events-evenements.crcoc.ca/event-evenement/process-art-workshop-atelier-sur-le-processus-creatif-2/
LOCATION:Ontario
CATEGORIES:Early ON-ON y va
ATTACH;FMTTYPE=image/png:https://events-evenements.crcoc.ca/wp-content/uploads/2022/04/Art-Workshop-Pic.png
ORGANIZER;CN="EarlyON | ON y va":MAILTO:EarlyONyva@crcoc.ca
END:VEVENT
BEGIN:VEVENT
DTSTART;TZID=America/Toronto:20220622T110000
DTEND;TZID=America/Toronto:20220622T113000
DTSTAMP:20260422T232925
CREATED:20220527T035119Z
LAST-MODIFIED:20220527T040129Z
UID:13541-1655895600-1655897400@events-evenements.crcoc.ca
SUMMARY:Virtual interactive circle time! // Temps de cercle virtuel interactif!
DESCRIPTION:Come sing\, play and have fun during our virtual circle time! The songs\, rhymes and story time will be enjoyable for all children! // \n  \nVenez chanter\, jouer et vous amusez avec nous durant nos temps de cercle virtuel! Les chansons\, comptines et histoires plairont aux plus petits comme aux plus grands!
URL:https://events-evenements.crcoc.ca/event-evenement/virtual-interactive-circle-time-temps-de-cercle-virtuel-interactif-8-2022-06-22/
LOCATION:Ontario
CATEGORIES:Early ON-ON y va
ATTACH;FMTTYPE=image/jpeg:https://events-evenements.crcoc.ca/wp-content/uploads/2022/05/Circle-time-Pic.jpg
ORGANIZER;CN="EarlyON | ON y va":MAILTO:EarlyONyva@crcoc.ca
END:VEVENT
BEGIN:VEVENT
DTSTART;TZID=America/Toronto:20220623T160000
DTEND;TZID=America/Toronto:20220623T180000
DTSTAMP:20260422T232925
CREATED:20220527T053409Z
LAST-MODIFIED:20220527T053610Z
UID:13613-1656000000-1656007200@events-evenements.crcoc.ca
SUMMARY:Youth Space - Grade 7 to 12 //  Espace Jeunesse - 7e à 12e année
DESCRIPTION:Weekly\, ongoing program – Bilingual – In person – Thursdays.  A space to connect with other youth\, have fun\, share experiences and talk about things important to them.  It’s the final crunch of the school year\, so lettuce turnip the beet with some self-care\, positive vibes and strategies to get through it all! \nRegister online to join us (limited spots 12 people).   If you have any complication registering please email Tanya. \n\nJune– 4 pm to 6:30 pm  //  Juin– 16 H  à 18 H 30\n\n2  –  2SLGBTQIA+ : & allies: Portob-hello!; Dinner: Stuffed portobellos & quinoa salad//  Portob-allô !;  Souper :  Portobellos farcis et salade de quinoa\n9  –  Everyone /Toustes :  Lettuce do our best!; Dinner: Lettuce wraps & spring rolls // Fraise-ons de notre mieux !;  Souper : Rouleaux de laitue et de printemps\n16  –  Girls / Filles :  You’re one in a melon!; Dinner: Burgers\, coleslaw & smoothies // Vous êtes un.e sur un miel-on !; Souper : Burgers\, salade de chou et smoothies\n23  –  Everyone /Toustes :  We’re raisin the roof!; Dinner:  Tacos & Mexican inspired salad // Célébrons la fenouil de l’année !; Souper : Tacos et salade d’inscription mexicaine\n30 – No Group //  Groupe Fermé\n\n\n\nHebdomadaire\, programme continu – bilingue – En personne – les jeudis.  Un espace pour se connecter avec d’autres jeunes\, s’amuser\, partager des expériences et parler de choses importantes pour eux.  La fin de l’année scolaire approche\, donc…. mettons l’emphase sur prendre soin de nous\, de l’énergie positive et des stratégies pour surmonter tout ça! \nInscrivez en ligne pour nous joindre (places limitées 12 personnes).  Si l’inscription en ligne vous pose problème\, envoyer un courriel à Tanya.
URL:https://events-evenements.crcoc.ca/event-evenement/youth-space-grade-7-to-12-espace-jeunesse-7e-a-12e-annee-6-2022-06-23/
LOCATION:Ontario
CATEGORIES:Children & Youth-Enfants et jeunes
ATTACH;FMTTYPE=image/jpeg:https://events-evenements.crcoc.ca/wp-content/uploads/2021/01/Youth-Space-espace-jeunesse.jpg
ORGANIZER;CN="Children & Youth | Enfants et jeunes":MAILTO:info@crcoc.ca
END:VEVENT
BEGIN:VEVENT
DTSTART;TZID=America/Toronto:20220624T133000
DTEND;TZID=America/Toronto:20220624T153000
DTSTAMP:20260422T232925
CREATED:20220531T190215Z
LAST-MODIFIED:20220531T190237Z
UID:13642-1656077400-1656084600@events-evenements.crcoc.ca
SUMMARY:A taste of Mexico - Via Zoom - English
DESCRIPTION:A taste of Mexico – June 24th at 1:30pm — Via Zoom — English only \nIf interested – ingredients will be provided! \nTo register – please contact Gabriela at gabriela@crcoc.ca OR call 613-830-4357 ext. 166
URL:https://events-evenements.crcoc.ca/event-evenement/a-taste-of-mexico-via-zoom-english/
LOCATION:Ontario
CATEGORIES:Community Engagement-Engagement communautaire
ATTACH;FMTTYPE=image/png:https://events-evenements.crcoc.ca/wp-content/uploads/2022/05/Cooking-workshop-June-24.png
END:VEVENT
BEGIN:VEVENT
DTSTART;TZID=America/Toronto:20220625T100000
DTEND;TZID=America/Toronto:20220625T130000
DTSTAMP:20260422T232925
CREATED:20220527T044343Z
LAST-MODIFIED:20220527T044343Z
UID:13591-1656151200-1656162000@events-evenements.crcoc.ca
SUMMARY:Celebrate Together!!! //  Fêtons ensemble!!!
DESCRIPTION:The party will take place at the Queenswoods Heights park\, 1485 Duford Drive. (In case of rain\, an other location will be announced on our Website.)   \nThis day is just for you! We want to celebrate you and your family.  Join our wonderful team for an exciting and fun time. Junkyard symphony\, Ballet Folklorico Aztlan\, face painting and much more will be on the menu. Families are welcome to bring a picnic and blanket. //\n \n  \nLa fête aura lieu au parc de Queenswood Heights\, 1485 promenade Duford. (En cas de pluie\, un autre lieu sera annoncé sur notre site Web.) \nCette journée est spécialement pour vous! Nous voulons célébrer votre famille en grand.  Joingez-vous à notre merveilleuse équipe pour un temps rempli de plaisir. ”Junkyard symphony”\, Ballet Folklorico Aztlan\, du maquillage d’enfant et beaucoup plus feront partie de la fête. Chaque famille est invitée à apporter leur pique-nique et couverture.
URL:https://events-evenements.crcoc.ca/event-evenement/celebrate-together-fetons-ensemble/
LOCATION:Ontario
CATEGORIES:Early ON-ON y va
ATTACH;FMTTYPE=image/jpeg:https://events-evenements.crcoc.ca/wp-content/uploads/2022/05/Celebrate-together-PIC.jpg
ORGANIZER;CN="EarlyON | ON y va":MAILTO:EarlyONyva@crcoc.ca
END:VEVENT
END:VCALENDAR