BEGIN:VCALENDAR
VERSION:2.0
PRODID:-//OCCRC Events | Évènements CRCOC - ECPv6.15.18//NONSGML v1.0//EN
CALSCALE:GREGORIAN
METHOD:PUBLISH
X-ORIGINAL-URL:https://events-evenements.crcoc.ca
X-WR-CALDESC:Events for OCCRC Events | Évènements CRCOC
REFRESH-INTERVAL;VALUE=DURATION:PT1H
X-Robots-Tag:noindex
X-PUBLISHED-TTL:PT1H
BEGIN:VTIMEZONE
TZID:America/Toronto
BEGIN:DAYLIGHT
TZOFFSETFROM:-0500
TZOFFSETTO:-0400
TZNAME:EDT
DTSTART:20210314T070000
END:DAYLIGHT
BEGIN:STANDARD
TZOFFSETFROM:-0400
TZOFFSETTO:-0500
TZNAME:EST
DTSTART:20211107T060000
END:STANDARD
BEGIN:DAYLIGHT
TZOFFSETFROM:-0500
TZOFFSETTO:-0400
TZNAME:EDT
DTSTART:20220313T070000
END:DAYLIGHT
BEGIN:STANDARD
TZOFFSETFROM:-0400
TZOFFSETTO:-0500
TZNAME:EST
DTSTART:20221106T060000
END:STANDARD
BEGIN:DAYLIGHT
TZOFFSETFROM:-0500
TZOFFSETTO:-0400
TZNAME:EDT
DTSTART:20230312T070000
END:DAYLIGHT
BEGIN:STANDARD
TZOFFSETFROM:-0400
TZOFFSETTO:-0500
TZNAME:EST
DTSTART:20231105T060000
END:STANDARD
END:VTIMEZONE
BEGIN:VEVENT
DTSTART;TZID=America/Toronto:20220614T160000
DTEND;TZID=America/Toronto:20220614T180000
DTSTAMP:20260422T214433
CREATED:20220527T045532Z
LAST-MODIFIED:20220527T045916Z
UID:13599-1655222400-1655229600@events-evenements.crcoc.ca
SUMMARY:Kids Space - Grade 1 to 6 - In-person // Espace Enfants - 1re à 6e année - En personne
DESCRIPTION:IN-PERSON programming on Tuesdays from 4pm – 6pm in June.  A space to connect with other kids\, have fun\, learn some strategies and talk!  REGISTER online – (Registration opens every Friday at 8:30am for the following week.) //\n\n\n\n\n\nEN PERSONNE les mardis de 16 H à 18 H en juin.   Un espace pour se connecter avec d’autres enfants\, s’asumer\, apprendre des stratégies et parler!   INSCRIVEZ-VOUS en ligne – (L’inscription ouvre tous les vendredis à 8h30 pour la semaine suivant.)\n\n\n\nENGLISH Description\n\n7:   Celebrating Differences\n14 :  Mad Science!\n 21 :  Movie Night and Pizza Supper  (movie TBD) \n\n  \nDescription en FRANÇAIS \n\n7 :   Célébrons nos différences\n14 :   Science-folie!\n 21 : Soirée film et souper pizza (film à déterminer)\n\n  \nIf you have complications registering online\, please contact Isabel.  // Si l’inscription en ligne vous pose problème\, contacter Isabel.
URL:https://events-evenements.crcoc.ca/event-evenement/kids-space-grade-1-to-6-in-person-espace-enfants-1re-a-6e-annee-en-personne-9-2022-06-14/
LOCATION:Ontario
CATEGORIES:Children & Youth-Enfants et jeunes
ATTACH;FMTTYPE=image/jpeg:https://events-evenements.crcoc.ca/wp-content/uploads/2021/01/kids-space-espace-enfants.jpg
ORGANIZER;CN="Children & Youth | Enfants et jeunes":MAILTO:info@crcoc.ca
END:VEVENT
BEGIN:VEVENT
DTSTART;TZID=America/Toronto:20220615T103000
DTEND;TZID=America/Toronto:20220615T120000
DTSTAMP:20260422T214433
CREATED:20220527T041609Z
LAST-MODIFIED:20220602T162818Z
UID:13556-1655289000-1655294400@events-evenements.crcoc.ca
SUMMARY:Walk and picnic at Petrie Island //  Promenade et pique nique à L'île Petrie
DESCRIPTION:This activity will take place at Petrie Island (795 Trim Road)  – Registration is required.  Join us for a walk in the nature followed by a picnic together.  Don’t forget to bring your lunch and blanket.  Please note that this activity will take place rain or shine.  **Meeting place: At the entrance of the turtle trail**  //\n \n  \nCette activité aura lieu à l’île Petrie (795 Trim Road) – Inscription requise.  Joignez-vous à nous pour une promenade en nature suivi d’un pique nique ensemble.  N’oubliez pas d’apporter votre dîner et votre couverture. Veuillez noter que l’activité aura lieu même s’il pleut.  **Point de rencontre : À l’entrée du sentier des tortues** \n  \n 
URL:https://events-evenements.crcoc.ca/event-evenement/walk-and-picnic-at-petrie-island-promenade-et-pique-nique-a-lile-petrie-2/
LOCATION:Ontario
CATEGORIES:Early ON-ON y va
ATTACH;FMTTYPE=image/jpeg:https://events-evenements.crcoc.ca/wp-content/uploads/2022/05/Walk-in-the-park-Pic.jpg
ORGANIZER;CN="EarlyON | ON y va":MAILTO:EarlyONyva@crcoc.ca
END:VEVENT
BEGIN:VEVENT
DTSTART;TZID=America/Toronto:20220615T110000
DTEND;TZID=America/Toronto:20220615T113000
DTSTAMP:20260422T214433
CREATED:20220527T035119Z
LAST-MODIFIED:20220610T144210Z
UID:13540-1655290800-1655292600@events-evenements.crcoc.ca
SUMMARY:CANCELLED - Virtual interactive circle time! // ANNULÉ - Temps de cercle virtuel interactif!
DESCRIPTION:Come sing\, play and have fun during our virtual circle time! The songs\, rhymes and story time will be enjoyable for all children! // \n  \nVenez chanter\, jouer et vous amusez avec nous durant nos temps de cercle virtuel! Les chansons\, comptines et histoires plairont aux plus petits comme aux plus grands!
URL:https://events-evenements.crcoc.ca/event-evenement/virtual-interactive-circle-time-temps-de-cercle-virtuel-interactif-8-2022-06-15/
LOCATION:Ontario
CATEGORIES:Early ON-ON y va
ATTACH;FMTTYPE=image/jpeg:https://events-evenements.crcoc.ca/wp-content/uploads/2022/05/Circle-time-Pic.jpg
ORGANIZER;CN="EarlyON | ON y va":MAILTO:EarlyONyva@crcoc.ca
END:VEVENT
BEGIN:VEVENT
DTSTART;TZID=America/Toronto:20220616T160000
DTEND;TZID=America/Toronto:20220616T180000
DTSTAMP:20260422T214433
CREATED:20220527T053409Z
LAST-MODIFIED:20220616T160955Z
UID:13612-1655395200-1655402400@events-evenements.crcoc.ca
SUMMARY:CANCELLED - Youth Space - Grade 7 to 12 //  ANNULÉ - Espace Jeunesse - 7e à 12e année
DESCRIPTION:Weekly\, ongoing program – Bilingual – In person – Thursdays.  A space to connect with other youth\, have fun\, share experiences and talk about things important to them.  It’s the final crunch of the school year\, so lettuce turnip the beet with some self-care\, positive vibes and strategies to get through it all! \nRegister online to join us (limited spots 12 people).   If you have any complication registering please email Tanya. \n\nJune– 4 pm to 6:30 pm  //  Juin– 16 H  à 18 H 30\n\n2  –  2SLGBTQIA+ : & allies: Portob-hello!; Dinner: Stuffed portobellos & quinoa salad//  Portob-allô !;  Souper :  Portobellos farcis et salade de quinoa\n9  –  Everyone /Toustes :  Lettuce do our best!; Dinner: Lettuce wraps & spring rolls // Fraise-ons de notre mieux !;  Souper : Rouleaux de laitue et de printemps\n16  –  Girls / Filles :  You’re one in a melon!; Dinner: Burgers\, coleslaw & smoothies // Vous êtes un.e sur un miel-on !; Souper : Burgers\, salade de chou et smoothies\n23  –  Everyone /Toustes :  We’re raisin the roof!; Dinner:  Tacos & Mexican inspired salad // Célébrons la fenouil de l’année !; Souper : Tacos et salade d’inscription mexicaine\n30 – No Group //  Groupe Fermé\n\n\n\nHebdomadaire\, programme continu – bilingue – En personne – les jeudis.  Un espace pour se connecter avec d’autres jeunes\, s’amuser\, partager des expériences et parler de choses importantes pour eux.  La fin de l’année scolaire approche\, donc…. mettons l’emphase sur prendre soin de nous\, de l’énergie positive et des stratégies pour surmonter tout ça! \nInscrivez en ligne pour nous joindre (places limitées 12 personnes).  Si l’inscription en ligne vous pose problème\, envoyer un courriel à Tanya.
URL:https://events-evenements.crcoc.ca/event-evenement/youth-space-grade-7-to-12-espace-jeunesse-7e-a-12e-annee-6-2022-06-16/
LOCATION:Ontario
CATEGORIES:Children & Youth-Enfants et jeunes
ATTACH;FMTTYPE=image/jpeg:https://events-evenements.crcoc.ca/wp-content/uploads/2021/01/Youth-Space-espace-jeunesse.jpg
ORGANIZER;CN="Children & Youth | Enfants et jeunes":MAILTO:info@crcoc.ca
END:VEVENT
END:VCALENDAR