BEGIN:VCALENDAR
VERSION:2.0
PRODID:-//OCCRC Events | Évènements CRCOC - ECPv6.15.18//NONSGML v1.0//EN
CALSCALE:GREGORIAN
METHOD:PUBLISH
X-ORIGINAL-URL:https://events-evenements.crcoc.ca
X-WR-CALDESC:Events for OCCRC Events | Évènements CRCOC
REFRESH-INTERVAL;VALUE=DURATION:PT1H
X-Robots-Tag:noindex
X-PUBLISHED-TTL:PT1H
BEGIN:VTIMEZONE
TZID:America/Toronto
BEGIN:DAYLIGHT
TZOFFSETFROM:-0500
TZOFFSETTO:-0400
TZNAME:EDT
DTSTART:20210314T070000
END:DAYLIGHT
BEGIN:STANDARD
TZOFFSETFROM:-0400
TZOFFSETTO:-0500
TZNAME:EST
DTSTART:20211107T060000
END:STANDARD
BEGIN:DAYLIGHT
TZOFFSETFROM:-0500
TZOFFSETTO:-0400
TZNAME:EDT
DTSTART:20220313T070000
END:DAYLIGHT
BEGIN:STANDARD
TZOFFSETFROM:-0400
TZOFFSETTO:-0500
TZNAME:EST
DTSTART:20221106T060000
END:STANDARD
BEGIN:DAYLIGHT
TZOFFSETFROM:-0500
TZOFFSETTO:-0400
TZNAME:EDT
DTSTART:20230312T070000
END:DAYLIGHT
BEGIN:STANDARD
TZOFFSETFROM:-0400
TZOFFSETTO:-0500
TZNAME:EST
DTSTART:20231105T060000
END:STANDARD
END:VTIMEZONE
BEGIN:VEVENT
DTSTART;TZID=America/Toronto:20220606T093000
DTEND;TZID=America/Toronto:20220606T110000
DTSTAMP:20260422T231957
CREATED:20220527T034420Z
LAST-MODIFIED:20220527T034420Z
UID:13520-1654507800-1654513200@events-evenements.crcoc.ca
SUMMARY:Groupe de jeu francophone au Centre ON y va!
DESCRIPTION:Joignez-vous à nous au Centre de ressources communautaires Orléans-Cumberland (240 boulevard Centrum unité 105 à Orléans) pour un groupe de jeu en personne! \nConçu pour permettre aux enfants de 0 à 6 ans de vivre des expériences d’apprentissage par le jeu amusantes et stimulantes! \n  \nA NOTER:  Nous sommes très heureuses de vous annoncer qu’à partir du mois de mai\, les inscriptions pour les groupes de jeu ne seront plus nécessaires! Nos groupes de jeu seront maintenant des portes ouvertes\, premier arrivé / premier servi. \nÀ partir de 9h30\, Une intervenante auprès de la famille vous accueillera et vous distribuera un numéro pour participer au groupe de jeu. \nNous vous demandons de ne pas arriver avant 9h30. La même chose s’applique pour les groupes de jeu pour bébés qui débutent à 13h30 car aucune salle d’attente n’est disponible. \nLorsque le groupe de jeu est complet\, une affiche sera mise dans la vitrine à la porte d’entrée. Nous publierons aussi un message sur notre page Facebook : https://www.facebook.com/earlyonorleans
URL:https://events-evenements.crcoc.ca/event-evenement/groupe-de-jeu-francophone-au-centre-on-y-va-13/2022-06-06/
LOCATION:Ontario
CATEGORIES:Early ON-ON y va
ATTACH;FMTTYPE=image/jpeg:https://events-evenements.crcoc.ca/wp-content/uploads/2022/05/Francophone-Group-Pic.jpg
ORGANIZER;CN="EarlyON | ON y va":MAILTO:EarlyONyva@crcoc.ca
END:VEVENT
BEGIN:VEVENT
DTSTART;TZID=America/Toronto:20220606T133000
DTEND;TZID=America/Toronto:20220606T150000
DTSTAMP:20260422T231957
CREATED:20220527T034609Z
LAST-MODIFIED:20220527T034609Z
UID:13526-1654522200-1654527600@events-evenements.crcoc.ca
SUMMARY:Baby & Me playgroup at the EarlyON Centre! // Groupe de jeu Bébé & Moi au Centre ON y va!
DESCRIPTION:Let’s meet at the Orléans-Cumberland Community Resource Centre (240 Centrum boulevard unit 105) for an in person playgroup! This program is geared towards babies from birth to 12 months old. With a small group of parents and babies\, you will have the opportunity to chat\, share parenting stories and socialize in a safe and friendly environment.  // Joignez-vous à nous au Centre de ressources communautaires Orléans-Cumberland (240 boulevard Centrum unité 105) pour un groupe de jeu en personne! Ce groupe est conçu pour les bébés de la naissance à 12 mois. Avec un petit groupe de parents et bébés\, venez discuter et partager vos histoires avec d’autres parents ou socialiser dans un environnement amicale et sécuritaire. \n  \nPLEASE NOTE:  We are very happy to announce that starting in May\, online registration for playgroups will no longer be required! Our playgroups will now be Drop in’s\, first come / first served. \nStarting at 9:30a.m.\, a Family Resource Worker will greet and give you a number to attend the playgroup.  We ask that you arrive no earlier then 9:30 a.m. the same applies for the baby playgroup at 1:30 p.m. since we don’t have a waiting room available. \nWhen the playgroup is full\, we will have a sign on the window beside the front door. We will also post a message on our Facebook page: https://www.facebook.com/earlyonorleans  // \n  \nA NOTER:  Nous sommes très heureuses de vous annoncer qu’à partir du mois de mai\, les inscriptions pour les groupes de jeu ne seront plus nécessaires! Nos groupes de jeu seront maintenant des portes ouvertes\, premier arrivé / premier servi. \nÀ partir de 9h30\, Une intervenante auprès de la famille vous accueillera et vous distribuera un numéro pour participer au groupe de jeu.  Nous vous demandons de ne pas arriver avant 9h30. La même chose s’applique pour les groupes de jeu pour bébés qui débutent à 13h30 car aucune salle d’attente n’est disponible. \nLorsque le groupe de jeu est complet\, une affiche sera mise dans la vitrine à la porte d’entrée. Nous publierons aussi un message sur notre page Facebook : https://www.facebook.com/earlyonorleans
URL:https://events-evenements.crcoc.ca/event-evenement/baby-me-playgroup-at-the-earlyon-centre-groupe-de-jeu-bebe-moi-au-centre-on-y-va-12/2022-06-06/
LOCATION:Ontario
CATEGORIES:Early ON-ON y va
ATTACH;FMTTYPE=image/jpeg:https://events-evenements.crcoc.ca/wp-content/uploads/2021/09/Baby-Me-Picture.jpg
ORGANIZER;CN="EarlyON | ON y va":MAILTO:EarlyONyva@crcoc.ca
END:VEVENT
BEGIN:VEVENT
DTSTART;TZID=America/Toronto:20220607T093000
DTEND;TZID=America/Toronto:20220607T110000
DTSTAMP:20260422T231957
CREATED:20220527T034800Z
LAST-MODIFIED:20220527T034800Z
UID:13531-1654594200-1654599600@events-evenements.crcoc.ca
SUMMARY:English playgroup at the EarlyON Centre!
DESCRIPTION:Let’s meet at the Orléans-Cumberland Community Resource Centre (240 Centrum boulevard unit 105) for an in person playgroup! This program is geared towards children 0 to 6 years old. Children will enjoy play based learning experiences that are fun and engaging.  All participants will be ask to use the front door facing St-Joseph Boulevard to acces the EarlyON Centre. \n  \nPLEASE NOTE:  We are very happy to announce that starting in May\, online registration for playgroups will no longer be required! Our playgroups will now be Drop in’s\, first come / first served. \nStarting at 9:30a.m.\, a Family Resource Worker will greet and give you a number to attend the playgroup.  We ask that you arrive no earlier then 9:30 a.m. the same applies for the baby playgroup at 1:30 p.m. since we don’t have a waiting room available. \nWhen the playgroup is full\, we will have a sign on the window beside the front door. We will also post a message on our Facebook page: https://www.facebook.com/earlyonorleans
URL:https://events-evenements.crcoc.ca/event-evenement/english-playgroup-at-the-earlyon-centre-15/2022-06-07/
LOCATION:Ontario
CATEGORIES:Early ON-ON y va
ATTACH;FMTTYPE=image/jpeg:https://events-evenements.crcoc.ca/wp-content/uploads/2022/05/Francophone-Group-Pic.jpg
ORGANIZER;CN="EarlyON | ON y va":MAILTO:EarlyONyva@crcoc.ca
END:VEVENT
BEGIN:VEVENT
DTSTART;TZID=America/Toronto:20220607T160000
DTEND;TZID=America/Toronto:20220607T180000
DTSTAMP:20260422T231957
CREATED:20220527T045532Z
LAST-MODIFIED:20220527T045932Z
UID:13594-1654617600-1654624800@events-evenements.crcoc.ca
SUMMARY:Kids Space - Grade 1 to 6 - In-person // Espace Enfants - 1re à 6e année - En personne
DESCRIPTION:IN-PERSON programming on Tuesdays from 4pm – 6pm in June.  A space to connect with other kids\, have fun\, learn some strategies and talk!  REGISTER online – (Registration opens every Friday at 8:30am for the following week.) //\n\n\n\n\n\nEN PERSONNE les mardis de 16 H à 18 H en juin.   Un espace pour se connecter avec d’autres enfants\, s’asumer\, apprendre des stratégies et parler!   INSCRIVEZ-VOUS en ligne – (L’inscription ouvre tous les vendredis à 8h30 pour la semaine suivant.)\n\n\n\nENGLISH Description\n\n7:   Celebrating Differences\n14 :  Mad Science!\n 21 :  Movie Night and Pizza Supper  (movie TBD) \n\n  \nDescription en FRANÇAIS \n\n7 :   Célébrons nos différences\n14 :   Science-folie!\n 21 : Soirée film et souper pizza (film à déterminer)\n\n  \nIf you have complications registering online\, please contact Isabel.  // Si l’inscription en ligne vous pose problème\, contacter Isabel.
URL:https://events-evenements.crcoc.ca/event-evenement/kids-space-grade-1-to-6-in-person-espace-enfants-1re-a-6e-annee-en-personne-9/
LOCATION:Ontario
CATEGORIES:Children & Youth-Enfants et jeunes
ATTACH;FMTTYPE=image/jpeg:https://events-evenements.crcoc.ca/wp-content/uploads/2021/01/kids-space-espace-enfants.jpg
ORGANIZER;CN="Children & Youth | Enfants et jeunes":MAILTO:info@crcoc.ca
END:VEVENT
BEGIN:VEVENT
DTSTART;TZID=America/Toronto:20220608T100000
DTEND;TZID=America/Toronto:20220608T110000
DTSTAMP:20260422T231957
CREATED:20220527T040933Z
LAST-MODIFIED:20220527T040933Z
UID:13552-1654682400-1654686000@events-evenements.crcoc.ca
SUMMARY:Introduction to Infant Massage //  Introduction au massage pour bébés
DESCRIPTION:Let’s meet at the Orléans-Cumberland Community Resource Centre (240 Centrum boulevard unit 105) for an infant massage workshop!  There are many benefits of Infant Massage. Together we will explore different ways to massage baby\, and enjoy the interactions among parents. // \n  \nJoignez-vous à nous au Centre de ressources communautaires Orléans-Cumberland (240 boulevard Centrum unité 105 à Orléans) pour un atelier de massage pour bébés.  Il y a plusieurs bienfaits au massage pour bébés. Ensemble\, nous explorerons différentes façons de masser bébé et nous en profiterons pour discuter entres parents.
URL:https://events-evenements.crcoc.ca/event-evenement/introduction-to-infant-massage-introduction-au-massage-pour-bebes/
LOCATION:Ontario
CATEGORIES:Early ON-ON y va
ATTACH;FMTTYPE=image/jpeg:https://events-evenements.crcoc.ca/wp-content/uploads/2021/08/Infant-Message-Pic.jpg
ORGANIZER;CN="EarlyON | ON y va":MAILTO:EarlyONyva@crcoc.ca
END:VEVENT
BEGIN:VEVENT
DTSTART;TZID=America/Toronto:20220608T110000
DTEND;TZID=America/Toronto:20220608T113000
DTSTAMP:20260422T231957
CREATED:20220527T035119Z
LAST-MODIFIED:20220527T040300Z
UID:13539-1654686000-1654687800@events-evenements.crcoc.ca
SUMMARY:Virtual interactive circle time! // Temps de cercle virtuel interactif!
DESCRIPTION:Come sing\, play and have fun during our virtual circle time! The songs\, rhymes and story time will be enjoyable for all children! // \n  \nVenez chanter\, jouer et vous amusez avec nous durant nos temps de cercle virtuel! Les chansons\, comptines et histoires plairont aux plus petits comme aux plus grands!
URL:https://events-evenements.crcoc.ca/event-evenement/virtual-interactive-circle-time-temps-de-cercle-virtuel-interactif-8-2022-06-08/
LOCATION:Ontario
CATEGORIES:Early ON-ON y va
ATTACH;FMTTYPE=image/jpeg:https://events-evenements.crcoc.ca/wp-content/uploads/2022/05/Circle-time-Pic.jpg
ORGANIZER;CN="EarlyON | ON y va":MAILTO:EarlyONyva@crcoc.ca
END:VEVENT
BEGIN:VEVENT
DTSTART;TZID=America/Toronto:20220609T160000
DTEND;TZID=America/Toronto:20220609T180000
DTSTAMP:20260422T231957
CREATED:20220527T053409Z
LAST-MODIFIED:20220527T053952Z
UID:13611-1654790400-1654797600@events-evenements.crcoc.ca
SUMMARY:Youth Space - Grade 7 to 12 //  Espace Jeunesse - 7e à 12e année
DESCRIPTION:Weekly\, ongoing program – Bilingual – In person – Thursdays.  A space to connect with other youth\, have fun\, share experiences and talk about things important to them.  It’s the final crunch of the school year\, so lettuce turnip the beet with some self-care\, positive vibes and strategies to get through it all! \nRegister online to join us (limited spots 12 people).   If you have any complication registering please email Tanya. \n\nJune– 4 pm to 6:30 pm  //  Juin– 16 H  à 18 H 30\n\n2  –  2SLGBTQIA+ : & allies: Portob-hello!; Dinner: Stuffed portobellos & quinoa salad//  Portob-allô !;  Souper :  Portobellos farcis et salade de quinoa\n9  –  Everyone /Toustes :  Lettuce do our best!; Dinner: Lettuce wraps & spring rolls // Fraise-ons de notre mieux !;  Souper : Rouleaux de laitue et de printemps\n16  –  Girls / Filles :  You’re one in a melon!; Dinner: Burgers\, coleslaw & smoothies // Vous êtes un.e sur un miel-on !; Souper : Burgers\, salade de chou et smoothies\n23  –  Everyone /Toustes :  We’re raisin the roof!; Dinner:  Tacos & Mexican inspired salad // Célébrons la fenouil de l’année !; Souper : Tacos et salade d’inscription mexicaine\n30 – No Group //  Groupe Fermé\n\n\n\nHebdomadaire\, programme continu – bilingue – En personne – les jeudis.  Un espace pour se connecter avec d’autres jeunes\, s’amuser\, partager des expériences et parler de choses importantes pour eux.  La fin de l’année scolaire approche\, donc…. mettons l’emphase sur prendre soin de nous\, de l’énergie positive et des stratégies pour surmonter tout ça! \nInscrivez en ligne pour nous joindre (places limitées 12 personnes).  Si l’inscription en ligne vous pose problème\, envoyer un courriel à Tanya.
URL:https://events-evenements.crcoc.ca/event-evenement/youth-space-grade-7-to-12-espace-jeunesse-7e-a-12e-annee-6-2022-06-09/
LOCATION:Ontario
CATEGORIES:Children & Youth-Enfants et jeunes
ATTACH;FMTTYPE=image/jpeg:https://events-evenements.crcoc.ca/wp-content/uploads/2021/01/Youth-Space-espace-jeunesse.jpg
ORGANIZER;CN="Children & Youth | Enfants et jeunes":MAILTO:info@crcoc.ca
END:VEVENT
BEGIN:VEVENT
DTSTART;TZID=America/Toronto:20220611T093000
DTEND;TZID=America/Toronto:20220611T110000
DTSTAMP:20260422T231957
CREATED:20220527T044041Z
LAST-MODIFIED:20220527T044041Z
UID:13588-1654939800-1654945200@events-evenements.crcoc.ca
SUMMARY:Saturday playgroup at the EarlyON Centre! //  Groupe de jeu du samedi au Centre ON y va!
DESCRIPTION:Let’s meet at the Orléans-Cumberland Community Resource Centre (240 Centrum boulevard unit 105) for a Drop-in playgroup! This program is geared towards children 0 to 6 years old. Children will enjoy play based learning experiences that are fun and engaging.   //\n \n  \nJoignez-vous à nous au Centre de ressources communautaires Orléans-Cumberland (240 boulevard Centrum unité 105 à Orléans) pour un groupe de jeu porte-ouverte!  Conçu pour permettre aux enfants de 0 à 6 ans de vivre des expériences d’apprentissage par le jeu amusantes et stimulantes!  
URL:https://events-evenements.crcoc.ca/event-evenement/saturday-playgroup-at-the-earlyon-centre-groupe-de-jeu-du-samedi-au-centre-on-y-va-6/
LOCATION:Ontario
CATEGORIES:Early ON-ON y va
ATTACH;FMTTYPE=image/jpeg:https://events-evenements.crcoc.ca/wp-content/uploads/2022/05/Francophone-Group-Pic.jpg
ORGANIZER;CN="EarlyON | ON y va":MAILTO:EarlyONyva@crcoc.ca
END:VEVENT
END:VCALENDAR