BEGIN:VCALENDAR
VERSION:2.0
PRODID:-//OCCRC Events | Évènements CRCOC - ECPv6.15.18//NONSGML v1.0//EN
CALSCALE:GREGORIAN
METHOD:PUBLISH
X-WR-CALNAME:OCCRC Events | Évènements CRCOC
X-ORIGINAL-URL:https://events-evenements.crcoc.ca
X-WR-CALDESC:Events for OCCRC Events | Évènements CRCOC
REFRESH-INTERVAL;VALUE=DURATION:PT1H
X-Robots-Tag:noindex
X-PUBLISHED-TTL:PT1H
BEGIN:VTIMEZONE
TZID:America/Toronto
BEGIN:DAYLIGHT
TZOFFSETFROM:-0500
TZOFFSETTO:-0400
TZNAME:EDT
DTSTART:20210314T070000
END:DAYLIGHT
BEGIN:STANDARD
TZOFFSETFROM:-0400
TZOFFSETTO:-0500
TZNAME:EST
DTSTART:20211107T060000
END:STANDARD
BEGIN:DAYLIGHT
TZOFFSETFROM:-0500
TZOFFSETTO:-0400
TZNAME:EDT
DTSTART:20220313T070000
END:DAYLIGHT
BEGIN:STANDARD
TZOFFSETFROM:-0400
TZOFFSETTO:-0500
TZNAME:EST
DTSTART:20221106T060000
END:STANDARD
BEGIN:DAYLIGHT
TZOFFSETFROM:-0500
TZOFFSETTO:-0400
TZNAME:EDT
DTSTART:20230312T070000
END:DAYLIGHT
BEGIN:STANDARD
TZOFFSETFROM:-0400
TZOFFSETTO:-0500
TZNAME:EST
DTSTART:20231105T060000
END:STANDARD
END:VTIMEZONE
BEGIN:VEVENT
DTSTART;TZID=America/Toronto:20220510T160000
DTEND;TZID=America/Toronto:20220510T180000
DTSTAMP:20260422T220156
CREATED:20220427T133357Z
LAST-MODIFIED:20220427T192138Z
UID:13305-1652198400-1652205600@events-evenements.crcoc.ca
SUMMARY:Kids Space - Grade 1 to 6 - In-person // Espace Enfants - 1re à 6e année - En personne
DESCRIPTION:IN-PERSON programming on Tuesdays from 4pm – 6pm in May.  A space to connect with other kids\, have fun\, learn some strategies and talk!  REGISTER online – (Registration opens every Friday at 8:30am for the following week.) //\n\n\n\n\n\nEN PERSONNE les mardis de 16 H à 18 H en mai.   Un espace pour se connecter avec d’autres enfants\, s’asumer\, apprendre des stratégies et parler!   INSCRIVEZ-VOUS en ligne – (L’inscription ouvre tous les vendredis à 8h30 pour la semaine suivant.)\n\n\n\nENGLISH Description\n\n3 :   Space Exploration!\n10 :  Growing Together! (trip to Queenswood Ridge Park – 346 Kennedy Lane) – weather permitting\, we will be taking Kids Space outdoors.  Drop-off and pick-ups will be done at the Centre as per usual!) \n 17 :  Cheese the day! (cooking activity: mini flatbread pizzas) – We will be running a special cooking session in the Centres’ kitchen!  We’ll be preparing and eating our own delicious homemade mini flatbread pizzas.  Please let us know in our registration for this week of any dietary restrictions we should be aware of!  \n24:  All Aboard the Friend-Ship!\n31:  Everyones’ Birthday!\n\n  \nDescription en FRANÇAIS \n\n3 :   Explorons l’espace !\n10 :   Grandir ensemble ! (sortie au parc Queenswood Ridge – 346 Kennedy Lane) – si le temps le permet\, nous emmènerons Espace Enfants à l’extérieur.  Nous se recontrerons au Centre\, comme habitude\, pour accueillir et renvoyer les enfants !\n 17 :  En faire tout un fromage !  (activité de cuisson : mini-pizzas plates) – Nous organiserons une séance de suisson spéciale dans la cuisine du Centre!  Nous préparerons et mangerons de délicieurses mini-pizzas plates faites maison.  Veuillez nous informer\, lors de votre inscription à cette semaine\, de toute  restriction alimentaire dont nous devrions tenir compte.\n24:  Tous à bord du navire de l’amitié !\n31:  La fête de toustes !\n\n  \nIf you have complications registering online\, please contact Isabel.  // Si l’inscription en ligne vous pose problème\, contacter Isabel.
URL:https://events-evenements.crcoc.ca/event-evenement/kids-space-grade-1-to-6-in-person-espace-enfants-1re-a-6e-annee-en-personne-8-2022-05-10/
LOCATION:Ontario
CATEGORIES:Children & Youth-Enfants et jeunes
ATTACH;FMTTYPE=image/jpeg:https://events-evenements.crcoc.ca/wp-content/uploads/2021/01/kids-space-espace-enfants.jpg
ORGANIZER;CN="Children & Youth | Enfants et jeunes":MAILTO:info@crcoc.ca
END:VEVENT
BEGIN:VEVENT
DTSTART;TZID=America/Toronto:20220511T100000
DTEND;TZID=America/Toronto:20220511T110000
DTSTAMP:20260422T220156
CREATED:20220427T113540Z
LAST-MODIFIED:20220506T102825Z
UID:13262-1652263200-1652266800@events-evenements.crcoc.ca
SUMMARY:CANCELLED - Process art workshop!  // ANNULER - Atelier sur le processus créatif!
DESCRIPTION:Let’s meet at the Orléans-Cumberland Community Resource Centre (240 Centrum Blvd.\, Unit 105 – Orléans).  Registration is required!\n \nThis art workshop focuses on the process of creation which will help children develop their imagination and creativity while having fun discovering and exploring different art mediums. This activity is geared towards children aged 2 to 6.  //\n \n  \nJoignez-vous à nous au Centre de ressources communautaires Orléans-Cumberland (240 boulevard Centrum unité 105 à Orléans).  Inscription requise! \nCet atelier d’art axé sur le processus de création permettra aux enfants de développer leur imagination et leur créativité tout en s’amusant à découvrir et explorer plusieurs médiums. Cette activité est idéale pour les enfants de 2 à 6 ans.
URL:https://events-evenements.crcoc.ca/event-evenement/process-art-workshop-atelier-sur-le-processus-creatif/
LOCATION:Ontario
CATEGORIES:Early ON-ON y va
ATTACH;FMTTYPE=image/png:https://events-evenements.crcoc.ca/wp-content/uploads/2022/04/Art-Workshop-Pic.png
ORGANIZER;CN="EarlyON | ON y va":MAILTO:EarlyONyva@crcoc.ca
END:VEVENT
BEGIN:VEVENT
DTSTART;TZID=America/Toronto:20220511T110000
DTEND;TZID=America/Toronto:20220511T113000
DTSTAMP:20260422T220156
CREATED:20220427T110118Z
LAST-MODIFIED:20220427T110403Z
UID:13251-1652266800-1652268600@events-evenements.crcoc.ca
SUMMARY:Virtual interactive circle time! // Temps de cercle virtuel interactif!
DESCRIPTION:Come sing\, play and have fun during our virtual circle time! The songs\, rhymes and story time will be enjoyable for all children! // \n  \nVenez chanter\, jouer et vous amusez avec nous durant nos temps de cercle virtuel! Les chansons\, comptines et histoires plairont aux plus petits comme aux plus grands!
URL:https://events-evenements.crcoc.ca/event-evenement/virtual-interactive-circle-time-temps-de-cercle-virtuel-interactif-7-2022-05-11/
LOCATION:Ontario
CATEGORIES:Early ON-ON y va
ATTACH;FMTTYPE=image/png:https://events-evenements.crcoc.ca/wp-content/uploads/2021/01/Interactive-Circle-Time-Tuesdays.png
ORGANIZER;CN="EarlyON | ON y va":MAILTO:EarlyONyva@crcoc.ca
END:VEVENT
BEGIN:VEVENT
DTSTART;TZID=America/Toronto:20220512T160000
DTEND;TZID=America/Toronto:20220512T183000
DTSTAMP:20260422T220156
CREATED:20220427T144733Z
LAST-MODIFIED:20220427T145257Z
UID:13330-1652371200-1652380200@events-evenements.crcoc.ca
SUMMARY:Youth Space - Grade 7 to 12 //  Espace Jeunesse - 7e à 12e année
DESCRIPTION:Weekly\, ongoing program – Bilingual – In person – Thursdays.  A space to connect with other youth\, have fun\, share experiences and talk about things important to them.  This month’s theme is: cheese puns!  You feta brie-lieve it! \nRegister online to join us (limited spots 8 people).   If you have any complication registering please email Tanya. \n\nMay– 4 pm to 6:30 pm  //  Mai– 16 H  à 18 H 30\n\n5  –  2SLGBTQIA+ : & allies: Be-leaf in yourself!; Dinner: Sitr fry //  et alliés.es : Cremini-ez en vous !;  Souper : Sauté\n12  –  Everyone /Toustes :  Ain’t got thyme for this!; Dinner Spaghetti // Pas de thym pour ça !;  Souper : Spaghetti\n19  –  Girls / Filles :  Remember our roots!; Dinner: Chicken nuggets & veggies fries // Souvenons-nous de nos racines !; Souper : Nuggets de poulet et frites de légumes\n26  –  Everyone /Toustes :  Let’s celery-brate!; Dinner:  Nachos & veggie tray // Céleri-brons !; Souper : Nachos et plateau de légumes\n\n\n\nHebdomadaire\, programme continu – bilingue – En personne – les jeudis.  Un espace pour se connecter avec d’autres jeunes\, s’amuser\, partager des expériences et parler de choses importantes pour eux.  Le thème de ce mois-ci est : des jeux de mots de fromage !  Croyez-le ou parmigiano ! \nInscrivez en ligne pour nous joindre (places limitées 8 personnes).  Si l’inscription en ligne vous pose problème\, envoyer un courriel à Tanya.
URL:https://events-evenements.crcoc.ca/event-evenement/youth-space-grade-7-to-12-espace-jeunesse-7e-a-12e-annee-5-2022-05-12/
LOCATION:Ontario
CATEGORIES:Children & Youth-Enfants et jeunes
ATTACH;FMTTYPE=image/jpeg:https://events-evenements.crcoc.ca/wp-content/uploads/2021/01/Youth-Space-espace-jeunesse.jpg
ORGANIZER;CN="Children & Youth | Enfants et jeunes":MAILTO:info@crcoc.ca
END:VEVENT
BEGIN:VEVENT
DTSTART;TZID=America/Toronto:20220514T093000
DTEND;TZID=America/Toronto:20220514T110000
DTSTAMP:20260422T220156
CREATED:20220427T115942Z
LAST-MODIFIED:20220427T115942Z
UID:13292-1652520600-1652526000@events-evenements.crcoc.ca
SUMMARY:Saturday playgroup at the EarlyON Centre! //  Groupe de jeu du samedi au Centre ON y
DESCRIPTION:Let’s meet at the Orléans-Cumberland Community Resource Centre (240 Centrum boulevard unit 105) for a Drop-in playgroup! This program is geared towards children 0 to 6 years old. Children will enjoy play based learning experiences that are fun and engaging.  All participants will be ask to use the front door facing St-Joseph Boulevard to acces the EarlyON Centre. //\n \n  \nJoignez-vous à nous au Centre de ressources communautaires Orléans-Cumberland (240 boulevard Centrum unité 105 à Orléans) pour un groupe de jeu porte-ouverte!  Conçu pour permettre aux enfants de 0 à 6 ans de vivre des expériences d’apprentissage par le jeu amusantes et stimulantes!  Les familles inscrites devront utiliser la porte avant de l’édifice faisant face au boulevard St-Joseph pour accéder au Centre ON y va.
URL:https://events-evenements.crcoc.ca/event-evenement/saturday-playgroup-at-the-earlyon-centre-groupe-de-jeu-du-samedi-au-centre-on-y/2022-05-14/
LOCATION:Ontario
CATEGORIES:Early ON-ON y va
ATTACH;FMTTYPE=image/jpeg:https://events-evenements.crcoc.ca/wp-content/uploads/2021/01/Indoors_Novembre_FR.jpg
ORGANIZER;CN="EarlyON | ON y va":MAILTO:EarlyONyva@crcoc.ca
END:VEVENT
END:VCALENDAR