BEGIN:VCALENDAR
VERSION:2.0
PRODID:-//OCCRC Events | Évènements CRCOC - ECPv6.15.18//NONSGML v1.0//EN
CALSCALE:GREGORIAN
METHOD:PUBLISH
X-WR-CALNAME:OCCRC Events | Évènements CRCOC
X-ORIGINAL-URL:https://events-evenements.crcoc.ca
X-WR-CALDESC:Events for OCCRC Events | Évènements CRCOC
REFRESH-INTERVAL;VALUE=DURATION:PT1H
X-Robots-Tag:noindex
X-PUBLISHED-TTL:PT1H
BEGIN:VTIMEZONE
TZID:America/Toronto
BEGIN:DAYLIGHT
TZOFFSETFROM:-0500
TZOFFSETTO:-0400
TZNAME:EDT
DTSTART:20200308T070000
END:DAYLIGHT
BEGIN:STANDARD
TZOFFSETFROM:-0400
TZOFFSETTO:-0500
TZNAME:EST
DTSTART:20201101T060000
END:STANDARD
BEGIN:DAYLIGHT
TZOFFSETFROM:-0500
TZOFFSETTO:-0400
TZNAME:EDT
DTSTART:20210314T070000
END:DAYLIGHT
BEGIN:STANDARD
TZOFFSETFROM:-0400
TZOFFSETTO:-0500
TZNAME:EST
DTSTART:20211107T060000
END:STANDARD
BEGIN:DAYLIGHT
TZOFFSETFROM:-0500
TZOFFSETTO:-0400
TZNAME:EDT
DTSTART:20220313T070000
END:DAYLIGHT
BEGIN:STANDARD
TZOFFSETFROM:-0400
TZOFFSETTO:-0500
TZNAME:EST
DTSTART:20221106T060000
END:STANDARD
END:VTIMEZONE
BEGIN:VEVENT
DTSTART;TZID=America/Toronto:20211220T093000
DTEND;TZID=America/Toronto:20211220T110000
DTSTAMP:20260423T185347
CREATED:20211126T025819Z
LAST-MODIFIED:20211218T023526Z
UID:9177-1639992600-1639998000@events-evenements.crcoc.ca
SUMMARY:ANNULÉ - Groupe de jeu francophone au Centre ON y va!
DESCRIPTION:Joignez-vous à nous au Centre de ressources communautaires Orléans-Cumberland (240 boulevard Centrum unité 105 à Orléans) pour un groupe de jeu en personne! \nConçu pour permettre aux enfants de 0 à 6 ans de vivre des expériences d’apprentissage par le jeu amusantes et stimulantes! \n  À PARTIR DE DÉCEMBRE — Les familles inscrites devront utiliser la porte avant de l’édifice fesant face au boulevard St-Joseph pour entrée au Centre ON y va.  \n\n\n\n\n\n\n\n\n\n 
URL:https://events-evenements.crcoc.ca/event-evenement/groupe-de-jeu-francophone-au-centre-on-y-va-4-2021-12-20/
LOCATION:Orléans
CATEGORIES:Early ON-ON y va
ATTACH;FMTTYPE=image/jpeg:https://events-evenements.crcoc.ca/wp-content/uploads/2021/01/Indoors_Novembre_FR.jpg
ORGANIZER;CN="EarlyON | ON y va":MAILTO:EarlyONyva@crcoc.ca
END:VEVENT
BEGIN:VEVENT
DTSTART;TZID=America/Toronto:20211220T133000
DTEND;TZID=America/Toronto:20211220T150000
DTSTAMP:20260423T185347
CREATED:20211126T160322Z
LAST-MODIFIED:20211218T023443Z
UID:9365-1640007000-1640012400@events-evenements.crcoc.ca
SUMMARY:CANCELLED - Baby & Me playgroup at the EarlyON Centre! // ANNULÉ - Groupe de jeu Bébé & Moi au Centre ON y va!
DESCRIPTION:Let’s meet at the Orléans-Cumberland Community Resource Centre (240 Centrum boulevard unit 105) for an in person playgroup! This program is geared towards children from birth to 12 months old. With a small group of parents and babies\, you will have the opportunity to chat\, share parenting stories and socialize in a safe and friendly environment.  //   Joignez-vous à nous au Centre de ressources communautaires Orléans-Cumberland (240 boulevard Centrum unité 105) pour un groupe de jeu en personne! Ce groupe est conçu pour les bébés de la naissance à 12 mois. Avec un petit groupe de parents et bébés\, venez discuter et partager vos histoires avec d’autres parents ou socialiser dans un environnement amicale et sécuritaire. \n\n\n\n\n\n\n\n\n\n 
URL:https://events-evenements.crcoc.ca/event-evenement/baby-me-playgroup-at-the-earlyon-centre-groupe-de-jeu-bebe-moi-au-centre-on-y-va-5-2021-12-20/
LOCATION:Orléans
CATEGORIES:Early ON-ON y va
ATTACH;FMTTYPE=image/jpeg:https://events-evenements.crcoc.ca/wp-content/uploads/2021/09/Baby-Me-Picture.jpg
ORGANIZER;CN="EarlyON | ON y va":MAILTO:EarlyONyva@crcoc.ca
END:VEVENT
BEGIN:VEVENT
DTSTART;TZID=America/Toronto:20211221T093000
DTEND;TZID=America/Toronto:20211221T110000
DTSTAMP:20260423T185347
CREATED:20211126T162049Z
LAST-MODIFIED:20211218T023409Z
UID:9388-1640079000-1640084400@events-evenements.crcoc.ca
SUMMARY:CANCELLED - English playgroup at the EarlyON Centre!
DESCRIPTION:Let’s meet at the Orléans-Cumberland Community Resource Centre (240 Centrum boulevard unit 105) for an in person playgroup! This program is geared towards children 0 to 6 years old. Play based learning experiences that are fun and engaging.   NOTE:  All participants are asked to use the Main Entrance doors facing St-Joseph Blvd.  to acces the EarlyON Centre starting December 6th. \n\n\n\n\n\n\n\n\n\n 
URL:https://events-evenements.crcoc.ca/event-evenement/english-playgroup-at-the-earlyon-centre-6-2021-12-21/
LOCATION:Orléans
CATEGORIES:Early ON-ON y va
ATTACH;FMTTYPE=image/jpeg:https://events-evenements.crcoc.ca/wp-content/uploads/2021/01/Indoors_Novembre_FR.jpg
ORGANIZER;CN="EarlyON | ON y va":MAILTO:EarlyONyva@crcoc.ca
END:VEVENT
BEGIN:VEVENT
DTSTART;TZID=America/Toronto:20211222T110000
DTEND;TZID=America/Toronto:20211222T113000
DTSTAMP:20260423T185347
CREATED:20211126T032029Z
LAST-MODIFIED:20211126T032319Z
UID:9187-1640170800-1640172600@events-evenements.crcoc.ca
SUMMARY:Virtual interactive circle time! // Temps de cercle virtuel interactif!
DESCRIPTION:Come sing\, play and have fun during our virtual circle time! The songs\, rhymes and story time will be enjoyable for all children!  //    Venez chanter\, jouer et vous amusez avec nous durant nos temps de cercle virtuel! Les chansons\, comptines et histoires plairont aux plus petits comme aux plus grands! \n\n\n\n\n\n\n\n\n\n 
URL:https://events-evenements.crcoc.ca/event-evenement/virtual-interactive-circle-time-temps-de-cercle-virtuel-interactif-3-2021-12-22/
LOCATION:Orléans
CATEGORIES:Early ON-ON y va
ATTACH;FMTTYPE=image/png:https://events-evenements.crcoc.ca/wp-content/uploads/2021/01/Interactive-Circle-Time-Tuesdays.png
ORGANIZER;CN="EarlyON | ON y va":MAILTO:EarlyONyva@crcoc.ca
END:VEVENT
BEGIN:VEVENT
DTSTART;TZID=America/Toronto:20211222T160000
DTEND;TZID=America/Toronto:20211222T180000
DTSTAMP:20260423T185347
CREATED:20211126T042552Z
LAST-MODIFIED:20211218T023329Z
UID:9243-1640188800-1640196000@events-evenements.crcoc.ca
SUMMARY:CANCELLED - Youth Space - Grade 7 to 12 //  ANNULÉ - Espace Jeunesse - 7e à 12e année
DESCRIPTION:Weekly\, ongoing program – Bilingual – In person.  A space to connect with other youth\, have fun\, share experiences and talk about things important to them.!  This month\, we’ll be getting creative with new hands-on crafts\, learning some strategies and challenging ourselves. // Hebdomadaire\, programme continu – bilingue – En personne.  Un espace pour se connecter avec d’autres jeunes\, s’amuser\, partager des expériences et parler de choses importantes pour eux.  Ce mois-ci\, nous ferons preuve de créativité avec de nouveaux techniques pratiques d’artisanat\, nous apprendrons des stratégies et nous nous mettrons au défi!  December – In person – Thursdays from 4 pm to 6 pm  //  Décembre – En personne – les jeudis de 16 H  à 18 H \n\n2  –  2SLGBTQIA+ :  Scrapbooking & Self-confidence  //  Scrapbooking et confiance en soi\n9  –  Everyone:  Self-care kits & Holiday coping strategies // Trousses d’autosoins et stratégies pour gérer pendant les fêtes\n16  –  Girls:  Embroidery & Well-being  //  Broderie et bien-être\n22  –  (Switched to Wednesday) – Everyone:  DIY ornaments\, Games & Challenges //  (Changé au mercredi) – Toustes :  Décorations faites maison\, jeux et défis\n\n\n\n\n\n\n\n\n\n\n 
URL:https://events-evenements.crcoc.ca/event-evenement/youth-space-grade-7-to-12-espace-jeunesse-7e-a-12e-annee-2-2021-12-23/
LOCATION:Orléans
CATEGORIES:Children & Youth-Enfants et jeunes
ATTACH;FMTTYPE=image/jpeg:https://events-evenements.crcoc.ca/wp-content/uploads/2021/01/Youth-Space-espace-jeunesse.jpg
ORGANIZER;CN="Children & Youth | Enfants et jeunes":MAILTO:info@crcoc.ca
END:VEVENT
BEGIN:VEVENT
DTSTART;TZID=America/Toronto:20211223T093000
DTEND;TZID=America/Toronto:20211223T110000
DTSTAMP:20260423T185347
CREATED:20211126T033341Z
LAST-MODIFIED:20211218T023248Z
UID:9204-1640251800-1640257200@events-evenements.crcoc.ca
SUMMARY:CANCELLED - Outdoor playgroup at the park! // ANNULÉ -Groupe de jeu au parc!  (Cumberland)
DESCRIPTION:Let’s meet at the Cumberland arena park\, 1115 Dunning Road\, to enjoy the outdoors together! We will have some programming such as gross motor activities\, yoga and games.  //  Joignez-vous à nous au parc de l’aréna Cumberland au 1115 chemin Dunning! Venez profiter de la nature avec nous! Une programmation avec des activités de motricités\, du yoga\, et autres jeux amusant!   \n**Safety is very important to us! We will screen all registered participants. Masks are encouraged when 6 feet apart distance is not possible.  //  ** La sécurité de tous nous tiens à coeur. Avant chaque groupe nous feront un court dépistage de tous les participants. Nous encourageons le port du masque lorsque la distanciation physique n’est pas possible.   \n*We will be at the park\, rain or shine.  The group will be canceled if the temperature reaches -25c.  //  *Nous serons au parc beau temps ou mauvais temps.  //  Le groupe sera annulé si la température atteint les -25c. \n\n\n\n\n\n\n\n\n\n 
URL:https://events-evenements.crcoc.ca/event-evenement/outdoor-playgroup-at-the-park-groupe-de-jeu-au-parc-cumberland-4-2021-12-23/
LOCATION:Orléans
CATEGORIES:Early ON-ON y va
ATTACH;FMTTYPE=image/jpeg:https://events-evenements.crcoc.ca/wp-content/uploads/2021/06/Outdoor-pic.jpg
ORGANIZER;CN="EarlyON | ON y va":MAILTO:EarlyONyva@crcoc.ca
END:VEVENT
END:VCALENDAR