BEGIN:VCALENDAR
VERSION:2.0
PRODID:-//OCCRC Events | Évènements CRCOC - ECPv6.15.18//NONSGML v1.0//EN
CALSCALE:GREGORIAN
METHOD:PUBLISH
X-WR-CALNAME:OCCRC Events | Évènements CRCOC
X-ORIGINAL-URL:https://events-evenements.crcoc.ca
X-WR-CALDESC:Events for OCCRC Events | Évènements CRCOC
REFRESH-INTERVAL;VALUE=DURATION:PT1H
X-Robots-Tag:noindex
X-PUBLISHED-TTL:PT1H
BEGIN:VTIMEZONE
TZID:America/Toronto
BEGIN:DAYLIGHT
TZOFFSETFROM:-0500
TZOFFSETTO:-0400
TZNAME:EDT
DTSTART:20200308T070000
END:DAYLIGHT
BEGIN:STANDARD
TZOFFSETFROM:-0400
TZOFFSETTO:-0500
TZNAME:EST
DTSTART:20201101T060000
END:STANDARD
BEGIN:DAYLIGHT
TZOFFSETFROM:-0500
TZOFFSETTO:-0400
TZNAME:EDT
DTSTART:20210314T070000
END:DAYLIGHT
BEGIN:STANDARD
TZOFFSETFROM:-0400
TZOFFSETTO:-0500
TZNAME:EST
DTSTART:20211107T060000
END:STANDARD
BEGIN:DAYLIGHT
TZOFFSETFROM:-0500
TZOFFSETTO:-0400
TZNAME:EDT
DTSTART:20220313T070000
END:DAYLIGHT
BEGIN:STANDARD
TZOFFSETFROM:-0400
TZOFFSETTO:-0500
TZNAME:EST
DTSTART:20221106T060000
END:STANDARD
END:VTIMEZONE
BEGIN:VEVENT
DTSTART;TZID=America/Toronto:20211012T093000
DTEND;TZID=America/Toronto:20211012T110000
DTSTAMP:20260419T170044
CREATED:20210929T034836Z
LAST-MODIFIED:20211006T111435Z
UID:6917-1634031000-1634036400@events-evenements.crcoc.ca
SUMMARY:English playgroup at the EarlyON Centre!
DESCRIPTION:Let’s meet at the Orléans-Cumberland Community Resource Centre (240 Centrum boulevard unit 105) for an in-person playgroup! This program is geared towards children 0 to 6 years old. Play-based learning experiences that are fun and engaging. All participants will be asked to use the back door of the building facing the Shenkman Arts Centre to access the EarlyON Centre. \n\n\n\n\n\n\n\n\n\n 
URL:https://events-evenements.crcoc.ca/event-evenement/english-playgroup-at-the-earlyon-centre-2/
LOCATION:Ontario
CATEGORIES:Early ON-ON y va
ATTACH;FMTTYPE=image/jpeg:https://events-evenements.crcoc.ca/wp-content/uploads/2021/01/Indoors_Novembre_FR.jpg
ORGANIZER;CN="EarlyON | ON y va":MAILTO:EarlyONyva@crcoc.ca
END:VEVENT
BEGIN:VEVENT
DTSTART;TZID=America/Toronto:20211012T153000
DTEND;TZID=America/Toronto:20211012T163000
DTSTAMP:20260419T170044
CREATED:20210929T021616Z
LAST-MODIFIED:20211006T111344Z
UID:6834-1634052600-1634056200@events-evenements.crcoc.ca
SUMMARY:Via ZOOM - Kids Space: Grades 1 to 6 // Espace Enfants: 1re à 6e année
DESCRIPTION:A space to connect with other youth have fun\, learn some strategies and talk  Weekly\, ongoing program – Tuesdays from 3:30pm to 4:30pm – Bilingual – Via Zoom.  //  Un espace pour se connecter avec d’autres jeunes\, s’amuser\, apprendre des stratégies et parler.  Hebdomadaire\, programme continu – Les mardis de 15H30 à 16H30 – Bilingue – Via Zoom. October Schedule: // Horaire pour octobre:  \n\n5 : – Mystery scavenger hunt; // Chasse au trésor mystérieuse ;\n12 : – Kahoots & Self-Regulation; // Kahoots et régulation d’émotions ;\n19 : – Leaf Crafts & Coping with Change; // Bricolage de feuilles et faire face aux changements ;\n26 : Pumpkin Party // Célébration de citrouilles\n\nTo join us for all October sessions: // Pour vous joindre à nous pour toutes les séances de octobre : \n\n\n\n\n\n\n\n\n\n 
URL:https://events-evenements.crcoc.ca/event-evenement/via-zoom-kids-space-grades-1-to-6-espace-enfants-1re-a-6e-annee-2/
LOCATION:Ontario
CATEGORIES:Children & Youth-Enfants et jeunes
ATTACH;FMTTYPE=image/jpeg:https://events-evenements.crcoc.ca/wp-content/uploads/2021/01/kids-space-espace-enfants-1.jpg
ORGANIZER;CN="Children & Youth | Enfants et jeunes":MAILTO:info@crcoc.ca
END:VEVENT
BEGIN:VEVENT
DTSTART;TZID=America/Toronto:20211012T173000
DTEND;TZID=America/Toronto:20211012T183000
DTSTAMP:20260419T170044
CREATED:20210929T022734Z
LAST-MODIFIED:20211006T111328Z
UID:6854-1634059800-1634063400@events-evenements.crcoc.ca
SUMMARY:IN-PERSON - Kids Space: Grades 1 to 6 // EN PERSONNE - Espace Enfants: 1re à 6e année
DESCRIPTION:A space to connect with other kids\, have fun\, learn some strategies and talk!  Weekly\, ongoing program – Tuesdays from 5:30pm to 6:30pm – Bilingual – IN-PERSON *limited spots*.  //  Un espace pour se connecter avec d’autres enfants\, s’amuser\, apprendre des stratégies et parler.  Hebdomadaire\, programme continu – Les jeudis de 17H30h à 18H30 – Bilingue – EN PERSONNE *places limitées*.   October Schedule: // Horaire pour octobre:  \n\n5 : – Ice Breakers & Welcome Crafts; // Brises-glaces et bricolags de bienvenue ;\n12 : – Slime Creations & Self-Regulation; // Créations slime et régulation d’émotions ;\n19 : – Leaf Crafts & Coping with Change; // Bricolage de feuilles et faire face aux changements ;\n26 : Pumpkin Party // Célébration de citrouilles.\n\nTo join us for October sessions: // Pour vous joindre à nous pour les séances de octobre : \n\nIN-PERSON: You must register for each October session individually – Max of 7 people in Group Room per week.  // EN PERSONNE :  Vous devez vous inscrire à chaque session de octobre individuellement – Maximum de 7 personnes en salle de groupe par semaine.\nIf you have any complication registering online\, please contact Bridgette at bguindon@crcoc.ca or call at 613-830-4357\, ext. 152  //  Si l’inscription en ligne vous pose problème\, veuillez envoyer un courriel à Bridgette à bguindon@crcoc.ca ou appeler au 613-830-4357\, poste 152.\n\n\n\n\n\n\n\n\n\n\n 
URL:https://events-evenements.crcoc.ca/event-evenement/in-person-kids-space-grades-1-to-6-en-personne-espace-enfants-1re-a-6e-annee-2/
LOCATION:Ontario
CATEGORIES:Children & Youth-Enfants et jeunes
ATTACH;FMTTYPE=image/jpeg:https://events-evenements.crcoc.ca/wp-content/uploads/2021/01/kids-space-espace-enfants-1.jpg
ORGANIZER;CN="Children & Youth | Enfants et jeunes":MAILTO:info@crcoc.ca
END:VEVENT
BEGIN:VEVENT
DTSTART;TZID=America/Toronto:20211013T110000
DTEND;TZID=America/Toronto:20211013T120000
DTSTAMP:20260419T170044
CREATED:20210929T033816Z
LAST-MODIFIED:20211008T165949Z
UID:6903-1634122800-1634126400@events-evenements.crcoc.ca
SUMMARY:Introduction to infant massage //  Introduction aux massages pour bébés
DESCRIPTION:This activity will take place at the Orléans-Cumberland Community Resource Centre (240 Centrum boulevard unit 105).  //  Cette activité aura lieu au Centre de ressources communautaires Orléans-Cumberland (240 boulevard Centrum unité 105 à Orléans).   There are many benefits of Infant massage. Together we will explore different ways to massage baby\, and enjoy the interactions among parents.  //  Il y a plusieurs bienfaits aux massages pour bébés. Ensemble\, nous explorerons différentes façons de masser bébé et nous en profiterons pour discuter entres parents. \n\n\n\n\n\n\n\n\n\n 
URL:https://events-evenements.crcoc.ca/event-evenement/introduction-to-infant-massage-introduction-aux-massages-pour-bebes/
LOCATION:Ontario
CATEGORIES:Early ON-ON y va
ATTACH;FMTTYPE=image/jpeg:https://events-evenements.crcoc.ca/wp-content/uploads/2021/08/Infant-Message-Pic.jpg
ORGANIZER;CN="EarlyON | ON y va":MAILTO:EarlyONyva@crcoc.ca
END:VEVENT
BEGIN:VEVENT
DTSTART;TZID=America/Toronto:20211013T110000
DTEND;TZID=America/Toronto:20211013T233000
DTSTAMP:20260419T170044
CREATED:20210929T035733Z
LAST-MODIFIED:20211006T111251Z
UID:6931-1634122800-1634167800@events-evenements.crcoc.ca
SUMMARY:Virtual interactive circle time!  //  Temps de cercle virtuel interactif!
DESCRIPTION:Come sing\, play\, and have fun during our virtual circle time! The songs\, rhymes\, and storytime will be enjoyable for all children!  //   Venez chanter\, jouer et vous amusez avec nous durant nos temps de cercle virtuel! Les chansons\, comptines et histoires plairont aux plus petits comme aux plus grands! \n\n\n\n\n\n\n\n\n\n 
URL:https://events-evenements.crcoc.ca/event-evenement/virtual-interactive-circle-time-temps-de-cercle-virtuel-interactif-2021-10-13/
LOCATION:Ontario
CATEGORIES:Early ON-ON y va
ATTACH;FMTTYPE=image/png:https://events-evenements.crcoc.ca/wp-content/uploads/2021/01/Interactive-Circle-Time-Tuesdays.png
ORGANIZER;CN="EarlyON | ON y va":MAILTO:EarlyONyva@crcoc.ca
END:VEVENT
BEGIN:VEVENT
DTSTART;TZID=America/Toronto:20211014T093000
DTEND;TZID=America/Toronto:20211014T110000
DTSTAMP:20260419T170044
CREATED:20210929T040821Z
LAST-MODIFIED:20211006T111233Z
UID:6949-1634203800-1634209200@events-evenements.crcoc.ca
SUMMARY:Outdoor playgroup at the park! // Groupe de jeu au parc!  (Cumberland)
DESCRIPTION:Let’s meet at the Cumberland arena park\, 1115 Dunning Road\, to enjoy the outdoors together! We will have some programming such as gross motor activities\, yoga\, and games.  **Safety is very important to us! We will screen all registered participants. Masks are encouraged when 6 feet apart distance is not possible.  *We will be at the park\, rain or shine.  //   Joignez-vous à nous au parc de l’aréna Cumberland au 1115 chemin Dunning! Venez profiter de la nature avec nous! Une programmation avec des activités de motricités\, du yoga\, et autres jeux amusants!  ** La sécurité de tous nous tient à coeur. Avant chaque groupe nous feront un court dépistage de tous les participants. Nous encourageons le port du masque lorsque la distanciation physique n’est pas possible.   *Nous serons au parc beau temps ou mauvais temps.  \n\n\n\n\n\n\n\n\n\n 
URL:https://events-evenements.crcoc.ca/event-evenement/outdoor-playgroup-at-the-park-groupe-de-jeu-au-parc-cumberland-3-2021-10-14/
LOCATION:Ontario
CATEGORIES:Early ON-ON y va
ATTACH;FMTTYPE=image/jpeg:https://events-evenements.crcoc.ca/wp-content/uploads/2021/06/Outdoor-pic.jpg
ORGANIZER;CN="EarlyON | ON y va":MAILTO:EarlyONyva@crcoc.ca
END:VEVENT
BEGIN:VEVENT
DTSTART;TZID=America/Toronto:20211014T160000
DTEND;TZID=America/Toronto:20211014T180000
DTSTAMP:20260419T170044
CREATED:20210929T011953Z
LAST-MODIFIED:20211006T111213Z
UID:6786-1634227200-1634234400@events-evenements.crcoc.ca
SUMMARY:Via ZOOM - Youth Space: Grades 7 to 12 // Espace Jeunesse: 7e à 12e année
DESCRIPTION:A space to connect with other youth\, have fun\, share experiences and talk about things important to them.  Weekly\, ongoing program – Thursdays fro 4pm to 6pm – Bilingual – Via Zoom.  //  Un espace pour se connecter avec d’autres jeunes\, s’amuser\, partager des expériences et parler de choses importantes pour eux.  Hebdomadaire\, programme continu – Les jeudis de 16h à 18H – Bilingue – Via Zoom. October Schedule: // Horaire pour octobre:  \n\n7 : – 2SLGBTQIA+ : Bath Bombs & Wellness; // Bombes de bain et bien-être ;\n14 : – Everyone / Toustes : Slime & Coping with Change; // Slime et s’adapter aux changements ;\n21 : – Girls / Filles : Hand Knitting & Relationships; // Tricot à la main et relations ;\n28 : – Everyone / Toustes : Challenges & Pumpkin Art; and // Défis et art avec citrouilles.\n\nTo join us for all October sessions: // Pour vous joindre à nous pour toutes les séances de octobre : \n\n\n\n\n\n\n\n\n\n 
URL:https://events-evenements.crcoc.ca/event-evenement/via-zoom-youth-space-grades-7-to-12-espace-jeunesse-7e-a-12e-annee-2/
LOCATION:Ontario
CATEGORIES:Children & Youth-Enfants et jeunes
ATTACH;FMTTYPE=image/jpeg:https://events-evenements.crcoc.ca/wp-content/uploads/2021/01/Youth-Space-espace-jeunesse.jpg
ORGANIZER;CN="Children & Youth | Enfants et jeunes":MAILTO:info@crcoc.ca
END:VEVENT
BEGIN:VEVENT
DTSTART;TZID=America/Toronto:20211014T160000
DTEND;TZID=America/Toronto:20211014T180000
DTSTAMP:20260419T170044
CREATED:20210929T013543Z
LAST-MODIFIED:20211006T111140Z
UID:6808-1634227200-1634234400@events-evenements.crcoc.ca
SUMMARY:IN-PERSON - Youth Space: Grades 7 to 12 // EN PERSONNE - Espace Jeunesse: 7e à 12e année
DESCRIPTION:A space to connect with other youth\, have fun\, share experiences and talk about things important to them.  Weekly\, ongoing program – Thursdays fro 4pm to 6pm – Bilingual – IN-PERSON.  //  Un espace pour se connecter avec d’autres jeunes\, s’amuser\, partager des expériences et parler de choses importantes pour eux.  Hebdomadaire\, programme continu – Les jeudis de 16h à 18H – Bilingue – EN PERSONNE.   October Schedule: // Horaire pour octobre:  \n\n7 : – 2SLGBTQIA+ : Bath Bombs & Wellness; // Bombes de bain et bien-être ;\n14 : – Everyone / Toustes : Slime & Coping with Change; // Slime et s’adapter aux changements ;\n21 : – Girls / Filles : Hand Knitting & Relationships; // Tricot à la main et relations ;\n28 : – Everyone / Toustes : Challenges & Pumpkin Art; and // Défis et art avec citrouilles.\n\nTo join us for October sessions: // Pour vous joindre à nous pour les séances de octobre : \n\nIN-PERSON: You must register for each October session individually – Max of 8 people in Group Room per week.  // EN PERSONNE :  Vous devez vous inscrire à chaque session de octobre individuellement – Maximum de 8 personnes en salle de groupe par semaine.\nIf you have any complication registering online\, please contact Tanya at tanya@crcoc.ca or call at 613-830-4357\, ext. 140  //  Si l’inscription en ligne vous pose problème\, veuillez envoyer un courriel à Tanya à tanya@crcoc.ca ou appeler au 613-830-4357\, poste 140.\n\n\n\n\n\n\n\n\n\n\n 
URL:https://events-evenements.crcoc.ca/event-evenement/in-person-youth-space-grades-7-to-12-en-personne-espace-jeunesse-7e-a-12e-annee-6/
LOCATION:Ontario
CATEGORIES:Children & Youth-Enfants et jeunes
ATTACH;FMTTYPE=image/jpeg:https://events-evenements.crcoc.ca/wp-content/uploads/2021/01/Youth-Space-espace-jeunesse.jpg
ORGANIZER;CN="Children & Youth | Enfants et jeunes":MAILTO:info@crcoc.ca
END:VEVENT
BEGIN:VEVENT
DTSTART;TZID=America/Toronto:20211015T093000
DTEND;TZID=America/Toronto:20211015T110000
DTSTAMP:20260419T170044
CREATED:20210929T042111Z
LAST-MODIFIED:20211006T111050Z
UID:6969-1634290200-1634295600@events-evenements.crcoc.ca
SUMMARY:Outdoor playgroup at the park! // Groupe de jeu au parc!  (Queenswood Heights)
DESCRIPTION:Let’s meet at the Queenswood Heights park\, 1485 Duford Drive\, to enjoy the outdoors together! We will have some programming such as gross motor activities\, yoga\, and games.  **Safety is very important to us! We will screen all registered participants. Masks are encouraged when 6 feet apart distance is not possible.  *We will be at the park\, rain or shine.  //   Joignez-vous à nous au parc de Queenswoods Heights au 1485 Duford Drive! Venez profiter de la nature avec nous! Une programmation avec des activités de motricités\, du yoga\, et autres jeux amusants!  ** La sécurité de tous nous tient à coeur. Avant chaque groupe nous feront un court dépistage de tous les participants. Nous encourageons le port du masque lorsque la distanciation physique n’est pas possible.  *Nous serons au parc beau temps ou mauvais temps.  \n\n\n\n\n\n\n\n\n\n 
URL:https://events-evenements.crcoc.ca/event-evenement/outdoor-playgroup-at-the-park-groupe-de-jeu-au-parc-queenswood-heights-2-2021-10-15/
LOCATION:Ontario
CATEGORIES:Early ON-ON y va
ATTACH;FMTTYPE=image/jpeg:https://events-evenements.crcoc.ca/wp-content/uploads/2021/06/Outdoor-pic.jpg
ORGANIZER;CN="EarlyON | ON y va":MAILTO:EarlyONyva@crcoc.ca
END:VEVENT
BEGIN:VEVENT
DTSTART;TZID=America/Toronto:20211016T093000
DTEND;TZID=America/Toronto:20211016T110000
DTSTAMP:20260419T170044
CREATED:20210929T043102Z
LAST-MODIFIED:20211006T111017Z
UID:6983-1634376600-1634382000@events-evenements.crcoc.ca
SUMMARY:Saturday playgroup at the EarlyON Centre! // Groupe de jeu du samedi au Centre ON y va!
DESCRIPTION:Let’s meet at the Orléans-Cumberland Community Resource Centre (240 Centrum boulevard unit 105) for an in-person playgroup! This program is geared towards children 0 to 6 years old. Play-based learning experiences that are fun and engaging.  All participants will be asked to use the back door of the building facing the Shenkman Arts Centre to access the EarlyON Centre.    //    \nJoignez-vous à nous au Centre de ressources communautaires Orléans-Cumberland (240 boulevard Centrum unité 105 à Orléans) pour un groupe de jeu en personne!  Conçu pour permettre aux enfants de 0 à 6 ans de vivre des expériences d’apprentissage par le jeu amusantes et stimulantes!  Les familles inscrites devront utiliser la porte arrière faisant face au Centre des arts Shenkman pour entrer au Centre ON y va.  \n  \n\n\n\n\n\n\n\n\n\n 
URL:https://events-evenements.crcoc.ca/event-evenement/saturday-playgroup-at-the-earlyon-centre-groupe-de-jeu-du-samedi-au-centre-on-y-va/
LOCATION:Ontario
CATEGORIES:Early ON-ON y va
ATTACH;FMTTYPE=image/jpeg:https://events-evenements.crcoc.ca/wp-content/uploads/2021/01/Indoors_Novembre_FR.jpg
ORGANIZER;CN="EarlyON | ON y va":MAILTO:EarlyONyva@crcoc.ca
END:VEVENT
END:VCALENDAR