BEGIN:VCALENDAR
VERSION:2.0
PRODID:-//OCCRC Events | Évènements CRCOC - ECPv6.15.18//NONSGML v1.0//EN
CALSCALE:GREGORIAN
METHOD:PUBLISH
X-ORIGINAL-URL:https://events-evenements.crcoc.ca
X-WR-CALDESC:Events for OCCRC Events | Évènements CRCOC
REFRESH-INTERVAL;VALUE=DURATION:PT1H
X-Robots-Tag:noindex
X-PUBLISHED-TTL:PT1H
BEGIN:VTIMEZONE
TZID:America/Toronto
BEGIN:DAYLIGHT
TZOFFSETFROM:-0500
TZOFFSETTO:-0400
TZNAME:EDT
DTSTART:20200308T070000
END:DAYLIGHT
BEGIN:STANDARD
TZOFFSETFROM:-0400
TZOFFSETTO:-0500
TZNAME:EST
DTSTART:20201101T060000
END:STANDARD
BEGIN:DAYLIGHT
TZOFFSETFROM:-0500
TZOFFSETTO:-0400
TZNAME:EDT
DTSTART:20210314T070000
END:DAYLIGHT
BEGIN:STANDARD
TZOFFSETFROM:-0400
TZOFFSETTO:-0500
TZNAME:EST
DTSTART:20211107T060000
END:STANDARD
BEGIN:DAYLIGHT
TZOFFSETFROM:-0500
TZOFFSETTO:-0400
TZNAME:EDT
DTSTART:20220313T070000
END:DAYLIGHT
BEGIN:STANDARD
TZOFFSETFROM:-0400
TZOFFSETTO:-0500
TZNAME:EST
DTSTART:20221106T060000
END:STANDARD
END:VTIMEZONE
BEGIN:VEVENT
DTSTART;TZID=America/Toronto:20210315T100000
DTEND;TZID=America/Toronto:20210315T103000
DTSTAMP:20260422T044850
CREATED:20210226T143256Z
LAST-MODIFIED:20210309T145611Z
UID:2334-1615802400-1615804200@events-evenements.crcoc.ca
SUMMARY:Temps de cercle interactif!
DESCRIPTION:Venez chanter\, jouer et vous amusez avec nous durant nos temps decercle virtuel! Les chansons\, comptines et histoires plairont aux plus petitscomme aux plus grands!
URL:https://events-evenements.crcoc.ca/event-evenement/temps-de-cercle-interactif-6/
LOCATION:Ontario
CATEGORIES:Early ON-ON y va
ATTACH;FMTTYPE=image/png:https://events-evenements.crcoc.ca/wp-content/uploads/2021/01/Interactive-Circle-Time-Tuesdays.png
ORGANIZER;CN="EarlyON | ON y va":MAILTO:EarlyONyva@crcoc.ca
END:VEVENT
BEGIN:VEVENT
DTSTART;TZID=America/Toronto:20210315T130000
DTEND;TZID=America/Toronto:20210315T133000
DTSTAMP:20260422T044850
CREATED:20210224T184755Z
LAST-MODIFIED:20210309T145858Z
UID:2170-1615813200-1615815000@events-evenements.crcoc.ca
SUMMARY:Virtual Baby & Me // Bébé et moi virtuel
DESCRIPTION:Join us via Zoom with your little ones 12 months old and under. A greatopportunity to connect with your baby. Songs\, stories and lots of fun!  //   \n\n\n\nJoignez-vous à nous via Zoom avec vos tout-petits de 12 mois et moins. Unmoment idéal pour tisser des liens avec votre bébé! Des comptines\, deshistoires et du plaisir!
URL:https://events-evenements.crcoc.ca/event-evenement/virtual-baby-me-bebe-et-moi-virtuel-4-2021-03-15/
LOCATION:Ontario
CATEGORIES:Early ON-ON y va
ATTACH;FMTTYPE=image/jpeg:https://events-evenements.crcoc.ca/wp-content/uploads/2021/02/Virtual-Baby-Me.jpg
ORGANIZER;CN="EarlyON | ON y va":MAILTO:EarlyONyva@crcoc.ca
END:VEVENT
BEGIN:VEVENT
DTSTART;TZID=America/Toronto:20210316T093000
DTEND;TZID=America/Toronto:20210316T110000
DTSTAMP:20260422T044850
CREATED:20210224T200228Z
LAST-MODIFIED:20210226T170427Z
UID:2249-1615887000-1615892400@events-evenements.crcoc.ca
SUMMARY:Orléans in person English playgroup!
DESCRIPTION:Let’s meet at the Orléans-Cumberland Community Resource Centre (240Centrum boulevard unit 105) for an in person playgroup! This program isgeared towards children 0 to 6 years old. Play based learning experiencesthat are fun and engaging. \n\n\n\nAll participants will be ask to use the back door of thebuilding facing the Shenkman Arts Centre to access theEarlyON Centre. \n\n\n\n**Safety is very important to us! We will screen all participants\, have a lowregistration limit\, and each participant will have their temperature checked.Masks are mandatory for all adults and hightly recommended for children overthe age of 2. See our COVID-19 policies and procedures for more details.
URL:https://events-evenements.crcoc.ca/event-evenement/orleans-in-person-english-playgroup-3-2021-03-16/
LOCATION:Ontario
CATEGORIES:Early ON-ON y va
ATTACH;FMTTYPE=image/jpeg:https://events-evenements.crcoc.ca/wp-content/uploads/2021/01/Indoors_Novembre_FR.jpg
ORGANIZER;CN="EarlyON | ON y va":MAILTO:EarlyONyva@crcoc.ca
END:VEVENT
BEGIN:VEVENT
DTSTART;TZID=America/Toronto:20210316T133000
DTEND;TZID=America/Toronto:20210316T140000
DTSTAMP:20260422T044850
CREATED:20210224T190522Z
LAST-MODIFIED:20210224T190525Z
UID:2190-1615901400-1615903200@events-evenements.crcoc.ca
SUMMARY:The virtual coffee chat - Introduction to baby massage
DESCRIPTION:Join us via zoom for an informal chat about different topics regarding your childdevelopment\, parenting\, and many others. Every week we will open with a differenttopic of discussion. \n\n\n\nThere are many benefits of Infant massage. Together we will exploredifferent ways to massage baby\, and enjoy the virtual interactionsamong parents.
URL:https://events-evenements.crcoc.ca/event-evenement/the-virtual-coffee-chat-introduction-to-baby-massage/
LOCATION:Ontario
CATEGORIES:Early ON-ON y va
ATTACH;FMTTYPE=image/jpeg:https://events-evenements.crcoc.ca/wp-content/uploads/2021/01/coffee-chat.jpg
ORGANIZER;CN="EarlyON | ON y va":MAILTO:EarlyONyva@crcoc.ca
END:VEVENT
BEGIN:VEVENT
DTSTART;TZID=America/Toronto:20210316T143000
DTEND;TZID=America/Toronto:20210316T150000
DTSTAMP:20260422T044850
CREATED:20210224T191117Z
LAST-MODIFIED:20210224T191119Z
UID:2193-1615905000-1615906800@events-evenements.crcoc.ca
SUMMARY:La pause café virtuelle - Introduction aux massages pour bébés
DESCRIPTION:Joignez-vous à nous pour une discussion informelle concernant le développement desenfants\, les habiletés parentales et plusieurs autres sujets. À chaque semaine nousdébuterons le groupe avec un sujet de discussion différent. \n\n\n\nLes massages pour bébés offrent de nombreux avantages. Ensemble\,nous explorerons différentes techniques de massages pour bébé etaurons la chance de discuter entre parents.
URL:https://events-evenements.crcoc.ca/event-evenement/la-pause-cafe-virtuelle-introduction-aux-massages-pour-bebes/
LOCATION:Ontario
CATEGORIES:Early ON-ON y va
ATTACH;FMTTYPE=image/jpeg:https://events-evenements.crcoc.ca/wp-content/uploads/2021/01/coffee-chat.jpg
ORGANIZER;CN="EarlyON | ON y va":MAILTO:EarlyONyva@crcoc.ca
END:VEVENT
BEGIN:VEVENT
DTSTART;TZID=America/Toronto:20210316T160000
DTEND;TZID=America/Toronto:20210316T170000
DTSTAMP:20260422T044850
CREATED:20210224T202847Z
LAST-MODIFIED:20210224T214136Z
UID:2267-1615910400-1615914000@events-evenements.crcoc.ca
SUMMARY:Kids Space:  Grades 1 to 3 // Espace Enfants: 1e à 3e année
DESCRIPTION:Kids Space – Grade 1 to 3 – Bilingual – Via Zoom. // Espace Enfants:  1e à 3e année – Bilingue – Via Zoom \n\n\n\nA space to connect with other kids\, have fun\, learn some strategies and talk. Topic will be on Stress and Anxiety. // Un espace pour se connecter avec d’autres enfants\, s’amuser\, apprendre des stratégies et parler.  Le sujet sera sur stress et anxiété. \n\n\n\nTo register\, contact Tanya: tanya@crcoc.ca or 613-830-4357 ext. 140  // Pour vous inscrire\, communiquez avec Tanya:  tanya@crcoc.ca ou 613-830-4357 poste 140
URL:https://events-evenements.crcoc.ca/event-evenement/kids-space-grades-1-to-6/
LOCATION:Ontario
CATEGORIES:Children & Youth-Enfants et jeunes
ATTACH;FMTTYPE=image/jpeg:https://events-evenements.crcoc.ca/wp-content/uploads/2021/01/kids-space-espace-enfants.jpg
ORGANIZER;CN="Children & Youth | Enfants et jeunes":MAILTO:info@crcoc.ca
END:VEVENT
BEGIN:VEVENT
DTSTART;TZID=America/Toronto:20210317T100000
DTEND;TZID=America/Toronto:20210317T103000
DTSTAMP:20260422T044850
CREATED:20210224T192823Z
LAST-MODIFIED:20210309T145306Z
UID:2220-1615975200-1615977000@events-evenements.crcoc.ca
SUMMARY:Interactive circle time!
DESCRIPTION:Come sing\, play and have fun during our virtual circle time! The songs\,rhymes and story time will be enjoyable for all children!
URL:https://events-evenements.crcoc.ca/event-evenement/interactive-circle-time-4-2021-03-17/
LOCATION:Ontario
CATEGORIES:Early ON-ON y va
ATTACH;FMTTYPE=image/png:https://events-evenements.crcoc.ca/wp-content/uploads/2021/01/Interactive-Circle-Time-Tuesdays.png
ORGANIZER;CN="EarlyON | ON y va":MAILTO:EarlyONyva@crcoc.ca
END:VEVENT
BEGIN:VEVENT
DTSTART;TZID=America/Toronto:20210317T110000
DTEND;TZID=America/Toronto:20210317T113000
DTSTAMP:20260422T044850
CREATED:20210226T145258Z
LAST-MODIFIED:20210309T145449Z
UID:2350-1615978800-1615980600@events-evenements.crcoc.ca
SUMMARY:Temps de cercle interactif!
DESCRIPTION:Venez chanter\, jouer et vous amusez avec nous durant nos temps decercle virtuel! Les chansons\, comptines et histoires plairont aux plus petitscomme aux plus grands!
URL:https://events-evenements.crcoc.ca/event-evenement/temps-de-cercle-interactif-11/
LOCATION:Ontario
CATEGORIES:Early ON-ON y va
ATTACH;FMTTYPE=image/png:https://events-evenements.crcoc.ca/wp-content/uploads/2021/01/Interactive-Circle-Time-Tuesdays.png
ORGANIZER;CN="EarlyON | ON y va":MAILTO:EarlyONyva@crcoc.ca
END:VEVENT
BEGIN:VEVENT
DTSTART;TZID=America/Toronto:20210318T093000
DTEND;TZID=America/Toronto:20210318T110000
DTSTAMP:20260422T044850
CREATED:20210224T200703Z
LAST-MODIFIED:20210226T170212Z
UID:2256-1616059800-1616065200@events-evenements.crcoc.ca
SUMMARY:Groupe de jeu francophone en personne à Orléans!
DESCRIPTION:Joignez-vous à nous au Centre de ressources communautaires Orléans-Cumberland (240 boulevard Centrum unité 105 à Orléans) pour ungroupe de jeu en personne!  Conçu pour permettre aux enfants de 0 à 6 ans de vivre des expériencesd’apprentissage par le jeu amusantes et stimulantes!  \n\n\n\nLes familles inscrites devront utiliser la porte arrièrefaisant face au Centre des arts Shenkman pour entrerau Centre ON y va \n\n\n\n** La sécurité de tous nous tiens à coeur. Avant chaque groupe nous feront un courtdépistage de tous les participants et nous prendrons votre température. Le port dumasque est obligatoire pour tous les adultes et fortement recommandé pour lesenfants de plus de 2 ans. Voir les politiques et procédures de la COVID-19 pour plusde détails.**
URL:https://events-evenements.crcoc.ca/event-evenement/groupe-de-jeu-francophone-en-personne-a-orleans-2-2021-03-18/
LOCATION:Ontario
CATEGORIES:Early ON-ON y va
ATTACH;FMTTYPE=image/jpeg:https://events-evenements.crcoc.ca/wp-content/uploads/2021/01/Indoors_Novembre_FR.jpg
ORGANIZER;CN="EarlyON | ON y va":MAILTO:EarlyONyva@crcoc.ca
END:VEVENT
BEGIN:VEVENT
DTSTART;TZID=America/Toronto:20210319T100000
DTEND;TZID=America/Toronto:20210319T103000
DTSTAMP:20260422T044850
CREATED:20210226T150847Z
LAST-MODIFIED:20210310T151752Z
UID:2374-1616148000-1616149800@events-evenements.crcoc.ca
SUMMARY:Interactive circle time!
DESCRIPTION:Come sing\, play and have fun during our virtual circle time! The songs\,rhymes and story time will be enjoyable for all children!
URL:https://events-evenements.crcoc.ca/event-evenement/interactive-circle-time-7/
LOCATION:Ontario
CATEGORIES:Early ON-ON y va
ATTACH;FMTTYPE=image/png:https://events-evenements.crcoc.ca/wp-content/uploads/2021/01/Interactive-Circle-Time-Tuesdays.png
ORGANIZER;CN="EarlyON | ON y va":MAILTO:EarlyONyva@crcoc.ca
END:VEVENT
END:VCALENDAR