BEGIN:VCALENDAR
VERSION:2.0
PRODID:-//OCCRC Events | Évènements CRCOC - ECPv6.15.18//NONSGML v1.0//EN
CALSCALE:GREGORIAN
METHOD:PUBLISH
X-ORIGINAL-URL:https://events-evenements.crcoc.ca
X-WR-CALDESC:Events for OCCRC Events | Évènements CRCOC
REFRESH-INTERVAL;VALUE=DURATION:PT1H
X-Robots-Tag:noindex
X-PUBLISHED-TTL:PT1H
BEGIN:VTIMEZONE
TZID:America/Toronto
BEGIN:DAYLIGHT
TZOFFSETFROM:-0500
TZOFFSETTO:-0400
TZNAME:EDT
DTSTART:20250309T070000
END:DAYLIGHT
BEGIN:STANDARD
TZOFFSETFROM:-0400
TZOFFSETTO:-0500
TZNAME:EST
DTSTART:20251102T060000
END:STANDARD
BEGIN:DAYLIGHT
TZOFFSETFROM:-0500
TZOFFSETTO:-0400
TZNAME:EDT
DTSTART:20260308T070000
END:DAYLIGHT
BEGIN:STANDARD
TZOFFSETFROM:-0400
TZOFFSETTO:-0500
TZNAME:EST
DTSTART:20261101T060000
END:STANDARD
BEGIN:DAYLIGHT
TZOFFSETFROM:-0500
TZOFFSETTO:-0400
TZNAME:EDT
DTSTART:20270314T070000
END:DAYLIGHT
BEGIN:STANDARD
TZOFFSETFROM:-0400
TZOFFSETTO:-0500
TZNAME:EST
DTSTART:20271107T060000
END:STANDARD
END:VTIMEZONE
BEGIN:VEVENT
DTSTART;TZID=America/Toronto:20260528T160000
DTEND;TZID=America/Toronto:20260528T190000
DTSTAMP:20260425T000151
CREATED:20260425T040006Z
LAST-MODIFIED:20260422T153810Z
UID:25404-1779984000-1779994800@events-evenements.crcoc.ca
SUMMARY:Youth Space - Own Your Future: Safety\, Skills & Success  | Espace jeunesse - Futur en main : sécurité\, compétences et réussite
DESCRIPTION:GRADES 7 TO 12 | BILINGUAL | IN PERSON | LIMITED SPOTS (MAX. 15) \nA safe and inclusive space to connect with peers\, be themselves\, have fun\, relate to others and talk about things important to them. \n\n2SLGBTQIA+ Group: April 23rd from 4 PM to 7 PM\n\nTheme: Own Your Future: Safety\, Skills & Success\nActivities: Job charades\, skill development and workplace safety\nMeal: Spaghetti with spinach salad\n\n\n\nRegistration opens the Monday of the week before at 8:30 a.m. and closes the Tuesday prior at 11:30 p.m. If you have any complications registering online\, please email Tanya or call 613-830-4357\, ext. 140. \nNOTE: When registering\, please specify your allergies and dietary restrictions (halal\, dairy\, gluten\, vegetarian\, vegan). \n\n\n\n\nDescription en FRANÇAIS \n7e À LA 12e ANNÉE | BILINGUE | EN PERSONNE | PLACES LIMITÉES (MAX. 15) \nUn espace sécure et inclusif pour que les ados puissent connecter avec leurs pairs·es\, être qui iels sont\, s’amuser\, établir des liens avec les autres et parler de choses importantes pour eux. \n\nGroupe 2ELGBTQIA+ : 23 avril de 16 h à 19 h\n\nThème : Futur en main : sécurité\, compétences et réussite\nActivités : Jeu de mèmes\, scénarios de la vie réelle\, et réécriture de blagues\nRepas : Spaghettis avec salade d’épinards\n\n\n\nL’inscription débute le lundi de la semaine précédente à 8 h 30 et ferme le mardi précédent à 23 h 30. Si l’inscription en ligne vous pose problème\, veuillez envoyer un courriel à Tanya  ou appeler 613-830-4357\, poste 140. \nREMARQUE : Lors de votre inscription\, veuillez préciser vos allergies et restrictions alimentaires (halal\, laitier\, gluten\, végétarien\, végétalien).
URL:https://events-evenements.crcoc.ca/event-evenement/youth-space-own-your-future-safety-skills-success-espace-jeunesse-futur-en-main-securite-competences-et-reussite/
LOCATION:OCCRC | CRCOC\, 240 Centrum Blvd\, Orléans\, Orléans\, K1E 3J4\, Canada
CATEGORIES:Children & Youth-Enfants et jeunes
ATTACH;FMTTYPE=image/png:https://events-evenements.crcoc.ca/wp-content/uploads/2026/04/YS-May-28-2026.png
ORGANIZER;CN="Children & Youth | Enfants et jeunes":MAILTO:info@crcoc.ca
END:VEVENT
BEGIN:VEVENT
DTSTART;TZID=America/Toronto:20260529T093000
DTEND;TZID=America/Toronto:20260529T110000
DTSTAMP:20260425T000151
CREATED:20260224T200008Z
LAST-MODIFIED:20260224T200008Z
UID:25427-1780047000-1780052400@events-evenements.crcoc.ca
SUMMARY:Playgroup | Groupe de jeu
DESCRIPTION:At our main location\, attendance numbers will be distributed 10 minutes prior to the start of playgroup. To help ensure your child’s comfort and well-being\, we recommend arriving right at the scheduled start time to avoid a long wait. \nLet’s meet at the Orléans-Cumberland CRC (240 Centrum Boulevard\, Unit 105) for a Drop-in playgroup! This program is geared toward children 0 to 6 years old. Children will enjoy play-based learning experiences that are fun and engaging. \n**Please note that our morning drop-ins at our main Centre are first-come\, first-served\, with a maximum of 40 people.** \n— \nÀ notre emplacement principal\, les numéros de participation seront distribués 10 minutes avant le début du groupe. Pour assurer le confort et le bien-être de votre enfant\, nous vous recommandons d’arriver à l’heure prévue afin d’éviter une longue attente. \nJoignez-vous à nous au CRC Orléans-Cumberland (240\, boulevard Centrum\, unité 105\, à Orléans) pour un groupe de jeu porte-ouvert ! Conçu pour permettre aux enfants de 0 à 6 ans de vivre des expériences d’apprentissage par le jeu amusantes et stimulantes ! \n**Veuillez noter que ce groupe de jeu est organisé selon le principe du premier arrivé\, premier servi\, avec un maximum de 40 participants.**
URL:https://events-evenements.crcoc.ca/event-evenement/playgroup-groupe-de-jeu-8-2026-03-30-2026-04-30/2026-05-29/
LOCATION:OCCRC | CRCOC\, 240 Centrum Blvd\, Orléans\, Orléans\, K1E 3J4\, Canada
CATEGORIES:Early ON-ON y va
ATTACH;FMTTYPE=image/jpeg:https://events-evenements.crcoc.ca/wp-content/uploads/2022/05/Francophone-Group-Pic.jpg
ORGANIZER;CN="EarlyON | ON y va":MAILTO:EarlyONyva@crcoc.ca
END:VEVENT
BEGIN:VEVENT
DTSTART;TZID=America/Toronto:20260530T093000
DTEND;TZID=America/Toronto:20260530T110000
DTSTAMP:20260425T000151
CREATED:20260224T200008Z
LAST-MODIFIED:20260224T200008Z
UID:25428-1780133400-1780138800@events-evenements.crcoc.ca
SUMMARY:Playgroup | Groupe de jeu
DESCRIPTION:At our main location\, attendance numbers will be distributed 10 minutes prior to the start of playgroup. To help ensure your child’s comfort and well-being\, we recommend arriving right at the scheduled start time to avoid a long wait. \nLet’s meet at the Orléans-Cumberland CRC (240 Centrum Boulevard\, Unit 105) for a Drop-in playgroup! This program is geared toward children 0 to 6 years old. Children will enjoy play-based learning experiences that are fun and engaging. \n**Please note that our morning drop-ins at our main Centre are first-come\, first-served\, with a maximum of 40 people.** \n— \nÀ notre emplacement principal\, les numéros de participation seront distribués 10 minutes avant le début du groupe. Pour assurer le confort et le bien-être de votre enfant\, nous vous recommandons d’arriver à l’heure prévue afin d’éviter une longue attente. \nJoignez-vous à nous au CRC Orléans-Cumberland (240\, boulevard Centrum\, unité 105\, à Orléans) pour un groupe de jeu porte-ouvert ! Conçu pour permettre aux enfants de 0 à 6 ans de vivre des expériences d’apprentissage par le jeu amusantes et stimulantes ! \n**Veuillez noter que ce groupe de jeu est organisé selon le principe du premier arrivé\, premier servi\, avec un maximum de 40 participants.**
URL:https://events-evenements.crcoc.ca/event-evenement/playgroup-groupe-de-jeu-8-2026-03-30-2026-04-30/2026-05-30/
LOCATION:OCCRC | CRCOC\, 240 Centrum Blvd\, Orléans\, Orléans\, K1E 3J4\, Canada
CATEGORIES:Early ON-ON y va
ATTACH;FMTTYPE=image/jpeg:https://events-evenements.crcoc.ca/wp-content/uploads/2022/05/Francophone-Group-Pic.jpg
ORGANIZER;CN="EarlyON | ON y va":MAILTO:EarlyONyva@crcoc.ca
END:VEVENT
END:VCALENDAR