BEGIN:VCALENDAR
VERSION:2.0
PRODID:-//OCCRC Events | Évènements CRCOC - ECPv6.15.18//NONSGML v1.0//EN
CALSCALE:GREGORIAN
METHOD:PUBLISH
X-WR-CALNAME:OCCRC Events | Évènements CRCOC
X-ORIGINAL-URL:https://events-evenements.crcoc.ca
X-WR-CALDESC:Events for OCCRC Events | Évènements CRCOC
REFRESH-INTERVAL;VALUE=DURATION:PT1H
X-Robots-Tag:noindex
X-PUBLISHED-TTL:PT1H
BEGIN:VTIMEZONE
TZID:America/Toronto
BEGIN:DAYLIGHT
TZOFFSETFROM:-0500
TZOFFSETTO:-0400
TZNAME:EDT
DTSTART:20240310T070000
END:DAYLIGHT
BEGIN:STANDARD
TZOFFSETFROM:-0400
TZOFFSETTO:-0500
TZNAME:EST
DTSTART:20241103T060000
END:STANDARD
BEGIN:DAYLIGHT
TZOFFSETFROM:-0500
TZOFFSETTO:-0400
TZNAME:EDT
DTSTART:20250309T070000
END:DAYLIGHT
BEGIN:STANDARD
TZOFFSETFROM:-0400
TZOFFSETTO:-0500
TZNAME:EST
DTSTART:20251102T060000
END:STANDARD
BEGIN:DAYLIGHT
TZOFFSETFROM:-0500
TZOFFSETTO:-0400
TZNAME:EDT
DTSTART:20260308T070000
END:DAYLIGHT
BEGIN:STANDARD
TZOFFSETFROM:-0400
TZOFFSETTO:-0500
TZNAME:EST
DTSTART:20261101T060000
END:STANDARD
END:VTIMEZONE
BEGIN:VEVENT
DTSTART;TZID=America/Toronto:20250610T093000
DTEND;TZID=America/Toronto:20250610T110000
DTSTAMP:20260424T101710
CREATED:20250524T205150Z
LAST-MODIFIED:20250524T205150Z
UID:22590-1749547800-1749553200@events-evenements.crcoc.ca
SUMMARY:English playgroup at the EarlyON Centre!
DESCRIPTION:Let’s meet at the Orléans-Cumberland CRC (240 Centrum Boulevard\, Unit 105) for a Drop-in playgroup! This program is geared toward children 0 to 6 years old. Children will enjoy play-based learning experiences that are fun and engaging. \n**Please note that our morning drop-ins at our main Centre are first-come-first-serve\, with a maximum of 35 people.**
URL:https://events-evenements.crcoc.ca/event-evenement/english-playgroup-at-the-earlyon-centre-37/2025-06-10/
LOCATION:OCCRC | CRCOC\, 240 Centrum Blvd\, Orléans\, Orléans\, K1E 3J4\, Canada
CATEGORIES:Early ON-ON y va
ATTACH;FMTTYPE=image/jpeg:https://events-evenements.crcoc.ca/wp-content/uploads/2022/05/Francophone-Group-Pic.jpg
ORGANIZER;CN="EarlyON | ON y va":MAILTO:EarlyONyva@crcoc.ca
END:VEVENT
BEGIN:VEVENT
DTSTART;TZID=America/Toronto:20250610T171500
DTEND;TZID=America/Toronto:20250610T184500
DTSTAMP:20260424T101710
CREATED:20250525T031851Z
LAST-MODIFIED:20250609T145927Z
UID:22633-1749575700-1749581100@events-evenements.crcoc.ca
SUMMARY:CANCELLED Evening French Immesion Playgroup | ANNULÉ Groupe de jeu en immersion française
DESCRIPTION:Would you like your child to be exposed to French? Does your family already speak French? We have the perfect opportunity for you! Join us for our French Immersion playgroup. Our Family Resource Workers will be speaking French throughout the session\, and we encourage adults to also engage in French conversation. Translation devices will be available to assist with communication. \n— \nNous invitons également les familles francophones à participer à notre groupe de jeu pour nous aider et contribuer à l’exposition de cette belle langue minoritaire. Rejoignez-nous au 240 boul. Centrum pour un groupe de jeu en soirée remplie d’activitées amusantes.
URL:https://events-evenements.crcoc.ca/event-evenement/evening-french-immesion-playgroup-groupe-de-jeu-en-immersion-francaise-2/
LOCATION:OCCRC | CRCOC\, 240 Centrum Blvd\, Orléans\, Orléans\, K1E 3J4\, Canada
CATEGORIES:Early ON-ON y va
ATTACH;FMTTYPE=image/png:https://events-evenements.crcoc.ca/wp-content/uploads/2024/03/Screenshot-2024-03-25-at-3.00.02 PM.png
ORGANIZER;CN="EarlyON | ON y va":MAILTO:EarlyONyva@crcoc.ca
END:VEVENT
END:VCALENDAR