BEGIN:VCALENDAR
VERSION:2.0
PRODID:-//OCCRC Events | Évènements CRCOC - ECPv6.15.18//NONSGML v1.0//EN
CALSCALE:GREGORIAN
METHOD:PUBLISH
X-ORIGINAL-URL:https://events-evenements.crcoc.ca
X-WR-CALDESC:Events for OCCRC Events | Évènements CRCOC
REFRESH-INTERVAL;VALUE=DURATION:PT1H
X-Robots-Tag:noindex
X-PUBLISHED-TTL:PT1H
BEGIN:VTIMEZONE
TZID:America/Toronto
BEGIN:DAYLIGHT
TZOFFSETFROM:-0500
TZOFFSETTO:-0400
TZNAME:EDT
DTSTART:20240310T070000
END:DAYLIGHT
BEGIN:STANDARD
TZOFFSETFROM:-0400
TZOFFSETTO:-0500
TZNAME:EST
DTSTART:20241103T060000
END:STANDARD
BEGIN:DAYLIGHT
TZOFFSETFROM:-0500
TZOFFSETTO:-0400
TZNAME:EDT
DTSTART:20250309T070000
END:DAYLIGHT
BEGIN:STANDARD
TZOFFSETFROM:-0400
TZOFFSETTO:-0500
TZNAME:EST
DTSTART:20251102T060000
END:STANDARD
BEGIN:DAYLIGHT
TZOFFSETFROM:-0500
TZOFFSETTO:-0400
TZNAME:EDT
DTSTART:20260308T070000
END:DAYLIGHT
BEGIN:STANDARD
TZOFFSETFROM:-0400
TZOFFSETTO:-0500
TZNAME:EST
DTSTART:20261101T060000
END:STANDARD
END:VTIMEZONE
BEGIN:VEVENT
DTSTART;TZID=America/Toronto:20250303T133000
DTEND;TZID=America/Toronto:20250303T150000
DTSTAMP:20260425T181528
CREATED:20240624T134751Z
LAST-MODIFIED:20250303T200551Z
UID:21895-1741008600-1741014000@events-evenements.crcoc.ca
SUMMARY:Baby & Me playgroup at the EarlyON Centre! // Groupe de jeu Bébé & Moi au Centre ON y va !
DESCRIPTION:Let’s meet at the Orléans-Cumberland CRC (240 Centrum Boulevard\, Unit 105) for a drop-in playgroup! Join a small group of parents and babies to chat\, share parenting stories\, and socialize in a safe and friendly environment. This program is for parents with babies (newborn until they are walking). Once your baby begins walking\, they’ll be ready for our other playgroups more suited to their developmental stage. \n*Please note: This playgroup operates on a first-come\, first-served basis with a maximum of 16 families.* \n\nJoignez-vous à nous au CRC Orléans-Cumberland (240 boulevard Centrum unité 105) pour un groupe de jeu! Avec un petit groupe de parents et bébés\, venez discuter et partager vos histoires avec d’autres parents et socialiser dans un environnement amical et sécuritaire. Ce programme est destiné aux parents avec des bébés (nouveau-né jusqu’à ce qu’ils marchent). Une fois que votre bébé commence à marcher\, il sera prêt pour nos autres groupes de jeu mieux adaptés à son stade de développement. \n*Veuillez noter: Ce groupe de jeu est organisé selon le principe du premier arrivé\, premier servi\, avec un maximum de 16 familles.**
URL:https://events-evenements.crcoc.ca/event-evenement/baby-me-playgroup-at-the-earlyon-centre-groupe-de-jeu-bebe-moi-au-centre-on-y-va-26-2024-07-29-2024-08-19-2024-09-30-2024-10-28-2024-11-25-2025-01-27-2025-02-03/2025-03-03/
LOCATION:OCCRC | CRCOC\, 240 Centrum Blvd\, Orléans\, Orléans\, K1E 3J4\, Canada
CATEGORIES:Early ON-ON y va
ATTACH;FMTTYPE=image/jpeg:https://events-evenements.crcoc.ca/wp-content/uploads/2021/09/Baby-Me-Picture.jpg
ORGANIZER;CN="EarlyON | ON y va":MAILTO:EarlyONyva@crcoc.ca
END:VEVENT
BEGIN:VEVENT
DTSTART;TZID=America/Toronto:20250303T133000
DTEND;TZID=America/Toronto:20250303T150000
DTSTAMP:20260425T181528
CREATED:20250303T200757Z
LAST-MODIFIED:20250303T200757Z
UID:22112-1741008600-1741014000@events-evenements.crcoc.ca
SUMMARY:Baby & Me playgroup at the EarlyON Centre! // Groupe de jeu Bébé & Moi au Centre ON y va !
DESCRIPTION:Let’s meet at the Orléans-Cumberland CRC (240 Centrum Boulevard\, Unit 105) for a drop-in playgroup! Join a small group of parents and babies to chat\, share parenting stories\, and socialize in a safe and friendly environment. This program is for parents with babies (newborn until they are walking). Once your baby begins walking\, they’ll be ready for our other playgroups more suited to their developmental stage. \n*Please note: This playgroup operates on a first-come\, first-served basis with a maximum of 16 families.* \n\nJoignez-vous à nous au CRC Orléans-Cumberland (240 boulevard Centrum unité 105) pour un groupe de jeu! Avec un petit groupe de parents et bébés\, venez discuter et partager vos histoires avec d’autres parents et socialiser dans un environnement amical et sécuritaire. Ce programme est destiné aux parents avec des bébés (nouveau-né jusqu’à ce qu’ils marchent). Une fois que votre bébé commence à marcher\, il sera prêt pour nos autres groupes de jeu mieux adaptés à son stade de développement. \n*Veuillez noter: Ce groupe de jeu est organisé selon le principe du premier arrivé\, premier servi\, avec un maximum de 16 familles.**3
URL:https://events-evenements.crcoc.ca/event-evenement/baby-me-playgroup-at-the-earlyon-centre-groupe-de-jeu-bebe-moi-au-centre-on-y-va-27/2025-03-03/
LOCATION:OCCRC | CRCOC\, 240 Centrum Blvd\, Orléans\, Orléans\, K1E 3J4\, Canada
CATEGORIES:Early ON-ON y va
ATTACH;FMTTYPE=image/jpeg:https://events-evenements.crcoc.ca/wp-content/uploads/2021/09/Baby-Me-Picture.jpg
ORGANIZER;CN="EarlyON | ON y va":MAILTO:EarlyONyva@crcoc.ca
END:VEVENT
BEGIN:VEVENT
DTSTART;TZID=America/Toronto:20250304T093000
DTEND;TZID=America/Toronto:20250304T110000
DTSTAMP:20260425T181528
CREATED:20250303T201114Z
LAST-MODIFIED:20250303T201114Z
UID:22119-1741080600-1741086000@events-evenements.crcoc.ca
SUMMARY:English playgroup at the EarlyON Centre!
DESCRIPTION:Let’s meet at the Orléans-Cumberland CRC (240 Centrum Boulevard\, Unit 105) for a Drop-in playgroup! This program is geared toward children 0 to 6 years old. Children will enjoy play-based learning experiences that are fun and engaging. \nPlease participate in the group of the language spoken by the adult. \n**Please note that our morning drop-ins at our main Centre are first-come-first-serve\, with a maximum of 35 people.**
URL:https://events-evenements.crcoc.ca/event-evenement/english-playgroup-at-the-earlyon-centre-36/2025-03-04/
LOCATION:OCCRC | CRCOC\, 240 Centrum Blvd\, Orléans\, Orléans\, K1E 3J4\, Canada
CATEGORIES:Early ON-ON y va
ATTACH;FMTTYPE=image/jpeg:https://events-evenements.crcoc.ca/wp-content/uploads/2022/05/Francophone-Group-Pic.jpg
ORGANIZER;CN="EarlyON | ON y va":MAILTO:EarlyONyva@crcoc.ca
END:VEVENT
BEGIN:VEVENT
DTSTART;TZID=America/Toronto:20250305T093000
DTEND;TZID=America/Toronto:20250305T110000
DTSTAMP:20260425T181528
CREATED:20240924T185306Z
LAST-MODIFIED:20250226T150034Z
UID:21900-1741167000-1741172400@events-evenements.crcoc.ca
SUMMARY:Playgroup at the Navan Arena //  Groupe de jeu à l’aréna de Navan
DESCRIPTION:Let’s meet at the Navan Memorial Centre & Arena\, 1295 Colonial Road\, Navan\, ON K4B 1N1\, for a Drop-in playgroup! This program is geared toward children 0 to 6 years old. Children will enjoy play-based learning experiences that are fun and engaging. When Ottawa school buses are cancelled\, so will our rural playgroups. \n— \nJoignez-vous à nous au Centre commémoratif et aréna de Navan\, 1295 Colonial Road\, Navan\, ON K4B 1N1 pour un groupe de jeu porte ouverte !  Conçu pour permettre aux enfants de 0 à 6 ans de vivre des expériences d’apprentissage par le jeu amusantes et stimulantes ! Lorsque les autobus scolaires d’Ottawa sont annulés\, nos groupes de jeu ruraux le seront également. \n 
URL:https://events-evenements.crcoc.ca/event-evenement/playgroup-at-the-navan-arena-groupe-de-jeu-a-larena-de-navan-12-2024-10-23-2025-01-22-2025-02-19/2025-03-05/
LOCATION:Navan Memorial Centre | Centre commémoratif de Navan\, 1295 Colonial Rd\, Navan\, Ontario\, K4B 1N1\, Canada
CATEGORIES:Early ON-ON y va
ATTACH;FMTTYPE=image/jpeg:https://events-evenements.crcoc.ca/wp-content/uploads/2022/03/Cumberland-Pic.jpg
ORGANIZER;CN="EarlyON | ON y va":MAILTO:EarlyONyva@crcoc.ca
END:VEVENT
BEGIN:VEVENT
DTSTART;TZID=America/Toronto:20250306T133000
DTEND;TZID=America/Toronto:20250306T153000
DTSTAMP:20260425T181528
CREATED:20250303T201428Z
LAST-MODIFIED:20250303T201428Z
UID:22128-1741267800-1741275000@events-evenements.crcoc.ca
SUMMARY:Parenting in Ottawa Drop-Ins  //  Carrefours « Être parent à Ottawa »
DESCRIPTION:Speak\, in person\, with a Public Health Nurse about parenting. No appointment is necessary. Drop in during the clinic’s hours. \n\nGet support for infant feeding.\nLearn ways to help your child eat healthy and be active\nMake sure your child is on track with their growth and development\nAsk about your child’s social and emotional development\n\nThe program is available to: \n\nExpectant parents\, parents and guardians of children aged birth to 6 years of age\n\nThursdays from 1:30 p.m. to 3:30 p.m. – 240 Centrum Blvd\, Orléans\, ON K1E 3J4. \n\nVous pouvez parler de votre rôle de parent avec une infirmière en santé publique. Aucun rendez-vous nécessaire\, il suffit de se présenter pendant les heures d’ouverture de la clinique. \n\nObtenez du soutien à l’allaitement.\nApprenez comment aider votre enfant à bien manger et à être actif.\nAssurez-vous de la bonne croissance et du bon développement de votre enfant.\nInformez-vous sur le développement social et émotionnel de votre enfant.\n\nÀ qui s’adresse le programme ? \n\nAux futurs parents\, parents et tuteurs d’enfants de la naissance à six ans.\n\nLes jeudis de 13 h 30 à 15 h 30 – 240 boulevard Centrum\, Orléans (Ontario) K1E 3J4.
URL:https://events-evenements.crcoc.ca/event-evenement/parenting-in-ottawa-drop-ins-carrefours-etre-parent-a-ottawa-14/2025-03-06/
LOCATION:OCCRC | CRCOC\, 240 Centrum Blvd\, Orléans\, Orléans\, K1E 3J4\, Canada
CATEGORIES:Early ON-ON y va
ATTACH;FMTTYPE=image/png:https://events-evenements.crcoc.ca/wp-content/uploads/2022/06/parenting-on-ottawa-pic.png
ORGANIZER;CN="EarlyON | ON y va":MAILTO:EarlyONyva@crcoc.ca
END:VEVENT
BEGIN:VEVENT
DTSTART;TZID=America/Toronto:20250306T133000
DTEND;TZID=America/Toronto:20250306T153000
DTSTAMP:20260425T181528
CREATED:20250303T201600Z
LAST-MODIFIED:20250303T201643Z
UID:22133-1741267800-1741275000@events-evenements.crcoc.ca
SUMMARY:Baby weigh-In //  Prise de poids pour bébés
DESCRIPTION:During Parenting in Ottawa Drop-ins\, parents can weigh their baby (self-serve) on Thursdays from 1:30 to 3:30 p.m. No appointment is needed. \n— \nDurant les Carrefours « Être parent à Ottawa »\, les parents peuvent peser leur bébé (libre-service) les jeudis de 13 h 30 à 15 h 30. Aucun rendez-vous nécessaire.
URL:https://events-evenements.crcoc.ca/event-evenement/baby-weigh-in-prise-de-poids-pour-bebes-24/2025-03-06/
LOCATION:OCCRC | CRCOC\, 240 Centrum Blvd\, Orléans\, Orléans\, K1E 3J4\, Canada
CATEGORIES:Early ON-ON y va
ATTACH;FMTTYPE=image/jpeg:https://events-evenements.crcoc.ca/wp-content/uploads/2021/07/Baby-Weigh-in-pict.jpg
ORGANIZER;CN="EarlyON | ON y va":MAILTO:EarlyONyva@crcoc.ca
END:VEVENT
BEGIN:VEVENT
DTSTART;TZID=America/Toronto:20250312T093000
DTEND;TZID=America/Toronto:20250312T110000
DTSTAMP:20260425T181528
CREATED:20240924T185043Z
LAST-MODIFIED:20250226T150153Z
UID:21903-1741771800-1741777200@events-evenements.crcoc.ca
SUMMARY:Playgroup at R.J. Kennedy Arena //  Groupe de jeu à l'aréna R.J. Kennedy
DESCRIPTION:Let’s meet at the R.J. Kennedy Arena\, 1115 Dunning Road\, for a playgroup! This program is geared toward children 0 to 6 years old. Children will enjoy play-based learning experiences that are fun and engaging. Our playgroups in Cumberland will now be inside the Cumberland Arena. When Ottawa school buses are cancelled\, so will our rural playgroups. \n— \nJoignez-vous à nous à l’aréna R.J. Kennedy au 1115 chemin Dunning\, pour un groupe de jeu ! Conçu pour permettre aux enfants de 0 à 6 ans de vivre des expériences d’apprentissage par le jeu amusantes et stimulantes ! Notre groupe de jeu à Cumberland se déroulera à l’intérieur de l’aréna de Cumberland. Lorsque les autobus scolaires d’Ottawa sont annulés\, nos groupes de jeu ruraux le seront également.
URL:https://events-evenements.crcoc.ca/event-evenement/playgroup-at-r-j-kennedy-park-groupe-de-jeu-au-parc-r-j-kennedy-2-2024-11-27-2025-01-29-2025-02-12-2025-02-26/
LOCATION:R.J. Kennedy Arena | Aréna R.J. Kennedy\, 1115 Dunning Rd\, Cumberland\, Ontario\, K4C 1P6\, Canada
CATEGORIES:Early ON-ON y va
ATTACH;FMTTYPE=image/jpeg:https://events-evenements.crcoc.ca/wp-content/uploads/2021/12/pic-0-to-2-ans.jpg
ORGANIZER;CN="EarlyON | ON y va":MAILTO:EarlyONyva@crcoc.ca
END:VEVENT
BEGIN:VEVENT
DTSTART;TZID=America/Toronto:20250312T180000
DTEND;TZID=America/Toronto:20250312T193000
DTSTAMP:20260425T181528
CREATED:20240325T190055Z
LAST-MODIFIED:20250226T153008Z
UID:20321-1741802400-1741807800@events-evenements.crcoc.ca
SUMMARY:Evening Playgroup | Groupe de jeu en soirée
DESCRIPTION:Did your child start school or daycare and misses playgroup? Are you looking for a special evening activity for you and your family? Join us at 240 Centrum Blvd for an evening playgroup filled with fun activities. \n *Registration is required. When registering\, please enter the total number of guests\, e.g. parent and child = 2 guests. \nStarting March 1 at 1:00 p.m.\, register here! \n\nEst-ce que votre enfant a débuté l’école ou la garderie et manque les groupes de jeu Cherchez-vous une activité en soirée pour votre famille? Joignez-vous à nous au 240 boul. Centrum pour un groupe de jeu en soirée remplie d’activitées amusantes. \n *L’inscription est requise. Lors de l’inscription\, veuillez indiquer le nombre total d’invités\, par exemple\, parent et enfant = 2 invités. \nA partir du 1er mars à 13 h\, inscrivez-vous ici !
URL:https://events-evenements.crcoc.ca/event-evenement/evening-playgroup-groupe-de-jeu-en-soiree/
LOCATION:OCCRC | CRCOC\, 240 Centrum Blvd\, Orléans\, Orléans\, K1E 3J4\, Canada
CATEGORIES:Early ON-ON y va
ATTACH;FMTTYPE=image/png:https://events-evenements.crcoc.ca/wp-content/uploads/2024/03/Screenshot-2024-03-25-at-3.00.02 PM.png
ORGANIZER;CN="EarlyON | ON y va":MAILTO:EarlyONyva@crcoc.ca
END:VEVENT
BEGIN:VEVENT
DTSTART;TZID=America/Toronto:20250322T093000
DTEND;TZID=America/Toronto:20250322T110000
DTSTAMP:20260425T181528
CREATED:20240624T142853Z
LAST-MODIFIED:20250320T141356Z
UID:22058-1742635800-1742641200@events-evenements.crcoc.ca
SUMMARY:Saturday Playgroup at the EarlyON Centre! | Groupe de jeu du samedi au Centre ON y va !
DESCRIPTION:Let’s meet at the Orléans-Cumberland CRC (240 Centrum Boulevard Unit 105) for a Drop-in playgroup! This program is geared toward children 0 to 6 years old. Children will enjoy play-based learning experiences that are fun and engaging. \n\nJoignez-vous à nous au CRC Orléans-Cumberland (240 boulevard Centrum unité 105 à Orléans) pour un groupe de jeu porte ouverte ! Conçu pour permettre aux enfants de 0 à 6 ans de vivre des expériences d’apprentissage par le jeu amusantes et stimulantes !
URL:https://events-evenements.crcoc.ca/event-evenement/saturday-playgroup-at-the-earlyon-centre-groupe-de-jeu-du-samedi-au-centre-on-y-va-22-2024-07-27-2024-09-28-2024-10-26-2024-11-30-2025-01-25-2025-02-22-2025-03-22/2025-03-22/
LOCATION:OCCRC | CRCOC\, 240 Centrum Blvd\, Orléans\, Orléans\, K1E 3J4\, Canada
CATEGORIES:Early ON-ON y va
ATTACH;FMTTYPE=image/jpeg:https://events-evenements.crcoc.ca/wp-content/uploads/2022/05/Francophone-Group-Pic.jpg
ORGANIZER;CN="EarlyON | ON y va":MAILTO:EarlyONyva@crcoc.ca
END:VEVENT
BEGIN:VEVENT
DTSTART;TZID=America/Toronto:20250325T130000
DTEND;TZID=America/Toronto:20250325T140000
DTSTAMP:20260425T181528
CREATED:20230523T224850Z
LAST-MODIFIED:20250226T154228Z
UID:17725-1742907600-1742911200@events-evenements.crcoc.ca
SUMMARY:Virtual Baby Sign Language Workshop  |  Atelier virtuel de langage signé pour bébé
DESCRIPTION:Come join us virtually for a Baby Sign Language Workshop for children under 2. We will explore some signs to facilitate communication between you and your baby. \nStarting March 1 at 1:00 p.m.\, register here! \n— \nJoignez-vous à nous virtuellement pour un atelier de langage signé pour les enfants âgés de 2 ans et moins. Venez explorer quelques signes clés pour faciliter la communication entre vous et votre bébé. \nA partir du 1er mars à 13 h\, inscrivez-vous ici !
URL:https://events-evenements.crcoc.ca/event-evenement/virtual-baby-sign-language-workshop-atelier-virtuel-de-langage-signe-pour-bebe/
LOCATION:Zoom
CATEGORIES:Early ON-ON y va
ATTACH;FMTTYPE=image/png:https://events-evenements.crcoc.ca/wp-content/uploads/2023/05/Screenshot-2023-05-23-at-6.44.46-PM.png
ORGANIZER;CN="EarlyON | ON y va":MAILTO:EarlyONyva@crcoc.ca
END:VEVENT
BEGIN:VEVENT
DTSTART;TZID=America/Toronto:20250326T093000
DTEND;TZID=America/Toronto:20250326T110000
DTSTAMP:20260425T181528
CREATED:20240924T185043Z
LAST-MODIFIED:20250320T140236Z
UID:22052-1742981400-1742986800@events-evenements.crcoc.ca
SUMMARY:Playgroup at R.J. Kennedy Arena |  Groupe de jeu à l'aréna R.J. Kennedy
DESCRIPTION:Let’s meet every Wednesday at the R.J. Kennedy Arena\, 1115 Dunning Road\, for a playgroup! This program is geared toward children under the age of 6. Children will enjoy play-based learning experiences that are fun and engaging. \n— \nRejoignez-nous à chaque mercredi à l’aréna R.J. Kennedy au 1115 chemin Dunning pour un groupe de jeu ! Ce programme est conçu pour permettre aux enfants âgés de 6 ans et moins de vivre des expériences d’apprentissage par le jeu amusantes et stimulantes !
URL:https://events-evenements.crcoc.ca/event-evenement/playgroup-at-r-j-kennedy-park-groupe-de-jeu-au-parc-r-j-kennedy-2-2024-11-27-2025-01-29-2025-02-12-2025-02-26-2025-03-26/2025-03-26/
LOCATION:R.J. Kennedy Arena | Aréna R.J. Kennedy\, 1115 Dunning Rd\, Cumberland\, Ontario\, K4C 1P6\, Canada
CATEGORIES:Early ON-ON y va
ATTACH;FMTTYPE=image/jpeg:https://events-evenements.crcoc.ca/wp-content/uploads/2021/12/pic-0-to-2-ans.jpg
ORGANIZER;CN="EarlyON | ON y va":MAILTO:EarlyONyva@crcoc.ca
END:VEVENT
BEGIN:VEVENT
DTSTART;TZID=America/Toronto:20250327T133000
DTEND;TZID=America/Toronto:20250327T153000
DTSTAMP:20260425T181528
CREATED:20250303T201428Z
LAST-MODIFIED:20250320T140204Z
UID:22131-1743082200-1743089400@events-evenements.crcoc.ca
SUMMARY:Parenting in Ottawa Drop-Ins  | Carrefours « Être parent à Ottawa »
DESCRIPTION:Speak\, in person\, with a Public Health Nurse about parenting. No appointment is necessary. Drop in during the clinic’s hours. \n\nGet support for infant feeding.\nLearn ways to help your child eat healthy and be active\nMake sure your child is on track with their growth and development\nAsk about your child’s social and emotional development\n\nThe program is available to: \n\nExpectant parents\, parents and guardians of children aged birth to 6 years of age\n\nThursdays from 1:30 p.m. to 3:30 p.m. – 240 Centrum Blvd\, Orléans\, ON K1E 3J4. \n\nVous pouvez parler de votre rôle de parent avec une infirmière en santé publique. Aucun rendez-vous nécessaire\, il suffit de se présenter pendant les heures d’ouverture de la clinique. \n\nObtenez du soutien à l’allaitement.\nApprenez comment aider votre enfant à bien manger et à être actif.\nAssurez-vous de la bonne croissance et du bon développement de votre enfant.\nInformez-vous sur le développement social et émotionnel de votre enfant.\n\nÀ qui s’adresse le programme ? \n\nAux futurs parents\, parents et tuteurs d’enfants de la naissance à six ans.\n\nLes jeudis de 13 h 30 à 15 h 30 – 240 boulevard Centrum\, Orléans (Ontario) K1E 3J4.
URL:https://events-evenements.crcoc.ca/event-evenement/parenting-in-ottawa-drop-ins-carrefours-etre-parent-a-ottawa-14-2025-03-27/2025-03-27/
LOCATION:OCCRC | CRCOC\, 240 Centrum Blvd\, Orléans\, Orléans\, K1E 3J4\, Canada
CATEGORIES:Early ON-ON y va
ATTACH;FMTTYPE=image/png:https://events-evenements.crcoc.ca/wp-content/uploads/2022/06/parenting-on-ottawa-pic.png
ORGANIZER;CN="EarlyON | ON y va":MAILTO:EarlyONyva@crcoc.ca
END:VEVENT
BEGIN:VEVENT
DTSTART;TZID=America/Toronto:20250327T133000
DTEND;TZID=America/Toronto:20250327T153000
DTSTAMP:20260425T181528
CREATED:20250303T201600Z
LAST-MODIFIED:20250320T140139Z
UID:22137-1743082200-1743089400@events-evenements.crcoc.ca
SUMMARY:Baby Weigh-In |  Prise de poids pour bébés
DESCRIPTION:During Parenting in Ottawa Drop-ins\, parents can weigh their baby (self-serve) on Thursdays from 1:30 to 3:30 p.m. No appointment is needed. \n— \nDurant les Carrefours « Être parent à Ottawa »\, les parents peuvent peser leur bébé (libre-service) les jeudis de 13 h 30 à 15 h 30. Aucun rendez-vous nécessaire.
URL:https://events-evenements.crcoc.ca/event-evenement/baby-weigh-in-prise-de-poids-pour-bebes-24-2025-03-27/2025-03-27/
LOCATION:OCCRC | CRCOC\, 240 Centrum Blvd\, Orléans\, Orléans\, K1E 3J4\, Canada
CATEGORIES:Early ON-ON y va
ATTACH;FMTTYPE=image/jpeg:https://events-evenements.crcoc.ca/wp-content/uploads/2021/07/Baby-Weigh-in-pict.jpg
ORGANIZER;CN="EarlyON | ON y va":MAILTO:EarlyONyva@crcoc.ca
END:VEVENT
BEGIN:VEVENT
DTSTART;TZID=America/Toronto:20250328T093000
DTEND;TZID=America/Toronto:20250328T110000
DTSTAMP:20260425T181528
CREATED:20250303T201114Z
LAST-MODIFIED:20250320T134946Z
UID:22126-1743154200-1743159600@events-evenements.crcoc.ca
SUMMARY:English playgroup at the EarlyON Centre!
DESCRIPTION:Let’s meet at the Orléans-Cumberland CRC (240 Centrum Boulevard\, Unit 105) for a Drop-in playgroup! This program is geared toward children 0 to 6 years old. Children will enjoy play-based learning experiences that are fun and engaging. \nPlease participate in the group of the language spoken by the adult. \n**Please note that our morning drop-ins at our main Centre are first-come-first-serve\, with a maximum of 35 people.**
URL:https://events-evenements.crcoc.ca/event-evenement/english-playgroup-at-the-earlyon-centre-36-2025-03-28/2025-03-28/
LOCATION:OCCRC | CRCOC\, 240 Centrum Blvd\, Orléans\, Orléans\, K1E 3J4\, Canada
CATEGORIES:Early ON-ON y va
ATTACH;FMTTYPE=image/jpeg:https://events-evenements.crcoc.ca/wp-content/uploads/2022/05/Francophone-Group-Pic.jpg
ORGANIZER;CN="EarlyON | ON y va":MAILTO:EarlyONyva@crcoc.ca
END:VEVENT
BEGIN:VEVENT
DTSTART;TZID=America/Toronto:20250329T093000
DTEND;TZID=America/Toronto:20250329T110000
DTSTAMP:20260425T181528
CREATED:20250320T141701Z
LAST-MODIFIED:20250320T141701Z
UID:22248-1743240600-1743246000@events-evenements.crcoc.ca
SUMMARY:Saturday Playgroup at the EarlyON Centre! | Groupe de jeu du samedi au Centre ON y va !
DESCRIPTION:Let’s meet at the Orléans-Cumberland CRC (240 Centrum Boulevard Unit 105) for a Drop-in playgroup! This program is geared toward children 0 to 6 years old. Children will enjoy play-based learning experiences that are fun and engaging. \n— \nJoignez-vous à nous au CRC Orléans-Cumberland (240 boulevard Centrum unité 105 à Orléans) pour un groupe de jeu porte ouverte ! Conçu pour permettre aux enfants de 0 à 6 ans de vivre des expériences d’apprentissage par le jeu amusantes et stimulantes !
URL:https://events-evenements.crcoc.ca/event-evenement/saturday-playgroup-at-the-earlyon-centre-groupe-de-jeu-du-samedi-au-centre-on-y-va-23/2025-03-29/
LOCATION:OCCRC | CRCOC\, 240 Centrum Blvd\, Orléans\, Orléans\, K1E 3J4\, Canada
CATEGORIES:Early ON-ON y va
ATTACH;FMTTYPE=image/jpeg:https://events-evenements.crcoc.ca/wp-content/uploads/2022/05/Francophone-Group-Pic.jpg
ORGANIZER;CN="EarlyON | ON y va":MAILTO:EarlyONyva@crcoc.ca
END:VEVENT
BEGIN:VEVENT
DTSTART;TZID=America/Toronto:20250331T093000
DTEND;TZID=America/Toronto:20250331T110000
DTSTAMP:20260425T181528
CREATED:20241223T190753Z
LAST-MODIFIED:20250320T134802Z
UID:22050-1743413400-1743418800@events-evenements.crcoc.ca
SUMMARY:Groupe de jeu francophone au Centre ON y va !
DESCRIPTION:Joignez-vous à nous au CRC Orléans-Cumberland (240 boulevard Centrum unité 105 à Orléans) pour un groupe de jeu porte ouverte ! Conçu pour permettre aux enfants de 0 à 6 ans de vivre des expériences d’apprentissage par le jeu amusantes et stimulantes ! \nVeuillez vous présenter au groupe de jeu de la langue parlée par l’adulte. \n**Veuillez noter que ce groupe de jeu est organisé selon le principe du premier arrivé\, premier servi\, avec un maximum de 16 familles.**
URL:https://events-evenements.crcoc.ca/event-evenement/groupe-de-jeu-francophone-au-centre-on-y-va-34-2025-01-30-2025-02-27-2025-03-31/2025-03-31/
LOCATION:OCCRC | CRCOC\, 240 Centrum Blvd\, Orléans\, Orléans\, K1E 3J4\, Canada
CATEGORIES:Early ON-ON y va
ATTACH;FMTTYPE=image/jpeg:https://events-evenements.crcoc.ca/wp-content/uploads/2022/05/Francophone-Group-Pic.jpg
ORGANIZER;CN="EarlyON | ON y va":MAILTO:EarlyONyva@crcoc.ca
END:VEVENT
BEGIN:VEVENT
DTSTART;TZID=America/Toronto:20250331T133000
DTEND;TZID=America/Toronto:20250331T150000
DTSTAMP:20260425T181528
CREATED:20250303T200757Z
LAST-MODIFIED:20250320T143428Z
UID:22116-1743427800-1743433200@events-evenements.crcoc.ca
SUMMARY:Baby & Me playgroup at the EarlyON Centre! // Groupe de jeu Bébé & Moi au Centre ON y va !
DESCRIPTION:Let’s meet at the Orléans-Cumberland CRC (240 Centrum Boulevard\, Unit 105) for a drop-in playgroup! Join a small group of parents and babies to chat\, share parenting stories\, and socialize in a safe and friendly environment. This program is for parents with babies (newborn until they are walking). Once your baby begins walking\, they’ll be ready for our other playgroups more suited to their developmental stage. \n*Please note: This playgroup operates on a first-come\, first-served basis with a maximum of 16 families.* \n\nJoignez-vous à nous au CRC Orléans-Cumberland (240 boulevard Centrum unité 105) pour un groupe de jeu! Avec un petit groupe de parents et bébés\, venez discuter et partager vos histoires avec d’autres parents et socialiser dans un environnement amical et sécuritaire. Ce programme est destiné aux parents avec des bébés (nouveau-né jusqu’à ce qu’ils marchent). Une fois que votre bébé commence à marcher\, il sera prêt pour nos autres groupes de jeu mieux adaptés à son stade de développement. \n*Veuillez noter: Ce groupe de jeu est organisé selon le principe du premier arrivé\, premier servi\, avec un maximum de 16 familles.**3
URL:https://events-evenements.crcoc.ca/event-evenement/baby-me-playgroup-at-the-earlyon-centre-groupe-de-jeu-bebe-moi-au-centre-on-y-va-27-2025-03-31/2025-03-31/
LOCATION:OCCRC | CRCOC\, 240 Centrum Blvd\, Orléans\, Orléans\, K1E 3J4\, Canada
CATEGORIES:Early ON-ON y va
ATTACH;FMTTYPE=image/jpeg:https://events-evenements.crcoc.ca/wp-content/uploads/2021/09/Baby-Me-Picture.jpg
ORGANIZER;CN="EarlyON | ON y va":MAILTO:EarlyONyva@crcoc.ca
END:VEVENT
END:VCALENDAR