BEGIN:VCALENDAR
VERSION:2.0
PRODID:-//OCCRC Events | Évènements CRCOC - ECPv6.15.18//NONSGML v1.0//EN
CALSCALE:GREGORIAN
METHOD:PUBLISH
X-WR-CALNAME:OCCRC Events | Évènements CRCOC
X-ORIGINAL-URL:https://events-evenements.crcoc.ca
X-WR-CALDESC:Events for OCCRC Events | Évènements CRCOC
REFRESH-INTERVAL;VALUE=DURATION:PT1H
X-Robots-Tag:noindex
X-PUBLISHED-TTL:PT1H
BEGIN:VTIMEZONE
TZID:America/Toronto
BEGIN:DAYLIGHT
TZOFFSETFROM:-0500
TZOFFSETTO:-0400
TZNAME:EDT
DTSTART:20250309T070000
END:DAYLIGHT
BEGIN:STANDARD
TZOFFSETFROM:-0400
TZOFFSETTO:-0500
TZNAME:EST
DTSTART:20251102T060000
END:STANDARD
BEGIN:DAYLIGHT
TZOFFSETFROM:-0500
TZOFFSETTO:-0400
TZNAME:EDT
DTSTART:20260308T070000
END:DAYLIGHT
BEGIN:STANDARD
TZOFFSETFROM:-0400
TZOFFSETTO:-0500
TZNAME:EST
DTSTART:20261101T060000
END:STANDARD
BEGIN:DAYLIGHT
TZOFFSETFROM:-0500
TZOFFSETTO:-0400
TZNAME:EDT
DTSTART:20270314T070000
END:DAYLIGHT
BEGIN:STANDARD
TZOFFSETFROM:-0400
TZOFFSETTO:-0500
TZNAME:EST
DTSTART:20271107T060000
END:STANDARD
END:VTIMEZONE
BEGIN:VEVENT
DTSTART;TZID=America/Toronto:20260210T160000
DTEND;TZID=America/Toronto:20260210T180000
DTSTAMP:20260422T232409
CREATED:20260125T211042Z
LAST-MODIFIED:20260203T150835Z
UID:24770-1770739200-1770746400@events-evenements.crcoc.ca
SUMMARY:Kids Space - What is Love ?!
DESCRIPTION:GRADES 1 TO 6 | WEEKLY | BILINGUAL | IN PERSON | LIMITED SPOTS (MAX. 15) \n\nA space to connect with other kids\, learn about themselves\, practice social skills\, and have fun!\n\nTuesdays from 4 to 6 p.m.\n\nFebruary 10th: What is Love ?!  — Celebrating different loves and friendship bracelets\n\n\n\nActivity registration will begin on Monday at 8:30 a.m.\, one week before it starts\, and close on the following Monday at 8:30 a.m. If you have any complications registering online\, please email Isabel or call 613-830-4357\, ext. 152. \nNOTE: When registering\, please specify your allergies and dietary restrictions (halal\, dairy\, gluten\, vegetarian\, vegan).
URL:https://events-evenements.crcoc.ca/event-evenement/kids-space-what-is-love/
LOCATION:OCCRC | CRCOC\, 240 Centrum Blvd\, Orléans\, Orléans\, K1E 3J4\, Canada
CATEGORIES:Children & Youth-Enfants et jeunes
ATTACH;FMTTYPE=image/png:https://events-evenements.crcoc.ca/wp-content/uploads/2026/01/Kids-Space-Feb-10.png
ORGANIZER;CN="Children & Youth | Enfants et jeunes":MAILTO:info@crcoc.ca
END:VEVENT
BEGIN:VEVENT
DTSTART;TZID=America/Toronto:20260212T160000
DTEND;TZID=America/Toronto:20260212T190000
DTSTAMP:20260422T232409
CREATED:20260125T212144Z
LAST-MODIFIED:20260203T151225Z
UID:24778-1770912000-1770922800@events-evenements.crcoc.ca
SUMMARY:Youth Space - All Kinds of Love  | Espace jeunesse - Toutes les formes d'amour
DESCRIPTION:GRADES 7 TO 12 | BILINGUAL | IN PERSON | LIMITED SPOTS (MAX. 15) \nA safe and inclusive space to connect with peers\, be themselves\, have fun\, relate to others and talk about things important to them. \n\nEveryone Group: February 12th from 4 PM to 7 PM\n\nTheme: All Kinds of Love — Black history month Jeopardy\, community appreciation map\, & self-love mini-zine\n\n\n\nRegistration opens the Monday of the week before at 8:30 a.m. and closes the Tuesday prior at 11:30 p.m. If you have any complications registering online\, please email Tanya or call 613-830-4357\, ext. 140. \nNOTE: When registering\, please specify your allergies and dietary restrictions (halal\, dairy\, gluten\, vegetarian\, vegan). \n\n\n\n\nDescription en FRANÇAIS \n7e À LA 12e ANNÉE | BILINGUE | EN PERSONNE | PLACES LIMITÉES (MAX. 15) \nUn espace sécure et inclusif pour que les ados puissent connecter avec leurs pairs·es\, être qui iels sont\, s’amuser\, établir des liens avec les autres et parler de choses importantes pour eux. \n\nGroupe pour toustes : 12 février de 16 h à 19 h\n\nThème : Toutes les formes d’amour — Jeopardy sur le mois de l’histoire des Noirs\, carte d’appréciation communautaire et mini-zine sur l’amour de soi\n\n\n\nL’inscription débute le lundi de la semaine précédente à 8 h 30 et ferme le mardi précédent à 23 h 30. Si l’inscription en ligne vous pose problème\, veuillez envoyer un courriel à Tanya  ou appeler 613-830-4357\, poste 140. \nREMARQUE : Lors de votre inscription\, veuillez préciser vos allergies et restrictions alimentaires (halal\, laitier\, gluten\, végétarien\, végétalien).
URL:https://events-evenements.crcoc.ca/event-evenement/youth-space-all-kinds-of-love-espace-jeunesse-toutes-les-formes-damour/
LOCATION:OCCRC | CRCOC\, 240 Centrum Blvd\, Orléans\, Orléans\, K1E 3J4\, Canada
CATEGORIES:Children & Youth-Enfants et jeunes
ATTACH;FMTTYPE=image/png:https://events-evenements.crcoc.ca/wp-content/uploads/2026/01/YS-Feb-12-2026.png
ORGANIZER;CN="Children & Youth | Enfants et jeunes":MAILTO:info@crcoc.ca
END:VEVENT
END:VCALENDAR