BEGIN:VCALENDAR
VERSION:2.0
PRODID:-//OCCRC Events | Évènements CRCOC - ECPv6.15.18//NONSGML v1.0//EN
CALSCALE:GREGORIAN
METHOD:PUBLISH
X-WR-CALNAME:OCCRC Events | Évènements CRCOC
X-ORIGINAL-URL:https://events-evenements.crcoc.ca
X-WR-CALDESC:Events for OCCRC Events | Évènements CRCOC
REFRESH-INTERVAL;VALUE=DURATION:PT1H
X-Robots-Tag:noindex
X-PUBLISHED-TTL:PT1H
BEGIN:VTIMEZONE
TZID:America/Toronto
BEGIN:DAYLIGHT
TZOFFSETFROM:-0500
TZOFFSETTO:-0400
TZNAME:EDT
DTSTART:20240310T070000
END:DAYLIGHT
BEGIN:STANDARD
TZOFFSETFROM:-0400
TZOFFSETTO:-0500
TZNAME:EST
DTSTART:20241103T060000
END:STANDARD
BEGIN:DAYLIGHT
TZOFFSETFROM:-0500
TZOFFSETTO:-0400
TZNAME:EDT
DTSTART:20250309T070000
END:DAYLIGHT
BEGIN:STANDARD
TZOFFSETFROM:-0400
TZOFFSETTO:-0500
TZNAME:EST
DTSTART:20251102T060000
END:STANDARD
BEGIN:DAYLIGHT
TZOFFSETFROM:-0500
TZOFFSETTO:-0400
TZNAME:EDT
DTSTART:20260308T070000
END:DAYLIGHT
BEGIN:STANDARD
TZOFFSETFROM:-0400
TZOFFSETTO:-0500
TZNAME:EST
DTSTART:20261101T060000
END:STANDARD
END:VTIMEZONE
BEGIN:VEVENT
DTSTART;TZID=America/Toronto:20251202T160000
DTEND;TZID=America/Toronto:20251202T180000
DTSTAMP:20260421T035546
CREATED:20251126T164149Z
LAST-MODIFIED:20251126T164913Z
UID:24522-1764691200-1764698400@events-evenements.crcoc.ca
SUMMARY:Espace enfants - Bulles et babioles! - Respecter nos limites et bricolage de ornements
DESCRIPTION:1re À LA 6e ANNÉE | HEBDOMADAIRE | ALTERNE EN ANGLAIS ET EN FRANÇAIS | EN PERSONNE | PLACES LIMITÉES (MAX. 15) \n\nUn espace pour créer des liens avec d’autres enfants\, apprendre sur soi-même\, pratiquer des habiletés sociales et s’amuser!\n\n• Le thème de ce mois-ci est : LIMITES ! Rejoignez-nous pour une série d’activités axées sur le respect des besoins et capacités de soi et des autres!\n\nLes mardis de 16 h à 18\n\n2 décembre : Bulles et babioles! – Respecter nos limites et bricolage de ornements\n\n\n\nL’inscription ouvre le lundi de la semaine précédente à 8 h 30 et fermera le jour de l’activité à midi. Si l’inscription en ligne vous pose problème\, veuillez envoyer un courriel à Isabel ou appeler 613-830-4357\, poste 152. \nREMARQUE : Lors de votre inscription\, veuillez préciser vos allergies et vos restrictions alimentaires (halal\, produits laitiers\, gluten\, végétarien\, végétalien).
URL:https://events-evenements.crcoc.ca/event-evenement/espace-enfants-bulles-et-babioles-respecter-nos-limites-et-bricolage-de-ornements/
LOCATION:OCCRC | CRCOC\, 240 Centrum Blvd\, Orléans\, Orléans\, K1E 3J4\, Canada
CATEGORIES:Children & Youth-Enfants et jeunes
ATTACH;FMTTYPE=image/png:https://events-evenements.crcoc.ca/wp-content/uploads/2025/11/December-2.png
ORGANIZER;CN="Children & Youth | Enfants et jeunes":MAILTO:info@crcoc.ca
END:VEVENT
BEGIN:VEVENT
DTSTART;TZID=America/Toronto:20251204T153000
DTEND;TZID=America/Toronto:20251204T180000
DTSTAMP:20260421T035546
CREATED:20251118T200923Z
LAST-MODIFIED:20251118T200923Z
UID:24417-1764862200-1764871200@events-evenements.crcoc.ca
SUMMARY:Emotions in Motion! | Émotions en mouvement!
DESCRIPTION:FOR KIDS GRADE 1-6 \nJoin us for an adventure in emotional regulation through play and teamwork! Let’s explore fun ways to understand and manage our feelings! \nPizza\, snacks and drinks provided! \n— \nENFANT DE LA 1RE À LA 6E ANNÉE \nRejoingnez-nous pour une aventure en régulation émotionnelle par le jeu et le travail d’équipe ! Explorons des façons amusante de comprendre et de gérer nos sentiments ! \nPizza\, collations et breuvage fournis !
URL:https://events-evenements.crcoc.ca/event-evenement/emotions-in-motion-emotions-en-mouvement/
LOCATION:École élémentaire catholique Saint-Guillaume\, 5750 Buckland Rd B\, Vars\, Ontario\, K0A 3H0\, Canada
CATEGORIES:Children & Youth-Enfants et jeunes
ATTACH;FMTTYPE=image/png:https://events-evenements.crcoc.ca/wp-content/uploads/2025/11/251118_EmotionsInMotion_BIL.png
END:VEVENT
END:VCALENDAR