BEGIN:VCALENDAR
VERSION:2.0
PRODID:-//OCCRC Events | Évènements CRCOC - ECPv6.15.18//NONSGML v1.0//EN
CALSCALE:GREGORIAN
METHOD:PUBLISH
X-ORIGINAL-URL:https://events-evenements.crcoc.ca
X-WR-CALDESC:Events for OCCRC Events | Évènements CRCOC
REFRESH-INTERVAL;VALUE=DURATION:PT1H
X-Robots-Tag:noindex
X-PUBLISHED-TTL:PT1H
BEGIN:VTIMEZONE
TZID:America/Toronto
BEGIN:DAYLIGHT
TZOFFSETFROM:-0500
TZOFFSETTO:-0400
TZNAME:EDT
DTSTART:20200308T070000
END:DAYLIGHT
BEGIN:STANDARD
TZOFFSETFROM:-0400
TZOFFSETTO:-0500
TZNAME:EST
DTSTART:20201101T060000
END:STANDARD
BEGIN:DAYLIGHT
TZOFFSETFROM:-0500
TZOFFSETTO:-0400
TZNAME:EDT
DTSTART:20210314T070000
END:DAYLIGHT
BEGIN:STANDARD
TZOFFSETFROM:-0400
TZOFFSETTO:-0500
TZNAME:EST
DTSTART:20211107T060000
END:STANDARD
BEGIN:DAYLIGHT
TZOFFSETFROM:-0500
TZOFFSETTO:-0400
TZNAME:EDT
DTSTART:20220313T070000
END:DAYLIGHT
BEGIN:STANDARD
TZOFFSETFROM:-0400
TZOFFSETTO:-0500
TZNAME:EST
DTSTART:20221106T060000
END:STANDARD
END:VTIMEZONE
BEGIN:VEVENT
DTSTART;TZID=America/Toronto:20210223T160000
DTEND;TZID=America/Toronto:20210223T170000
DTSTAMP:20260424T071805
CREATED:20210127T004810Z
LAST-MODIFIED:20210202T200841Z
UID:713-1614096000-1614099600@events-evenements.crcoc.ca
SUMMARY:Kids Space | Espace Enfants
DESCRIPTION:Version française plus bas \n\n\n\nBilingual | via Zoom \n\n\n\nGrades 4 to 6 \n\n\n\nA space to connect with other kids\, have fun\, learns some strategies and talkCommunications and games\n\n\n\nTo register\, contact Tanya:613-830-4357\, ext. 140Contact by email \n\n\n\n—- \n\n\n\nBilingue | via Zoom \n\n\n\n4e à 6e année \n\n\n\nUn espace pour se connecter avec d’autres enfants\, s’amuser\, apprendre des stratégies et parlerCommunication et jeux\n\n\n\nPour vous inscrire\, communiquez avec Tanya:613-830-4357Communiquer par courriel
URL:https://events-evenements.crcoc.ca/event-evenement/kids-space-espace-enfants/
LOCATION:Ontario
CATEGORIES:Children & Youth-Enfants et jeunes
ATTACH;FMTTYPE=image/jpeg:https://events-evenements.crcoc.ca/wp-content/uploads/2021/01/kids-space-espace-enfants.jpg
ORGANIZER;CN="Children & Youth | Enfants et jeunes":MAILTO:info@crcoc.ca
END:VEVENT
BEGIN:VEVENT
DTSTART;TZID=America/Toronto:20210225T160000
DTEND;TZID=America/Toronto:20210225T180000
DTSTAMP:20260424T071805
CREATED:20210126T195448Z
LAST-MODIFIED:20210202T200820Z
UID:609-1614268800-1614276000@events-evenements.crcoc.ca
SUMMARY:Youth Space | Espace jeunesse
DESCRIPTION:Version française plus bas \n\n\n\nBilingual | Via Zoom \n\n\n\nGrades 7 to 12 \n\n\n\nMixed Night – Advocacy & Anti-bullying\n\n\n\nSend Tanya an email to receive the Zoom info \n\n\n\n—- \n\n\n\nBilingue | Via Zoom \n\n\n\n7e à 12e année \n\n\n\nSoirée mixte – Défense de droits et lutte contre l’intimidation\n\n\n\nEnvoie un courriel à Tanya pour recevoir l’info Zoom
URL:https://events-evenements.crcoc.ca/event-evenement/youth-space-espace-jeunesse/
LOCATION:Ontario
CATEGORIES:Children & Youth-Enfants et jeunes
ATTACH;FMTTYPE=image/jpeg:https://events-evenements.crcoc.ca/wp-content/uploads/2021/01/Youth-Space-espace-jeunesse.jpg
ORGANIZER;CN="Children & Youth | Enfants et jeunes":MAILTO:info@crcoc.ca
END:VEVENT
END:VCALENDAR