BEGIN:VCALENDAR
VERSION:2.0
PRODID:-//OCCRC Events | Évènements CRCOC - ECPv6.15.18//NONSGML v1.0//EN
CALSCALE:GREGORIAN
METHOD:PUBLISH
X-WR-CALNAME:OCCRC Events | Évènements CRCOC
X-ORIGINAL-URL:https://events-evenements.crcoc.ca
X-WR-CALDESC:Events for OCCRC Events | Évènements CRCOC
REFRESH-INTERVAL;VALUE=DURATION:PT1H
X-Robots-Tag:noindex
X-PUBLISHED-TTL:PT1H
BEGIN:VTIMEZONE
TZID:America/Toronto
BEGIN:DAYLIGHT
TZOFFSETFROM:-0500
TZOFFSETTO:-0400
TZNAME:EDT
DTSTART:20250309T070000
END:DAYLIGHT
BEGIN:STANDARD
TZOFFSETFROM:-0400
TZOFFSETTO:-0500
TZNAME:EST
DTSTART:20251102T060000
END:STANDARD
BEGIN:DAYLIGHT
TZOFFSETFROM:-0500
TZOFFSETTO:-0400
TZNAME:EDT
DTSTART:20260308T070000
END:DAYLIGHT
BEGIN:STANDARD
TZOFFSETFROM:-0400
TZOFFSETTO:-0500
TZNAME:EST
DTSTART:20261101T060000
END:STANDARD
BEGIN:DAYLIGHT
TZOFFSETFROM:-0500
TZOFFSETTO:-0400
TZNAME:EDT
DTSTART:20270314T070000
END:DAYLIGHT
BEGIN:STANDARD
TZOFFSETFROM:-0400
TZOFFSETTO:-0500
TZNAME:EST
DTSTART:20271107T060000
END:STANDARD
END:VTIMEZONE
BEGIN:VEVENT
DTSTART;TZID=America/Toronto:20260303T093000
DTEND;TZID=America/Toronto:20260303T110000
DTSTAMP:20260424T045716
CREATED:20260224T201800Z
LAST-MODIFIED:20260224T203525Z
UID:24897-1772530200-1772535600@events-evenements.crcoc.ca
SUMMARY:Navan Active Playgroup // Groupe de jeu actif à Navan
DESCRIPTION:Looking for a fun way to get your child moving? Join us at the Navan Memorial Centre & Arena (1295 Colonial Road) for an active playgroup! We’ll have plenty of space and a variety of equipment to keep your little ones engaged and moving. \n*Please note\, no groups will be offered in Cumberland when school buses are cancelled. \n  \n\nVous cherchez une façon amusante de faire bouger votre enfant? Joignez-vous à nous à l’Aréna et Centre commémoratif de Navan (1295\, chemin Colonial) pour un groupe de jeu actif!  Nous aurons beaucoup d’espace et une variété de matériaux pour garder vos tout-petits engagés et en mouvement. \n*Veuillez noter qu’aucun groupe ne sera offert à Cumberland lorsque les autobus scolaires seront annulés.
URL:https://events-evenements.crcoc.ca/event-evenement/navan-active-playgroup-groupe-de-jeu-actif-a-navan/2026-03-03/
LOCATION:Navan Memorial Centre | Centre commémoratif de Navan\, 1295 Colonial Rd\, Navan\, Ontario\, K4B 1N1\, Canada
CATEGORIES:Early ON-ON y va
ATTACH;FMTTYPE=image/png:https://events-evenements.crcoc.ca/wp-content/uploads/2025/09/Screenshot-2025-09-22-114122.png
ORGANIZER;CN="EarlyON | ON y va":MAILTO:EarlyONyva@crcoc.ca
END:VEVENT
BEGIN:VEVENT
DTSTART;TZID=America/Toronto:20260303T100000
DTEND;TZID=America/Toronto:20260303T113000
DTSTAMP:20260424T045716
CREATED:20260224T200657Z
LAST-MODIFIED:20260224T200657Z
UID:24880-1772532000-1772537400@events-evenements.crcoc.ca
SUMMARY:Playgroup | Groupe de jeu
DESCRIPTION:At our main location\, attendance numbers will be distributed 10 minutes prior to the start of playgroup. To help ensure your child’s comfort and well-being\, we recommend arriving right at the scheduled start time to avoid a long wait. \nLet’s meet at the Orléans-Cumberland CRC (240 Centrum Boulevard\, Unit 105) for a Drop-in playgroup! This program is geared toward children 0 to 6 years old. Children will enjoy play-based learning experiences that are fun and engaging. \n**Please note that our morning drop-ins at our main Centre are first-come\, first-served\, with a maximum of 40 people.** \n— \nÀ notre emplacement principal\, les numéros de participation seront distribués 10 minutes avant le début du groupe. Pour assurer le confort et le bien-être de votre enfant\, nous vous recommandons d’arriver à l’heure prévue afin d’éviter une longue attente. \nJoignez-vous à nous au CRC Orléans-Cumberland (240\, boulevard Centrum\, unité 105\, à Orléans) pour un groupe de jeu porte-ouvert ! Conçu pour permettre aux enfants de 0 à 6 ans de vivre des expériences d’apprentissage par le jeu amusantes et stimulantes ! \n**Veuillez noter que ce groupe de jeu est organisé selon le principe du premier arrivé\, premier servi\, avec un maximum de 40 participants.**
URL:https://events-evenements.crcoc.ca/event-evenement/playgroup-groupe-de-jeu-9/2026-03-03/
LOCATION:OCCRC | CRCOC\, 240 Centrum Blvd\, Orléans\, Orléans\, K1E 3J4\, Canada
CATEGORIES:Early ON-ON y va
ATTACH;FMTTYPE=image/jpeg:https://events-evenements.crcoc.ca/wp-content/uploads/2022/05/Francophone-Group-Pic.jpg
ORGANIZER;CN="EarlyON | ON y va":MAILTO:EarlyONyva@crcoc.ca
END:VEVENT
BEGIN:VEVENT
DTSTART;TZID=America/Toronto:20260303T160000
DTEND;TZID=America/Toronto:20260303T180000
DTSTAMP:20260424T045716
CREATED:20260224T202011Z
LAST-MODIFIED:20260226T101749Z
UID:24903-1772553600-1772560800@events-evenements.crcoc.ca
SUMMARY:Evening Playgroup // Groupe de jeu en soirée
DESCRIPTION:* Please note tis drop-in is first come\, first serve.* \nLet’s meet at the Orléans-Cumberland CRC (240 Centrum Blvd.\, Unit 105) for an Evening Playgroup\, weekly from 4 to 6 p.m.  This program is geared towards children 6 years old and under.  Children will enjoy play-based learning experiences that are fun and engaging! \n\n*Veuillez noter que ce groupe de jeu est offert premier arrivé\, premier servi.* \nJoignez-vous à nous au CRC Orléans-Cumberland (240 boul. Centrum\, unité 105) pour un groupe de jeu en soirée\, chaque semaine de 16 h à 18 h.  Ce groupe est conçu pour permettre aux enfants agés de 6 ans et moins de vivre des expériences d’apprentissages par le jeu amusantes et stimulantes !
URL:https://events-evenements.crcoc.ca/event-evenement/evening-playgroup-groupe-de-jeu-en-soiree-3/2026-03-03/
LOCATION:OCCRC | CRCOC\, 240 Centrum Blvd\, Orléans\, Orléans\, K1E 3J4\, Canada
CATEGORIES:Early ON-ON y va
ATTACH;FMTTYPE=image/png:https://events-evenements.crcoc.ca/wp-content/uploads/2025/10/Screenshot-2025-10-21-100336.png
ORGANIZER;CN="EarlyON | ON y va":MAILTO:EarlyONyva@crcoc.ca
END:VEVENT
BEGIN:VEVENT
DTSTART;TZID=America/Toronto:20260303T160000
DTEND;TZID=America/Toronto:20260303T180000
DTSTAMP:20260424T045716
CREATED:20260224T222819Z
LAST-MODIFIED:20260224T222819Z
UID:24984-1772553600-1772560800@events-evenements.crcoc.ca
SUMMARY:Espace Enfants -- Vice-versa !
DESCRIPTION:GRADES 1 À 6 | HEBDOMADAIRE | FRANÇAIS | EN PERSONNE | PLACES LIMITÉES (MAX. 15) \n\nUn espace pour créer des liens avec d’autres enfants\, apprendre sur soi-même\, pratiquer des habiletés sociales et s’amuser !\nLes mardis de 16h à 18h\n\n3 mars : Vice-versa ! – Explorer différents sentiments et jeu-questionnaire\n\n\n\nL’inscription à l’activité commencera lundi à 8 h 30\, une semaine avant le début de l’activité\, et se terminera le lundi suivant à 8 h 30. Si vous avez des difficultés à vous inscrire en ligne\, veuillez envoyer un courriel à Isabel ou composer le 613-830-4357\, poste 152. \nREMARQUE : Lors de l’inscription\, veuillez spécifier vos allergies et restrictions alimentaires (halal\, produits laitiers\, gluten\, végétarien\, végétalien).
URL:https://events-evenements.crcoc.ca/event-evenement/espace-enfants-vice-versa/
LOCATION:OCCRC | CRCOC\, 240 Centrum Blvd\, Orléans\, Orléans\, K1E 3J4\, Canada
CATEGORIES:Children & Youth-Enfants et jeunes
ATTACH;FMTTYPE=image/png:https://events-evenements.crcoc.ca/wp-content/uploads/2026/02/kS-Mar-3-fr.png
ORGANIZER;CN="Children & Youth | Enfants et jeunes":MAILTO:info@crcoc.ca
END:VEVENT
END:VCALENDAR