BEGIN:VCALENDAR
VERSION:2.0
PRODID:-//OCCRC Events | Évènements CRCOC - ECPv6.15.18//NONSGML v1.0//EN
CALSCALE:GREGORIAN
METHOD:PUBLISH
X-ORIGINAL-URL:https://events-evenements.crcoc.ca
X-WR-CALDESC:Events for OCCRC Events | Évènements CRCOC
REFRESH-INTERVAL;VALUE=DURATION:PT1H
X-Robots-Tag:noindex
X-PUBLISHED-TTL:PT1H
BEGIN:VTIMEZONE
TZID:America/Toronto
BEGIN:DAYLIGHT
TZOFFSETFROM:-0500
TZOFFSETTO:-0400
TZNAME:EDT
DTSTART:20230312T070000
END:DAYLIGHT
BEGIN:STANDARD
TZOFFSETFROM:-0400
TZOFFSETTO:-0500
TZNAME:EST
DTSTART:20231105T060000
END:STANDARD
BEGIN:DAYLIGHT
TZOFFSETFROM:-0500
TZOFFSETTO:-0400
TZNAME:EDT
DTSTART:20240310T070000
END:DAYLIGHT
BEGIN:STANDARD
TZOFFSETFROM:-0400
TZOFFSETTO:-0500
TZNAME:EST
DTSTART:20241103T060000
END:STANDARD
BEGIN:DAYLIGHT
TZOFFSETFROM:-0500
TZOFFSETTO:-0400
TZNAME:EDT
DTSTART:20250309T070000
END:DAYLIGHT
BEGIN:STANDARD
TZOFFSETFROM:-0400
TZOFFSETTO:-0500
TZNAME:EST
DTSTART:20251102T060000
END:STANDARD
END:VTIMEZONE
BEGIN:VEVENT
DTSTART;TZID=America/Toronto:20241219T160000
DTEND;TZID=America/Toronto:20241219T183000
DTSTAMP:20260422T014546
CREATED:20241127T164907Z
LAST-MODIFIED:20241127T164907Z
UID:21714-1734624000-1734633000@events-evenements.crcoc.ca
SUMMARY:Youth Space - Holidays' 3Cs: Celebration\, Compassion & Connection | Espace jeunesse - 3Cs des Fêtes : célébration\, compassion et connexion !
DESCRIPTION:GRADES 7 TO 12 | SPECIAL EVENT | BILINGUAL | IN PERSON | LIMITED SPOTS (MAX. 15) \nA safe and inclusive space to connect with peers\, be themselves\, have fun\, relate to others and talk about things important to them. \nYouth Space extended our hours to provide a light supper! \n\nDecember 19 (2SLGBTQIA+ Group): Holidays’ 3Cs: Celebration\, Compassion & Connection\n\nRegistration opens the Monday of the week before at 8:30 a.m. and closes the Tuesday prior at 11:30 p.m. If you have any complications registering online\, please email Tanya or call 613-830-4357\, ext. 140. \nNOTE: When registering\, please specify your allergies and dietary restrictions (halal\, dairy\, gluten\, vegetarian\, vegan). \n\n\n\n\nDescription en FRANÇAIS \n7e À LA 12e ANNÉE | ÉVÉNEMENT SPÉCIAL | BILINGUE | EN PERSONNE | PLACES LIMITÉES (MAX. 15) \nUn espace sécure et inclusif pour que les ados puissent connecter avec leurs pairs·es\, être qui iels sont\, s’amuser\, établir des liens avec les autres et parler de choses importantes pour eux. \nEspace jeunesse prolonge ses heures afin d’offrir un léger repas ! \n\n19 décembre (Groupe 2ELGBTQIA+) : 3Cs des Fêtes : célébration\, compassion et connexion !\n\nL’inscription débute le lundi dela semaine précédente à 8 h 30 et ferme le mardi précédent à 23 h 30. Si l’inscription en ligne vous pose problème\, veuillez envoyer un courriel à Tanya ou appeler 613-830-4357\, poste 140. \nREMARQUE : Lors de votre inscription\, veuillez préciser vos allergies et restrictions alimentaires (halal\, la
URL:https://events-evenements.crcoc.ca/event-evenement/youth-space-holidays-3cs-celebration-compassion-connection-espace-jeunesse-3cs-des-fetes-celebration-compassion-et-connexion/
LOCATION:OCCRC | CRCOC\, 240 Centrum Blvd\, Orléans\, Orléans\, K1E 3J4\, Canada
CATEGORIES:Children & Youth-Enfants et jeunes
ATTACH;FMTTYPE=image/png:https://events-evenements.crcoc.ca/wp-content/uploads/2024/11/YS-22.png
ORGANIZER;CN="Children & Youth | Enfants et jeunes":MAILTO:info@crcoc.ca
END:VEVENT
END:VCALENDAR