BEGIN:VCALENDAR
VERSION:2.0
PRODID:-//OCCRC Events | Évènements CRCOC - ECPv6.15.18//NONSGML v1.0//EN
CALSCALE:GREGORIAN
METHOD:PUBLISH
X-WR-CALNAME:OCCRC Events | Évènements CRCOC
X-ORIGINAL-URL:https://events-evenements.crcoc.ca
X-WR-CALDESC:Events for OCCRC Events | Évènements CRCOC
REFRESH-INTERVAL;VALUE=DURATION:PT1H
X-Robots-Tag:noindex
X-PUBLISHED-TTL:PT1H
BEGIN:VTIMEZONE
TZID:America/Toronto
BEGIN:DAYLIGHT
TZOFFSETFROM:-0500
TZOFFSETTO:-0400
TZNAME:EDT
DTSTART:20220313T070000
END:DAYLIGHT
BEGIN:STANDARD
TZOFFSETFROM:-0400
TZOFFSETTO:-0500
TZNAME:EST
DTSTART:20221106T060000
END:STANDARD
BEGIN:DAYLIGHT
TZOFFSETFROM:-0500
TZOFFSETTO:-0400
TZNAME:EDT
DTSTART:20230312T070000
END:DAYLIGHT
BEGIN:STANDARD
TZOFFSETFROM:-0400
TZOFFSETTO:-0500
TZNAME:EST
DTSTART:20231105T060000
END:STANDARD
BEGIN:DAYLIGHT
TZOFFSETFROM:-0500
TZOFFSETTO:-0400
TZNAME:EDT
DTSTART:20240310T070000
END:DAYLIGHT
BEGIN:STANDARD
TZOFFSETFROM:-0400
TZOFFSETTO:-0500
TZNAME:EST
DTSTART:20241103T060000
END:STANDARD
END:VTIMEZONE
BEGIN:VEVENT
DTSTART;TZID=America/Toronto:20230316T160000
DTEND;TZID=America/Toronto:20230316T180000
DTSTAMP:20260422T014344
CREATED:20230223T161706Z
LAST-MODIFIED:20230223T161858Z
UID:16168-1678982400-1678989600@events-evenements.crcoc.ca
SUMMARY:Youth March Break - 2SLGBTQIA+ Youth Group // Congé de mars ados -  Groupe d’ados 2SLGBTQIA+
DESCRIPTION:GRADES 7 TO 12 | BILINGUAL | IN PERSON | LIMITED SPOTS (MAX 15) \n\nMarch 16th: \n\n4 – 6 p.m.: 2SLGBTQIA+ Youth Group\n\nArt\, games\, snacks and more!\nDrop in\, no registration required\n\n\n\n\n\n\nDescription en FRANÇAIS \n7e À LA 12e ANNÉE | BILINGUE | EN PERSONNE | PLACES LIMITÉES (MAX 15) \n\n16 mars : \n\n16 h – 18 h : Groupe d’ados 2SLGBTQIA+\n\nActivités artistiques\, jeux\, collations et plus encore !\nVisite libre\, aucune inscription requise
URL:https://events-evenements.crcoc.ca/event-evenement/youth-march-break-2slgbtqia-youth-group-conge-de-mars-ados-groupe-dados-2slgbtqia/
LOCATION:OCCRC | CRCOC\, 240 Centrum Blvd\, Orléans\, Orléans\, K1E 3J4\, Canada
CATEGORIES:Children & Youth-Enfants et jeunes
ATTACH;FMTTYPE=image/png:https://events-evenements.crcoc.ca/wp-content/uploads/2023/02/Camps-de-mars-ados-2023-6.png
ORGANIZER;CN="Children & Youth | Enfants et jeunes":MAILTO:info@crcoc.ca
END:VEVENT
END:VCALENDAR