BEGIN:VCALENDAR
VERSION:2.0
PRODID:-//OCCRC Events | Évènements CRCOC - ECPv6.15.18//NONSGML v1.0//EN
CALSCALE:GREGORIAN
METHOD:PUBLISH
X-WR-CALNAME:OCCRC Events | Évènements CRCOC
X-ORIGINAL-URL:https://events-evenements.crcoc.ca
X-WR-CALDESC:Events for OCCRC Events | Évènements CRCOC
REFRESH-INTERVAL;VALUE=DURATION:PT1H
X-Robots-Tag:noindex
X-PUBLISHED-TTL:PT1H
BEGIN:VTIMEZONE
TZID:America/Toronto
BEGIN:DAYLIGHT
TZOFFSETFROM:-0500
TZOFFSETTO:-0400
TZNAME:EDT
DTSTART:20220313T070000
END:DAYLIGHT
BEGIN:STANDARD
TZOFFSETFROM:-0400
TZOFFSETTO:-0500
TZNAME:EST
DTSTART:20221106T060000
END:STANDARD
BEGIN:DAYLIGHT
TZOFFSETFROM:-0500
TZOFFSETTO:-0400
TZNAME:EDT
DTSTART:20230312T070000
END:DAYLIGHT
BEGIN:STANDARD
TZOFFSETFROM:-0400
TZOFFSETTO:-0500
TZNAME:EST
DTSTART:20231105T060000
END:STANDARD
BEGIN:DAYLIGHT
TZOFFSETFROM:-0500
TZOFFSETTO:-0400
TZNAME:EDT
DTSTART:20240310T070000
END:DAYLIGHT
BEGIN:STANDARD
TZOFFSETFROM:-0400
TZOFFSETTO:-0500
TZNAME:EST
DTSTART:20241103T060000
END:STANDARD
END:VTIMEZONE
BEGIN:VEVENT
DTSTART;TZID=America/Toronto:20230112T093000
DTEND;TZID=America/Toronto:20230112T110000
DTSTAMP:20260425T230900
CREATED:20221228T174433Z
LAST-MODIFIED:20221228T174455Z
UID:15676-1673515800-1673521200@events-evenements.crcoc.ca
SUMMARY:Playgroup at the Cumberland Arena  //  Groupe de jeu à l'aréna de Cumberland
DESCRIPTION:Let’s meet at the R.J. Kennedy Arena\, 1115 Dunning Road\, for a playgroup! This program is geared toward children 0 to 6 years old. Children will enjoy play-based learning experiences that are fun and engaging.\n \n*No groups will be offered in Cumberland or Navan when school buses are cancelled. \n— \nJoignez-vous à nous à l’aréna R.J. Kennedy au 1115 chemin Dunning\, pour un groupe de jeu ! Conçu pour permettre aux enfants de 0 à 6 ans de vivre des expériences d’apprentissage par le jeu amusantes et stimulantes ! \n*Lorsque le transport scolaire est annulé\, tous les groupes à Cumberland et à Navan ne seront pas offerts.
URL:https://events-evenements.crcoc.ca/event-evenement/playgroup-at-the-cumberland-arena-groupe-de-jeu-a-larena-de-cumberland-9/2023-01-12/
LOCATION:R.J. Kennedy Arena | Aréna R.J. Kennedy\, 1115 Dunning Rd\, Cumberland\, Ontario\, K4C 1P6\, Canada
CATEGORIES:Early ON-ON y va
ATTACH;FMTTYPE=image/jpeg:https://events-evenements.crcoc.ca/wp-content/uploads/2022/03/Cumberland-Pic.jpg
ORGANIZER;CN="EarlyON | ON y va":MAILTO:EarlyONyva@crcoc.ca
END:VEVENT
BEGIN:VEVENT
DTSTART;TZID=America/Toronto:20230112T133000
DTEND;TZID=America/Toronto:20230112T153000
DTSTAMP:20260425T230900
CREATED:20221228T174949Z
LAST-MODIFIED:20221228T174949Z
UID:15683-1673530200-1673537400@events-evenements.crcoc.ca
SUMMARY:Parenting in Ottawa Drop-Ins  //  Carrefours « Être parent à Ottawa »
DESCRIPTION:Speak\, in person\, with a Public Health Nurse about parenting. No appointment is necessary. Drop in during the clinic’s hours. \n\nGet support for infant feeding.\nLearn ways to help your child eat healthy and be active\nMake sure your child is on track with their growth and development\nAsk about your child’s social and emotional development\n\nThe program is available to: \n\nExpectant parents\, parents and guardians of children aged birth to 6 years of age\n\nThursdays from 1:30 p.m. to 3:30 p.m. – 240 Centrum Blvd\, Orléans\, ON K1E 3J4. \n\nVous pouvez parler de votre rôle de parent avec une infirmière en santé publique. Aucun rendez-vous nécessaire\, il suffit de se présenter pendant les heures d’ouverture de la clinique. \n\nObtenez du soutien à l’allaitement.\nApprenez comment aider votre enfant à bien manger et à être actif.\nAssurez-vous de la bonne croissance et du bon développement de votre enfant.\nInformez-vous sur le développement social et émotionnel de votre enfant.\n\nÀ qui s’adresse le programme ? \n\nAux futurs parents\, parents et tuteurs d’enfants de la naissance à six ans.\n\nLes jeudis de 13 h 30 à 15 h 30 – 240 boulevard Centrum\, Orléans (Ontario) K1E 3J4.
URL:https://events-evenements.crcoc.ca/event-evenement/parenting-in-ottawa-drop-ins-carrefours-etre-parent-a-ottawa-6/2023-01-12/
LOCATION:OCCRC | CRCOC\, 240 Centrum Blvd\, Orléans\, Orléans\, K1E 3J4\, Canada
CATEGORIES:Early ON-ON y va
ATTACH;FMTTYPE=image/png:https://events-evenements.crcoc.ca/wp-content/uploads/2022/06/parenting-on-ottawa-pic.png
ORGANIZER;CN="EarlyON | ON y va":MAILTO:EarlyONyva@crcoc.ca
END:VEVENT
BEGIN:VEVENT
DTSTART;TZID=America/Toronto:20230112T133000
DTEND;TZID=America/Toronto:20230112T153000
DTSTAMP:20260425T230900
CREATED:20221228T175237Z
LAST-MODIFIED:20221228T175237Z
UID:15688-1673530200-1673537400@events-evenements.crcoc.ca
SUMMARY:Baby weigh-in //  Prise de poids pour bébés
DESCRIPTION:During Parenting in Ottawa Drop-ins\, parents can weigh their baby (self-serve) on Thursdays from 1:30 to 3:30 p.m. No appointment is needed. \n— \nDurant les Carrefours « Être parent à Ottawa »\, les parents peuvent peser leur bébé (libre-service) les jeudis de 13 h 30 à 15 h 30. Aucun rendez-vous nécessaire.
URL:https://events-evenements.crcoc.ca/event-evenement/baby-weigh-in-prise-de-poids-pour-bebes-16/2023-01-12/
LOCATION:OCCRC | CRCOC\, 240 Centrum Blvd\, Orléans\, Orléans\, K1E 3J4\, Canada
CATEGORIES:Early ON-ON y va
ATTACH;FMTTYPE=image/jpeg:https://events-evenements.crcoc.ca/wp-content/uploads/2021/07/Baby-Weigh-in-pict.jpg
ORGANIZER;CN="EarlyON | ON y va":MAILTO:EarlyONyva@crcoc.ca
END:VEVENT
END:VCALENDAR