BEGIN:VCALENDAR
VERSION:2.0
PRODID:-//OCCRC Events | Évènements CRCOC - ECPv6.15.18//NONSGML v1.0//EN
CALSCALE:GREGORIAN
METHOD:PUBLISH
X-WR-CALNAME:OCCRC Events | Évènements CRCOC
X-ORIGINAL-URL:https://events-evenements.crcoc.ca
X-WR-CALDESC:Events for OCCRC Events | Évènements CRCOC
REFRESH-INTERVAL;VALUE=DURATION:PT1H
X-Robots-Tag:noindex
X-PUBLISHED-TTL:PT1H
BEGIN:VTIMEZONE
TZID:America/Toronto
BEGIN:DAYLIGHT
TZOFFSETFROM:-0500
TZOFFSETTO:-0400
TZNAME:EDT
DTSTART:20210314T070000
END:DAYLIGHT
BEGIN:STANDARD
TZOFFSETFROM:-0400
TZOFFSETTO:-0500
TZNAME:EST
DTSTART:20211107T060000
END:STANDARD
BEGIN:DAYLIGHT
TZOFFSETFROM:-0500
TZOFFSETTO:-0400
TZNAME:EDT
DTSTART:20220313T070000
END:DAYLIGHT
BEGIN:STANDARD
TZOFFSETFROM:-0400
TZOFFSETTO:-0500
TZNAME:EST
DTSTART:20221106T060000
END:STANDARD
BEGIN:DAYLIGHT
TZOFFSETFROM:-0500
TZOFFSETTO:-0400
TZNAME:EDT
DTSTART:20230312T070000
END:DAYLIGHT
BEGIN:STANDARD
TZOFFSETFROM:-0400
TZOFFSETTO:-0500
TZNAME:EST
DTSTART:20231105T060000
END:STANDARD
END:VTIMEZONE
BEGIN:VEVENT
DTSTART;TZID=America/Toronto:20221216T093000
DTEND;TZID=America/Toronto:20221216T103000
DTSTAMP:20260422T061637
CREATED:20221124T202327Z
LAST-MODIFIED:20221216T141543Z
UID:15543-1671183000-1671186600@events-evenements.crcoc.ca
SUMMARY:CANCELLED! Outdoor playgroup at the Queenswood Heights park!  //  ANNULÉ ! Groupe de jeu au parc de Queenswood Heights !
DESCRIPTION:Let’s meet at Queenswood Heights park\, 1485 Duford Drive\, to enjoy the outdoors together! Rain or Shine (or snow)! \nCancelled if temperatures reach -25C. No groups will be offered in Cumberland\, Navan or at the park when school buses are cancelled. \n— \nJoignez-vous à nous au parc de Queenswoods Heights au 1485 Duford Drive ! Venez profiter de la nature avec nous ! Beau temps\, mauvais temps ! \nAnnulé si la température atteint les -25 C. Lorsque le transport scolaire est annulé\, tous les groupes à Cumberland\, Navan\, et au parc ne seront pas offerts.
URL:https://events-evenements.crcoc.ca/event-evenement/outdoor-playgroup-at-the-queenswood-heights-park-groupe-de-jeu-au-parc-de-queenswood-heights-4-2022-12-16/
LOCATION:Ontario
CATEGORIES:Early ON-ON y va
ATTACH;FMTTYPE=image/png:https://events-evenements.crcoc.ca/wp-content/uploads/2022/11/OutdoorPlaygroupQueenswoodHeightsPark.png
ORGANIZER;CN="EarlyON | ON y va":MAILTO:EarlyONyva@crcoc.ca
END:VEVENT
END:VCALENDAR