BEGIN:VCALENDAR
VERSION:2.0
PRODID:-//OCCRC Events | Évènements CRCOC - ECPv6.15.18//NONSGML v1.0//EN
CALSCALE:GREGORIAN
METHOD:PUBLISH
X-ORIGINAL-URL:https://events-evenements.crcoc.ca
X-WR-CALDESC:Events for OCCRC Events | Évènements CRCOC
REFRESH-INTERVAL;VALUE=DURATION:PT1H
X-Robots-Tag:noindex
X-PUBLISHED-TTL:PT1H
BEGIN:VTIMEZONE
TZID:America/Toronto
BEGIN:DAYLIGHT
TZOFFSETFROM:-0500
TZOFFSETTO:-0400
TZNAME:EDT
DTSTART:20210314T070000
END:DAYLIGHT
BEGIN:STANDARD
TZOFFSETFROM:-0400
TZOFFSETTO:-0500
TZNAME:EST
DTSTART:20211107T060000
END:STANDARD
BEGIN:DAYLIGHT
TZOFFSETFROM:-0500
TZOFFSETTO:-0400
TZNAME:EDT
DTSTART:20220313T070000
END:DAYLIGHT
BEGIN:STANDARD
TZOFFSETFROM:-0400
TZOFFSETTO:-0500
TZNAME:EST
DTSTART:20221106T060000
END:STANDARD
BEGIN:DAYLIGHT
TZOFFSETFROM:-0500
TZOFFSETTO:-0400
TZNAME:EDT
DTSTART:20230312T070000
END:DAYLIGHT
BEGIN:STANDARD
TZOFFSETFROM:-0400
TZOFFSETTO:-0500
TZNAME:EST
DTSTART:20231105T060000
END:STANDARD
END:VTIMEZONE
BEGIN:VEVENT
DTSTART;TZID=America/Toronto:20221206T093000
DTEND;TZID=America/Toronto:20221206T110000
DTSTAMP:20260422T061800
CREATED:20221124T193330Z
LAST-MODIFIED:20221124T193330Z
UID:15347-1670319000-1670324400@events-evenements.crcoc.ca
SUMMARY:English playgroup at the EarlyON Centre!
DESCRIPTION:Let’s meet at the Orléans-Cumberland Community Resource Centre (240 Centrum boulevard unit 105) for a Drop-in playgroup! This program is geared toward children 0 to 6 years old. Children will enjoy play-based learning experiences that are fun and engaging. All participants will be asked to use the front door facing St-Joseph Boulevard to access the EarlyON Centre. \nPLEASE NOTE:  Online registration for playgroups will no longer be required! Our playgroups will now be Drop in’s\, first come / first served. \nStarting at 9:30 a.m.\, a Family Resource Worker will greet you and give you a number to attend the playgroup. We ask that you arrive no earlier than 9:30 a.m. since we don’t have a waiting room available. \nWhen the playgroup is full\, we will have a sign on the window beside the front door. We will also post a message on our Facebook page.
URL:https://events-evenements.crcoc.ca/event-evenement/english-playgroup-at-the-earlyon-centre-23/2022-12-06/
LOCATION:Ontario
CATEGORIES:Early ON-ON y va
ATTACH;FMTTYPE=image/jpeg:https://events-evenements.crcoc.ca/wp-content/uploads/2022/05/Francophone-Group-Pic.jpg
ORGANIZER;CN="EarlyON | ON y va":MAILTO:EarlyONyva@crcoc.ca
END:VEVENT
BEGIN:VEVENT
DTSTART;TZID=America/Toronto:20221206T160000
DTEND;TZID=America/Toronto:20221206T180000
DTSTAMP:20260422T061800
CREATED:20221111T203622Z
LAST-MODIFIED:20221121T174204Z
UID:15291-1670342400-1670349600@events-evenements.crcoc.ca
SUMMARY:Kids Space - Grade 1 to 6 - In-person // Espace Enfants - 1re à 6e année - En personne
DESCRIPTION:IN-PERSON programming on Tuesdays from 4 p.m. – 6 p.m. in December.  A space to connect with other kids\, have fun\, learn some strategies and talk!  REGISTER online – (Registration opens every Monday at 8:30 a.m. for the following week.)\n\n\n\nDecember 6th: Escape the Jumanji\nDecember 13th: Winter Wonderland\nDecember 20th: Tis’ the Season – Movie Night\nDecember 27th: Closed\n\nIf you have complications registering online\, please contact Fanny. \n\nDescription en FRANÇAIS \nEN PERSONNE les mardis de 16 h à 18 h en décembre. Un espace pour se connecter avec d’autres enfants\, s’amuser\, apprendre des stratégies et parler !   INSCRIVEZ-VOUS en ligne — (l’inscription ouvre tous les lundis à 8 h 30 pour la semaine suivante). \n\n6 décembre : Échapper au Jumanji\n13 décembre : Les merveilles d’hiver\n20 décembre : C’est la saison — Soirée cinéma\n27 décembre : Fermé\n\nSi l’inscription en ligne vous pose problème\, contacter Fanny.
URL:https://events-evenements.crcoc.ca/event-evenement/kids-space-grade-1-to-6-in-person-espace-enfants-1re-a-6e-annee-en-personne-13/
LOCATION:Ontario
CATEGORIES:Children & Youth-Enfants et jeunes
ATTACH;FMTTYPE=image/jpeg:https://events-evenements.crcoc.ca/wp-content/uploads/2021/01/kids-space-espace-enfants.jpg
ORGANIZER;CN="Children & Youth | Enfants et jeunes":MAILTO:info@crcoc.ca
END:VEVENT
BEGIN:VEVENT
DTSTART;TZID=America/Toronto:20221206T190000
DTEND;TZID=America/Toronto:20221206T193000
DTSTAMP:20260422T061800
CREATED:20221124T194847Z
LAST-MODIFIED:20221124T195159Z
UID:15351-1670353200-1670355000@events-evenements.crcoc.ca
SUMMARY:Virtual Bedtime Stories // L'heure du conte virtuelle
DESCRIPTION:We invite you to join us for virtual bedtime stories every Tuesday evening at 7:00 p.m. Geared towards children 2 to 6 years old. Registration required.  //  Nous vous invitons à l’heure du conte virtuelle tous les mardis à 19 h. Pour les enfants de 2 à 6 ans. Inscription requise.
URL:https://events-evenements.crcoc.ca/event-evenement/virtual-bedtime-stories-lheure-du-conte-virtuelle/2022-12-06/
LOCATION:Ontario
CATEGORIES:Early ON-ON y va
ATTACH;FMTTYPE=image/png:https://events-evenements.crcoc.ca/wp-content/uploads/2022/11/Virtual-Bedtime-Stories.png
ORGANIZER;CN="EarlyON | ON y va":MAILTO:EarlyONyva@crcoc.ca
END:VEVENT
END:VCALENDAR