BEGIN:VCALENDAR
VERSION:2.0
PRODID:-//OCCRC Events | Évènements CRCOC - ECPv6.15.18//NONSGML v1.0//EN
CALSCALE:GREGORIAN
METHOD:PUBLISH
X-ORIGINAL-URL:https://events-evenements.crcoc.ca
X-WR-CALDESC:Events for OCCRC Events | Évènements CRCOC
REFRESH-INTERVAL;VALUE=DURATION:PT1H
X-Robots-Tag:noindex
X-PUBLISHED-TTL:PT1H
BEGIN:VTIMEZONE
TZID:America/Toronto
BEGIN:DAYLIGHT
TZOFFSETFROM:-0500
TZOFFSETTO:-0400
TZNAME:EDT
DTSTART:20210314T070000
END:DAYLIGHT
BEGIN:STANDARD
TZOFFSETFROM:-0400
TZOFFSETTO:-0500
TZNAME:EST
DTSTART:20211107T060000
END:STANDARD
BEGIN:DAYLIGHT
TZOFFSETFROM:-0500
TZOFFSETTO:-0400
TZNAME:EDT
DTSTART:20220313T070000
END:DAYLIGHT
BEGIN:STANDARD
TZOFFSETFROM:-0400
TZOFFSETTO:-0500
TZNAME:EST
DTSTART:20221106T060000
END:STANDARD
BEGIN:DAYLIGHT
TZOFFSETFROM:-0500
TZOFFSETTO:-0400
TZNAME:EDT
DTSTART:20230312T070000
END:DAYLIGHT
BEGIN:STANDARD
TZOFFSETFROM:-0400
TZOFFSETTO:-0500
TZNAME:EST
DTSTART:20231105T060000
END:STANDARD
END:VTIMEZONE
BEGIN:VEVENT
DTSTART;TZID=America/Toronto:20221129T100000
DTEND;TZID=America/Toronto:20221129T110000
DTSTAMP:20260422T075907
CREATED:20221025T200752Z
LAST-MODIFIED:20221124T183049Z
UID:15179-1669716000-1669719600@events-evenements.crcoc.ca
SUMMARY:CANCELLED - Gross motor fun at The Navan Arena! // ANNULÉ - On bouge en s’amusant à l’aréna de Navan !
DESCRIPTION:Let’s meet at the Navan Memorial Centre & Arena\, 1295 Colonial\, Navan\, ON K4B 1N1\, for this fun activity! Registration required. Get ready to jump\, run\, climb and move with us at the park! During this activity\, your children will get the chance to practice all of their gross motor skills! \n— \nJoignez-vous à nous au Centre commémoratif et aréna de Navan\, 1295 Colonial\, Navan\, ON K4B 1N1 pour cette activité amusante ! Inscription require. Venez sauter\, courir\, grimper et bouger avec nous au parc ! Durant cette activité\, votre enfant aura la chance de mettre sa motricité globale en pratique !
URL:https://events-evenements.crcoc.ca/event-evenement/gross-motor-fun-at-the-navan-arena-on-bouge-en-samusant-a-larena-de-navan/
LOCATION:Ontario
CATEGORIES:Early ON-ON y va
ATTACH;FMTTYPE=image/png:https://events-evenements.crcoc.ca/wp-content/uploads/2022/10/Screen-Shot-2022-10-25-at-4.07.28-PM.png
ORGANIZER;CN="EarlyON | ON y va":MAILTO:EarlyONyva@crcoc.ca
END:VEVENT
BEGIN:VEVENT
DTSTART;TZID=America/Toronto:20221129T160000
DTEND;TZID=America/Toronto:20221129T180000
DTSTAMP:20260422T075907
CREATED:20221025T202157Z
LAST-MODIFIED:20221121T174053Z
UID:15192-1669737600-1669744800@events-evenements.crcoc.ca
SUMMARY:Kids Space - Grade 1 to 6 - In-person // Espace Enfants - 1re à 6e année - En personne
DESCRIPTION:ENGLISH Description\n\nIN-PERSON programming on Tuesdays from 4 p.m. – 6 p.m. in November.  A space to connect with other kids\, have fun\, learn some strategies and talk!  REGISTER online – (Registration opens every Monday at 8:30 a.m. for the following week.)\n\n\n\n1: What the Future Holds\n8: Movie Night – Lets Take the Train of Thought (Inside Out)\n 15: Tuning in to You\n\n22: “Check” Your Limits\n29: Body\, Mind & Soul\n\nIf you have complications registering online\, please contact Fanny. \n\nDescription en FRANÇAIS \nEN PERSONNE les mardis de 16 h à 18 h en novembre. Un espace pour se connecter avec d’autres enfants\, s’amuser\, apprendre des stratégies et parler !   INSCRIVEZ-VOUS en ligne — (l’inscription ouvre tous les lundis à 8 h 30 pour la semaine suivante). \n\n1 : Ce que le futur sera\n8 : Soirée cinéma — Prenons le train de la pensée et (vice-versa)\n 15 : Se mettre à ton écoute\n 22 : Maîtriser son jeu\n29 : Corps\, pensées et esprit\n\nSi l’inscription en ligne vous pose problème\, contacter Fanny.
URL:https://events-evenements.crcoc.ca/event-evenement/kids-space-grade-1-to-6-in-person-espace-enfants-1re-a-6e-annee-en-personne-12-2022-11-29/
LOCATION:Ontario
CATEGORIES:Children & Youth-Enfants et jeunes
ATTACH;FMTTYPE=image/jpeg:https://events-evenements.crcoc.ca/wp-content/uploads/2021/01/kids-space-espace-enfants.jpg
ORGANIZER;CN="Children & Youth | Enfants et jeunes":MAILTO:info@crcoc.ca
END:VEVENT
END:VCALENDAR