BEGIN:VCALENDAR
VERSION:2.0
PRODID:-//OCCRC Events | Évènements CRCOC - ECPv6.15.18//NONSGML v1.0//EN
CALSCALE:GREGORIAN
METHOD:PUBLISH
X-ORIGINAL-URL:https://events-evenements.crcoc.ca
X-WR-CALDESC:Events for OCCRC Events | Évènements CRCOC
REFRESH-INTERVAL;VALUE=DURATION:PT1H
X-Robots-Tag:noindex
X-PUBLISHED-TTL:PT1H
BEGIN:VTIMEZONE
TZID:America/Toronto
BEGIN:DAYLIGHT
TZOFFSETFROM:-0500
TZOFFSETTO:-0400
TZNAME:EDT
DTSTART:20210314T070000
END:DAYLIGHT
BEGIN:STANDARD
TZOFFSETFROM:-0400
TZOFFSETTO:-0500
TZNAME:EST
DTSTART:20211107T060000
END:STANDARD
BEGIN:DAYLIGHT
TZOFFSETFROM:-0500
TZOFFSETTO:-0400
TZNAME:EDT
DTSTART:20220313T070000
END:DAYLIGHT
BEGIN:STANDARD
TZOFFSETFROM:-0400
TZOFFSETTO:-0500
TZNAME:EST
DTSTART:20221106T060000
END:STANDARD
BEGIN:DAYLIGHT
TZOFFSETFROM:-0500
TZOFFSETTO:-0400
TZNAME:EDT
DTSTART:20230312T070000
END:DAYLIGHT
BEGIN:STANDARD
TZOFFSETFROM:-0400
TZOFFSETTO:-0500
TZNAME:EST
DTSTART:20231105T060000
END:STANDARD
END:VTIMEZONE
BEGIN:VEVENT
DTSTART;TZID=America/Toronto:20221101T093000
DTEND;TZID=America/Toronto:20221101T110000
DTSTAMP:20260422T164910
CREATED:20221025T185408Z
LAST-MODIFIED:20221125T003446Z
UID:15084-1667295000-1667300400@events-evenements.crcoc.ca
SUMMARY:English playgroup at the EarlyON Centre!
DESCRIPTION:Let’s meet at the Orléans-Cumberland Community Resource Centre (240 Centrum boulevard unit 105) for a Drop-in playgroup! This program is geared toward children 0 to 6 years old. Children will enjoy play-based learning experiences that are fun and engaging. All participants will be asked to use the front door facing St-Joseph Boulevard to access the EarlyON Centre. \nPLEASE NOTE:  Online registration for playgroups will no longer be required! Our playgroups will now be Drop in’s\, first come / first served. \nStarting at 9:30 a.m.\, a Family Resource Worker will greet you and give you a number to attend the playgroup. We ask that you arrive no earlier than 9:30 a.m. since we don’t have a waiting room available. \nWhen the playgroup is full\, we will have a sign on the window beside the front door. We will also post a message on our Facebook page: https://www.facebook.com/earlyonorleans.
URL:https://events-evenements.crcoc.ca/event-evenement/english-playgroup-at-the-earlyon-centre-21/2022-11-01/
LOCATION:Ontario
CATEGORIES:Early ON-ON y va
ATTACH;FMTTYPE=image/jpeg:https://events-evenements.crcoc.ca/wp-content/uploads/2022/05/Francophone-Group-Pic.jpg
ORGANIZER;CN="EarlyON | ON y va":MAILTO:EarlyONyva@crcoc.ca
END:VEVENT
BEGIN:VEVENT
DTSTART;TZID=America/Toronto:20221101T133000
DTEND;TZID=America/Toronto:20221101T143000
DTSTAMP:20260422T164910
CREATED:20221025T195308Z
LAST-MODIFIED:20221025T195308Z
UID:15170-1667309400-1667313000@events-evenements.crcoc.ca
SUMMARY:Stroller Walk // Marche avec pousettes
DESCRIPTION:Come and meet us for a social stroller walk! We will begin the walk around 1:30 PM. Dress you and your baby warmly as we will walk along the path of Francois Dupont Park\, 755 Champlain Street. \n— \nVenez nous joindre pour une marche avec vos poussettes ! Nous débuterons la marche à 13 h 30. Habillez-vous et votre bébé chaudement\, tandis que nous marcherons au chemin du Parc Francois-Dupont 755 rue Champlain.
URL:https://events-evenements.crcoc.ca/event-evenement/stroller-walk-marche-avec-pousettes/
LOCATION:Ontario
CATEGORIES:Early ON-ON y va
ATTACH;FMTTYPE=image/png:https://events-evenements.crcoc.ca/wp-content/uploads/2022/10/Screen-Shot-2022-10-25-at-3.52.26-PM.png
ORGANIZER;CN="EarlyON | ON y va":MAILTO:EarlyONyva@crcoc.ca
END:VEVENT
BEGIN:VEVENT
DTSTART;TZID=America/Toronto:20221101T160000
DTEND;TZID=America/Toronto:20221101T180000
DTSTAMP:20260422T164910
CREATED:20221025T202157Z
LAST-MODIFIED:20221025T210530Z
UID:15188-1667318400-1667325600@events-evenements.crcoc.ca
SUMMARY:Kids Space - Grade 1 to 6 - In-person // Espace Enfants - 1re à 6e année - En personne
DESCRIPTION:ENGLISH Description\n\nIN-PERSON programming on Tuesdays from 4 p.m. – 6 p.m. in November.  A space to connect with other kids\, have fun\, learn some strategies and talk!  REGISTER online – (Registration opens every Monday at 8:30 a.m. for the following week.)\n\n\n\n1: What the Future Holds\n8: Movie Night – Lets Take the Train of Thought (Inside Out)\n 15: Tuning in to You\n\n22: “Check” Your Limits\n29: Body\, Mind & Soul\n\nIf you have complications registering online\, please contact Fanny. \n\nDescription en FRANÇAIS \nEN PERSONNE les mardis de 16 h à 18 h en novembre. Un espace pour se connecter avec d’autres enfants\, s’amuser\, apprendre des stratégies et parler !   INSCRIVEZ-VOUS en ligne — (l’inscription ouvre tous les lundis à 8 h 30 pour la semaine suivante). \n\n1 : Ce que le futur sera\n8 : Soirée cinéma — Prenons le train de la pensée et (vice-versa)\n 15 : Se mettre à ton écoute\n 22 : Maîtriser son jeu\n29 : Corps\, pensées et esprit\n\nSi l’inscription en ligne vous pose problème\, contacter Fanny.
URL:https://events-evenements.crcoc.ca/event-evenement/kids-space-grade-1-to-6-in-person-espace-enfants-1re-a-6e-annee-en-personne-12-2022-11-01/
LOCATION:Ontario
CATEGORIES:Children & Youth-Enfants et jeunes
ATTACH;FMTTYPE=image/jpeg:https://events-evenements.crcoc.ca/wp-content/uploads/2021/01/kids-space-espace-enfants.jpg
ORGANIZER;CN="Children & Youth | Enfants et jeunes":MAILTO:info@crcoc.ca
END:VEVENT
END:VCALENDAR