BEGIN:VCALENDAR
VERSION:2.0
PRODID:-//OCCRC Events | Évènements CRCOC - ECPv6.15.18//NONSGML v1.0//EN
CALSCALE:GREGORIAN
METHOD:PUBLISH
X-WR-CALNAME:OCCRC Events | Évènements CRCOC
X-ORIGINAL-URL:https://events-evenements.crcoc.ca
X-WR-CALDESC:Events for OCCRC Events | Évènements CRCOC
REFRESH-INTERVAL;VALUE=DURATION:PT1H
X-Robots-Tag:noindex
X-PUBLISHED-TTL:PT1H
BEGIN:VTIMEZONE
TZID:America/Toronto
BEGIN:DAYLIGHT
TZOFFSETFROM:-0500
TZOFFSETTO:-0400
TZNAME:EDT
DTSTART:20210314T070000
END:DAYLIGHT
BEGIN:STANDARD
TZOFFSETFROM:-0400
TZOFFSETTO:-0500
TZNAME:EST
DTSTART:20211107T060000
END:STANDARD
BEGIN:DAYLIGHT
TZOFFSETFROM:-0500
TZOFFSETTO:-0400
TZNAME:EDT
DTSTART:20220313T070000
END:DAYLIGHT
BEGIN:STANDARD
TZOFFSETFROM:-0400
TZOFFSETTO:-0500
TZNAME:EST
DTSTART:20221106T060000
END:STANDARD
BEGIN:DAYLIGHT
TZOFFSETFROM:-0500
TZOFFSETTO:-0400
TZNAME:EDT
DTSTART:20230312T070000
END:DAYLIGHT
BEGIN:STANDARD
TZOFFSETFROM:-0400
TZOFFSETTO:-0500
TZNAME:EST
DTSTART:20231105T060000
END:STANDARD
END:VTIMEZONE
BEGIN:VEVENT
DTSTART;TZID=America/Toronto:20220913T100000
DTEND;TZID=America/Toronto:20220913T113000
DTSTAMP:20260422T214329
CREATED:20220825T090148Z
LAST-MODIFIED:20220825T090148Z
UID:14633-1663063200-1663068600@events-evenements.crcoc.ca
SUMMARY:Walk and Snack at Petrie Island  //  Promenade et collation à L’Île Petrie
DESCRIPTION:This activity will take place at Petrie’s Island (795 Trim Road).  Join us for a walk in the nature followed by snack time together.   Don’t forget to bring your snack and blanket. Please note that this activity will take place rain or shine.  **Meeting place: At the entrance of the turtle trail**  —   Registration required for this special activity – Register online! //\n \n  \nCette activité aura lieu à l’île Petrie (795 Trim Road).  Joignez-vous à nous pour une promenade en nature suivi d’un temps de collation ensemble.  N’oubliez pas d’apporter votre collation et votre couverture. Veuillez noter que l’activité aura lieu même s’il pleut.   **Point de rencontre : À l’entrée du sentier des tortues**  —  Inscription requise pour cette activité spéciale – Inscrivez-vous en ligne !\n \n  \n 
URL:https://events-evenements.crcoc.ca/event-evenement/walk-and-snack-at-petrie-island-promenade-et-collation-a-lile-petrie-3/
LOCATION:Ontario
CATEGORIES:Early ON-ON y va
ATTACH;FMTTYPE=image/jpeg:https://events-evenements.crcoc.ca/wp-content/uploads/2022/08/Walk-and-Snack-at-Petrie-Island.jpg
ORGANIZER;CN="EarlyON | ON y va":MAILTO:EarlyONyva@crcoc.ca
END:VEVENT
BEGIN:VEVENT
DTSTART;TZID=America/Toronto:20220913T160000
DTEND;TZID=America/Toronto:20220913T180000
DTSTAMP:20260422T214329
CREATED:20220825T092023Z
LAST-MODIFIED:20220825T092351Z
UID:14640-1663084800-1663092000@events-evenements.crcoc.ca
SUMMARY:Kids Space - Grade 1 to 6 - In-person // Espace Enfants - 1re à 6e année - En personne
DESCRIPTION:IN-PERSON programming on Tuesdays from 4pm – 6pm in June.  A space to connect with other kids\, have fun\, learn some strategies and talk!  REGISTER online – (Registration opens every Mondays at 8:30am for the following week.) //\n\n\n\n\n\nEN PERSONNE les mardis de 16 H à 18 H en juin.   Un espace pour se connecter avec d’autres enfants\, s’asumer\, apprendre des stratégies et parler!   INSCRIVEZ-VOUS en ligne – (L’inscription ouvre tous les lundies à 8h30 pour la semaine suivant.)\n\n\n\nENGLISH Description\n\n6:   Back to School Celebration!\n13:  Think It\, Be It\n 20:  Fall Festival\n\n27:  Minute to Win it\n\n  \nDescription en FRANÇAIS \n\n6 :   Célébration de la rentrée des classes!\n13 :   Pensez-y\, soyez-y\n 20 :  Festival d’automne\n 27 :  Une minute pour gagner\n\n  \nIf you have complications registering online\, please contact Fanny.  // Si l’inscription en ligne vous pose problème\, contacter Fanny.
URL:https://events-evenements.crcoc.ca/event-evenement/kids-space-grade-1-to-6-in-person-espace-enfants-1re-a-6e-annee-en-personne-10-2022-09-13/
LOCATION:Ontario
CATEGORIES:Children & Youth-Enfants et jeunes
ATTACH;FMTTYPE=image/jpeg:https://events-evenements.crcoc.ca/wp-content/uploads/2021/01/kids-space-espace-enfants.jpg
ORGANIZER;CN="Children & Youth | Enfants et jeunes":MAILTO:info@crcoc.ca
END:VEVENT
END:VCALENDAR