BEGIN:VCALENDAR
VERSION:2.0
PRODID:-//OCCRC Events | Évènements CRCOC - ECPv6.15.18//NONSGML v1.0//EN
CALSCALE:GREGORIAN
METHOD:PUBLISH
X-ORIGINAL-URL:https://events-evenements.crcoc.ca
X-WR-CALDESC:Events for OCCRC Events | Évènements CRCOC
REFRESH-INTERVAL;VALUE=DURATION:PT1H
X-Robots-Tag:noindex
X-PUBLISHED-TTL:PT1H
BEGIN:VTIMEZONE
TZID:America/Toronto
BEGIN:DAYLIGHT
TZOFFSETFROM:-0500
TZOFFSETTO:-0400
TZNAME:EDT
DTSTART:20210314T070000
END:DAYLIGHT
BEGIN:STANDARD
TZOFFSETFROM:-0400
TZOFFSETTO:-0500
TZNAME:EST
DTSTART:20211107T060000
END:STANDARD
BEGIN:DAYLIGHT
TZOFFSETFROM:-0500
TZOFFSETTO:-0400
TZNAME:EDT
DTSTART:20220313T070000
END:DAYLIGHT
BEGIN:STANDARD
TZOFFSETFROM:-0400
TZOFFSETTO:-0500
TZNAME:EST
DTSTART:20221106T060000
END:STANDARD
BEGIN:DAYLIGHT
TZOFFSETFROM:-0500
TZOFFSETTO:-0400
TZNAME:EDT
DTSTART:20230312T070000
END:DAYLIGHT
BEGIN:STANDARD
TZOFFSETFROM:-0400
TZOFFSETTO:-0500
TZNAME:EST
DTSTART:20231105T060000
END:STANDARD
END:VTIMEZONE
BEGIN:VEVENT
DTSTART;TZID=America/Toronto:20220825T093000
DTEND;TZID=America/Toronto:20220825T110000
DTSTAMP:20260422T232801
CREATED:20220729T043749Z
LAST-MODIFIED:20220825T080226Z
UID:14308-1661419800-1661425200@events-evenements.crcoc.ca
SUMMARY:CANCELLED - Outdoor Playgroup at the Cumberland Park!  //  ANNULÉ - Groupe de jeu au parc de Cumberland!
DESCRIPTION:Let’s meet at the R.J Kennedy Arena \, 1115 Dunning Road\, to enjoy the outdoors together! Rain or Shine!  Group cancelled +30c with humidex. //\n \n  \nJoignez-vous à nous au parc de Cumberland à l’Arena R.J Kennedy\, au 1115 ch. Dunning. Venez profiter de la nature avec nous!  Beau temps\, mauvais temps!   Groupe annulé +30c avec humidex.
URL:https://events-evenements.crcoc.ca/event-evenement/outdoor-playgroup-at-the-cumberland-park-groupe-de-jeu-au-parc-de-cumberland-5-2022-08-25/
LOCATION:Ontario
CATEGORIES:Early ON-ON y va
ATTACH;FMTTYPE=image/jpeg:https://events-evenements.crcoc.ca/wp-content/uploads/2022/05/Cumberland-Outdoor-PIC.jpg
ORGANIZER;CN="EarlyON | ON y va":MAILTO:EarlyONyva@crcoc.ca
END:VEVENT
BEGIN:VEVENT
DTSTART;TZID=America/Toronto:20220825T150000
DTEND;TZID=America/Toronto:20220825T180000
DTSTAMP:20260422T232801
CREATED:20220729T031422Z
LAST-MODIFIED:20220729T031533Z
UID:14223-1661439600-1661450400@events-evenements.crcoc.ca
SUMMARY:Youth Space - Grade 7 to 12 //  Espace Jeunesse - 7e à 12e année
DESCRIPTION:Weekly\, ongoing program – Bilingual – In person – Thursdays.  A space to connect with other youth\, have fun\, share experiences\, relate with others and talk about things important to you.  Let’s get our summer vibes on with some art\, games\, challenges\, great conversation and more! \nRegister online to join us (limited spots 12 people).   If you have any complication registering please email Tanya. \n\nAugust – 3 pm to 6 pm  //  Août – 15 H  à 18 H\n\n4  –  2SLGBTQIA+ : Let your art be as unique as you! ; Dinner:  TBD //  Laissez votre art être aussi unique que vous !;  Souper :  à déterminer\n11  –  Everyone /Toustes :  The park is calling we must go!; Dinner:  TBD // Le parc nous appelle et nous devons y aller !;  Souper : à déterminer\n18  –  Girls / Filles :  Chill vibes for movie night!; Dinner: TBD  // Relaxons pour une soirée cinéma !; Souper : à déterminer\n25  –  Everyone /Toustes :  Life is what you bake it!; Dinner:  TBD // La vie\, c’est ce qu’on cuit !; Souper : à déterminer\n\n\n\nHebdomadaire\, programme continu – bilingue – En personne – les jeudis.  Un espace pour se connecter avec d’autres jeunes\, s’amuser\, partager des expériences et parler de choses importantes pour eux.  La fin de l’année scolaire approche\, donc…. mettons l’emphase sur prendre soin de nous\, de l’énergie positive et des stratégies pour surmonter tout ça! \nInscrivez en ligne pour nous joindre (places limitées 12 personnes).  Si l’inscription en ligne vous pose problème\, envoyer un courriel à Tanya.
URL:https://events-evenements.crcoc.ca/event-evenement/youth-space-grade-7-to-12-espace-jeunesse-7e-a-12e-annee-8-2022-08-25/
LOCATION:Ontario
CATEGORIES:Children & Youth-Enfants et jeunes
ATTACH;FMTTYPE=image/jpeg:https://events-evenements.crcoc.ca/wp-content/uploads/2021/01/Youth-Space-espace-jeunesse.jpg
ORGANIZER;CN="Children & Youth | Enfants et jeunes":MAILTO:info@crcoc.ca
END:VEVENT
END:VCALENDAR