BEGIN:VCALENDAR
VERSION:2.0
PRODID:-//OCCRC Events | Évènements CRCOC - ECPv6.15.18//NONSGML v1.0//EN
CALSCALE:GREGORIAN
METHOD:PUBLISH
X-ORIGINAL-URL:https://events-evenements.crcoc.ca
X-WR-CALDESC:Events for OCCRC Events | Évènements CRCOC
REFRESH-INTERVAL;VALUE=DURATION:PT1H
X-Robots-Tag:noindex
X-PUBLISHED-TTL:PT1H
BEGIN:VTIMEZONE
TZID:America/Toronto
BEGIN:DAYLIGHT
TZOFFSETFROM:-0500
TZOFFSETTO:-0400
TZNAME:EDT
DTSTART:20210314T070000
END:DAYLIGHT
BEGIN:STANDARD
TZOFFSETFROM:-0400
TZOFFSETTO:-0500
TZNAME:EST
DTSTART:20211107T060000
END:STANDARD
BEGIN:DAYLIGHT
TZOFFSETFROM:-0500
TZOFFSETTO:-0400
TZNAME:EDT
DTSTART:20220313T070000
END:DAYLIGHT
BEGIN:STANDARD
TZOFFSETFROM:-0400
TZOFFSETTO:-0500
TZNAME:EST
DTSTART:20221106T060000
END:STANDARD
BEGIN:DAYLIGHT
TZOFFSETFROM:-0500
TZOFFSETTO:-0400
TZNAME:EDT
DTSTART:20230312T070000
END:DAYLIGHT
BEGIN:STANDARD
TZOFFSETFROM:-0400
TZOFFSETTO:-0500
TZNAME:EST
DTSTART:20231105T060000
END:STANDARD
END:VTIMEZONE
BEGIN:VEVENT
DTSTART;TZID=America/Toronto:20220817T100000
DTEND;TZID=America/Toronto:20220817T110000
DTSTAMP:20260423T040415
CREATED:20220729T043138Z
LAST-MODIFIED:20220729T043138Z
UID:14297-1660730400-1660734000@events-evenements.crcoc.ca
SUMMARY:Art at the park -// De l'art au parc
DESCRIPTION:Let’s meet at the Queenswood Heights park\, 1485 Duford Drive.   This art workshop focuses on the process of creation which will help kids develop their imagination and creativity while having fun discovering and exploring different art mediums.  *The activity will be cancelled if it rains*  //  \n \n  \noignez-vous à nous au parc de Queenswoods Heights au 1485 Duford Drive.  Cet atelier d’art axé sur le processus de création permettra aux enfants de développer leur imagination et leur créativité tout en s’amusant à découvrir et explorer plusieurs médiums.  *L’activité sera annulée s’il pleut*
URL:https://events-evenements.crcoc.ca/event-evenement/art-at-the-park-de-lart-au-parc/
LOCATION:Ontario
CATEGORIES:Early ON-ON y va
ATTACH;FMTTYPE=image/jpeg:https://events-evenements.crcoc.ca/wp-content/uploads/2021/10/Art-PARK-pic.jpg
ORGANIZER;CN="EarlyON | ON y va":MAILTO:EarlyONyva@crcoc.ca
END:VEVENT
BEGIN:VEVENT
DTSTART;TZID=America/Toronto:20220817T110000
DTEND;TZID=America/Toronto:20220817T113000
DTSTAMP:20260423T040415
CREATED:20220729T041548Z
LAST-MODIFIED:20220729T041836Z
UID:14278-1660734000-1660735800@events-evenements.crcoc.ca
SUMMARY:Virtual interactive circle time! // Temps de cercle virtuel interactif!
DESCRIPTION:Come sing\, play and have fun during our virtual circle time! The songs\, rhymes and story time will be enjoyable for all children! // \n  \nVenez chanter\, jouer et vous amusez avec nous durant nos temps de cercle virtuel! Les chansons\, comptines et histoires plairont aux plus petits comme aux plus grands!
URL:https://events-evenements.crcoc.ca/event-evenement/virtual-interactive-circle-time-temps-de-cercle-virtuel-interactif-10-2022-08-17/
LOCATION:Ontario
CATEGORIES:Early ON-ON y va
ATTACH;FMTTYPE=image/jpeg:https://events-evenements.crcoc.ca/wp-content/uploads/2022/05/Circle-time-Pic.jpg
ORGANIZER;CN="EarlyON | ON y va":MAILTO:EarlyONyva@crcoc.ca
END:VEVENT
END:VCALENDAR