BEGIN:VCALENDAR
VERSION:2.0
PRODID:-//OCCRC Events | Évènements CRCOC - ECPv6.15.18//NONSGML v1.0//EN
CALSCALE:GREGORIAN
METHOD:PUBLISH
X-ORIGINAL-URL:https://events-evenements.crcoc.ca
X-WR-CALDESC:Events for OCCRC Events | Évènements CRCOC
REFRESH-INTERVAL;VALUE=DURATION:PT1H
X-Robots-Tag:noindex
X-PUBLISHED-TTL:PT1H
BEGIN:VTIMEZONE
TZID:America/Toronto
BEGIN:DAYLIGHT
TZOFFSETFROM:-0500
TZOFFSETTO:-0400
TZNAME:EDT
DTSTART:20210314T070000
END:DAYLIGHT
BEGIN:STANDARD
TZOFFSETFROM:-0400
TZOFFSETTO:-0500
TZNAME:EST
DTSTART:20211107T060000
END:STANDARD
BEGIN:DAYLIGHT
TZOFFSETFROM:-0500
TZOFFSETTO:-0400
TZNAME:EDT
DTSTART:20220313T070000
END:DAYLIGHT
BEGIN:STANDARD
TZOFFSETFROM:-0400
TZOFFSETTO:-0500
TZNAME:EST
DTSTART:20221106T060000
END:STANDARD
BEGIN:DAYLIGHT
TZOFFSETFROM:-0500
TZOFFSETTO:-0400
TZNAME:EDT
DTSTART:20230312T070000
END:DAYLIGHT
BEGIN:STANDARD
TZOFFSETFROM:-0400
TZOFFSETTO:-0500
TZNAME:EST
DTSTART:20231105T060000
END:STANDARD
END:VTIMEZONE
BEGIN:VEVENT
DTSTART;TZID=America/Toronto:20220810T100000
DTEND;TZID=America/Toronto:20220810T110000
DTSTAMP:20260423T233339
CREATED:20220729T042759Z
LAST-MODIFIED:20220729T042759Z
UID:14294-1660125600-1660129200@events-evenements.crcoc.ca
SUMMARY:Family Yoga at the park! //  Yoga en famille au parc!
DESCRIPTION:This activity will take place at the Queenswood Heights Park (1485 Duford Drive\, Orléans) – Registration is required.   Come to Cardinal Creek park to do a little yoga and explore the Community Garden!  The yoga component is age appropriate for children 2 year and up.   The whole family is welcome!  //\n \n\nCette activité aura lieu au parc Queenswood Heights (1485 Prom. Duford\, Orléans) – Inscription requise.  Venez au Parc Cardinal Creek pour faire du yoga et explorer le jardin communautaire! Pour les enfants de 2 ans et plus\, mais toute la famille est bienvenue ! \n 
URL:https://events-evenements.crcoc.ca/event-evenement/family-yoga-at-the-park-yoga-en-famille-au-parc-2/
LOCATION:Orléans
CATEGORIES:Early ON-ON y va
ATTACH;FMTTYPE=image/jpeg:https://events-evenements.crcoc.ca/wp-content/uploads/2022/04/Yoga-Pic.jpg
ORGANIZER;CN="EarlyON | ON y va":MAILTO:EarlyONyva@crcoc.ca
END:VEVENT
BEGIN:VEVENT
DTSTART;TZID=America/Toronto:20220810T100000
DTEND;TZID=America/Toronto:20220810T120000
DTSTAMP:20260423T233339
CREATED:20220624T115431Z
LAST-MODIFIED:20220624T134143Z
UID:13851-1660125600-1660132800@events-evenements.crcoc.ca
SUMMARY:Child Summer Outings- Grade 1 to 6  // Sorties d'étés pour enfants - 1re à 6e année
DESCRIPTION:IN-PERSON outings on Wednesdays from 10am to noon – Bi-weekly.   REGISTER online – Limited spots (Max. 15) – (Registration opens the week before the activity on Monday at 8:30am and closes on Friday at 4pm.)  Please be sure to sign up for each group you are interested in registering your child for *Individually*. //\n\n\n\n\n\nSorties EN PERSONNE les mercredis de 10 H à 12 H – bi-hebdomadaire.   Une série d’activités variées et amusantes offerte ou les enfants peuvent jouer\, apprendre des recettes\, faire du bricolage et se faire des amis!   INSCRIVEZ-VOUS en ligne – place limitées (Max. 12) – (L’inscription commence la semaine précédente l’événement le lundi à 8 h 30 et se termine le vendredi à 16 h.)  Veuillez vous assurer de vous inscrire pour chaque groupe auquel vous souhaitez inscrire votre enfant *individuellement*.\n\n\n\nENGLISH Description\n\n\nJuly 13th :   Cumberland Heritage Village Museum\nJuly 27th :   Mini golf at Mer Bleue Miniputt\n August 10th :  Bowling at Orleans Bowling Centre\n\n\n  \nDescription en FRANÇAIS\n \n\n 13 juillet:   Musée-village du patrimoine de Cumberland\n 27 juillet :   Mini golf au Miniputt Mer Bleue\n 10 août :  Quilles au Centre Orleans Bowling\n\n  \nIf you have complications registering online\, please contact Isabel OR call at 613-830-4357 ext. 177.  // Si l’inscription en ligne vous pose problème\, contacter Isabel ou appeler au 613-830-4357 poste 177.
URL:https://events-evenements.crcoc.ca/event-evenement/child-summer-outings-grade-1-to-6-sorties-detes-pour-enfants-1re-a-6e-annee-2022-08-10/
LOCATION:Orléans
CATEGORIES:Children & Youth-Enfants et jeunes
ATTACH;FMTTYPE=image/png:https://events-evenements.crcoc.ca/wp-content/uploads/2022/06/Summer-Outing-Kids-pic.png
ORGANIZER;CN="Children & Youth | Enfants et jeunes":MAILTO:info@crcoc.ca
END:VEVENT
BEGIN:VEVENT
DTSTART;TZID=America/Toronto:20220810T110000
DTEND;TZID=America/Toronto:20220810T113000
DTSTAMP:20260423T233339
CREATED:20220729T041548Z
LAST-MODIFIED:20220729T041920Z
UID:14277-1660129200-1660131000@events-evenements.crcoc.ca
SUMMARY:Virtual interactive circle time! // Temps de cercle virtuel interactif!
DESCRIPTION:Come sing\, play and have fun during our virtual circle time! The songs\, rhymes and story time will be enjoyable for all children! // \n  \nVenez chanter\, jouer et vous amusez avec nous durant nos temps de cercle virtuel! Les chansons\, comptines et histoires plairont aux plus petits comme aux plus grands!
URL:https://events-evenements.crcoc.ca/event-evenement/virtual-interactive-circle-time-temps-de-cercle-virtuel-interactif-10-2022-08-10/
LOCATION:Orléans
CATEGORIES:Early ON-ON y va
ATTACH;FMTTYPE=image/jpeg:https://events-evenements.crcoc.ca/wp-content/uploads/2022/05/Circle-time-Pic.jpg
ORGANIZER;CN="EarlyON | ON y va":MAILTO:EarlyONyva@crcoc.ca
END:VEVENT
END:VCALENDAR