BEGIN:VCALENDAR
VERSION:2.0
PRODID:-//OCCRC Events | Évènements CRCOC - ECPv6.15.18//NONSGML v1.0//EN
CALSCALE:GREGORIAN
METHOD:PUBLISH
X-ORIGINAL-URL:https://events-evenements.crcoc.ca
X-WR-CALDESC:Events for OCCRC Events | Évènements CRCOC
REFRESH-INTERVAL;VALUE=DURATION:PT1H
X-Robots-Tag:noindex
X-PUBLISHED-TTL:PT1H
BEGIN:VTIMEZONE
TZID:America/Toronto
BEGIN:DAYLIGHT
TZOFFSETFROM:-0500
TZOFFSETTO:-0400
TZNAME:EDT
DTSTART:20210314T070000
END:DAYLIGHT
BEGIN:STANDARD
TZOFFSETFROM:-0400
TZOFFSETTO:-0500
TZNAME:EST
DTSTART:20211107T060000
END:STANDARD
BEGIN:DAYLIGHT
TZOFFSETFROM:-0500
TZOFFSETTO:-0400
TZNAME:EDT
DTSTART:20220313T070000
END:DAYLIGHT
BEGIN:STANDARD
TZOFFSETFROM:-0400
TZOFFSETTO:-0500
TZNAME:EST
DTSTART:20221106T060000
END:STANDARD
BEGIN:DAYLIGHT
TZOFFSETFROM:-0500
TZOFFSETTO:-0400
TZNAME:EDT
DTSTART:20230312T070000
END:DAYLIGHT
BEGIN:STANDARD
TZOFFSETFROM:-0400
TZOFFSETTO:-0500
TZNAME:EST
DTSTART:20231105T060000
END:STANDARD
END:VTIMEZONE
BEGIN:VEVENT
DTSTART;TZID=America/Toronto:20220805T093000
DTEND;TZID=America/Toronto:20220805T110000
DTSTAMP:20260422T125256
CREATED:20220729T044828Z
LAST-MODIFIED:20220729T044828Z
UID:14322-1659691800-1659697200@events-evenements.crcoc.ca
SUMMARY:Outdoor playgroup at the Park!  // Groupe de jeu au parc!
DESCRIPTION:Let’s meet to enjoy the outdoors together at 9:30 am! Rain or Shine!  We are happy to announce that for the months of July and August we will be exploring parks in our neighborhood on Fridays!      (NOTE:  Group cancelled +30c with humidex) \n  \nHere are the parks for AUGUST//  Voici les parcs pour AOÛT: \n\n 8  —  at the Queenswood Heights Park / (1485 Pr. Duford Drive) / au parc Queenswood Heights\n15  — at the Cardinal Creek Park / (1825 ch. Trim Rd.) / au parc de Cardinal Creek\n22 — at the Vista Park / (720 Pr. Vista Park Dr.) / au parc Vista\n29 — at the Big Bird Park / (936 Pr. Lawnsberry Dr.) / au parc Big Bird\n\n  \nRencontrons-nous pour profiter du plein air ensemble à 9 H 30! Beau temps\, mauvais temps!   Nous sommes très heureuses de vous annoncer que tous les vendredi des mois de juillet et août\, nous explorerons différents parcs à Orléans !   (REMARQUE:  Groupe annulé +30c avec humidex)
URL:https://events-evenements.crcoc.ca/event-evenement/outdoor-playgroup-at-the-park-groupe-de-jeu-au-parc-6/2022-08-05/
LOCATION:Ontario
CATEGORIES:Early ON-ON y va
ATTACH;FMTTYPE=image/jpeg:https://events-evenements.crcoc.ca/wp-content/uploads/2022/05/Cumberland-Outdoor-PIC.jpg
ORGANIZER;CN="EarlyON | ON y va":MAILTO:EarlyONyva@crcoc.ca
END:VEVENT
BEGIN:VEVENT
DTSTART;TZID=America/Toronto:20220805T140000
DTEND;TZID=America/Toronto:20220805T160000
DTSTAMP:20260422T125256
CREATED:20220624T070426Z
LAST-MODIFIED:20220624T070426Z
UID:13811-1659708000-1659715200@events-evenements.crcoc.ca
SUMMARY:Youth - Summer Outing - Grade 7 to 12 // Sortie d'été pour les ados - 7e à 12e année
DESCRIPTION:Youth Summer Outing – Bilingual  —  August 5th – 2 pm to 4 pm  \nRegister online to join us (limited spots – Max. 15).  Registration will open the Monday of the week prior to the outing at 8:30 am and close that Friday at 4 pm.   If you have any complication registering please email Tanya. \nFor all outings\, parent/legal guardian consent is required for participants under 18 yrs.  Participants 18 yrs can consent for themselves. \nTransportation to and from the location is the responsibility of the parent/legal guardian.  Bus tickets can be provided upon request. \n  \n\nNavan Fair // Foire de Navan\n\n\nSortie d’été pour Ados – Bilingue — 5 août – 14 H à 16 H \nInscrivez en ligne pour nous joindre (places limitées – Max 15).  Les inscriptions ouvriront le lundi de la semaine précédente à 8 H 30 et fermeront le vendredi qui suit à 16 H.   Si l’inscription en ligne vous pose problème\, envoyer un courriel à Tanya. \nPour toutes les sorties\, le consentement d’un parent/tuteur.rice légal.e est requis pour les participants.es de moins de 18 ans.  Les participants.es de 18 ans peuvent consentir pour eux-même. \nLe transport pour vous rendre à la destination et le retour à la maison est la responsabilité du parent/tuteur.rice légal.e.  Les billets d’autobus peuvent être fournis sur dema
URL:https://events-evenements.crcoc.ca/event-evenement/youth-summer-outing-grade-7-to-12-sortie-dete-pour-les-ados-7e-a-12e-annee-3/
LOCATION:Ontario
CATEGORIES:Children & Youth-Enfants et jeunes
ATTACH;FMTTYPE=image/png:https://events-evenements.crcoc.ca/wp-content/uploads/2022/06/Navan-Fair-Pic.png
ORGANIZER;CN="Children & Youth | Enfants et jeunes":MAILTO:info@crcoc.ca
END:VEVENT
END:VCALENDAR