BEGIN:VCALENDAR
VERSION:2.0
PRODID:-//OCCRC Events | Évènements CRCOC - ECPv6.15.18//NONSGML v1.0//EN
CALSCALE:GREGORIAN
METHOD:PUBLISH
X-WR-CALNAME:OCCRC Events | Évènements CRCOC
X-ORIGINAL-URL:https://events-evenements.crcoc.ca
X-WR-CALDESC:Events for OCCRC Events | Évènements CRCOC
REFRESH-INTERVAL;VALUE=DURATION:PT1H
X-Robots-Tag:noindex
X-PUBLISHED-TTL:PT1H
BEGIN:VTIMEZONE
TZID:America/Toronto
BEGIN:DAYLIGHT
TZOFFSETFROM:-0500
TZOFFSETTO:-0400
TZNAME:EDT
DTSTART:20210314T070000
END:DAYLIGHT
BEGIN:STANDARD
TZOFFSETFROM:-0400
TZOFFSETTO:-0500
TZNAME:EST
DTSTART:20211107T060000
END:STANDARD
BEGIN:DAYLIGHT
TZOFFSETFROM:-0500
TZOFFSETTO:-0400
TZNAME:EDT
DTSTART:20220313T070000
END:DAYLIGHT
BEGIN:STANDARD
TZOFFSETFROM:-0400
TZOFFSETTO:-0500
TZNAME:EST
DTSTART:20221106T060000
END:STANDARD
BEGIN:DAYLIGHT
TZOFFSETFROM:-0500
TZOFFSETTO:-0400
TZNAME:EDT
DTSTART:20230312T070000
END:DAYLIGHT
BEGIN:STANDARD
TZOFFSETFROM:-0400
TZOFFSETTO:-0500
TZNAME:EST
DTSTART:20231105T060000
END:STANDARD
END:VTIMEZONE
BEGIN:VEVENT
DTSTART;TZID=America/Toronto:20220714T100000
DTEND;TZID=America/Toronto:20220714T120000
DTSTAMP:20260422T195512
CREATED:20220624T113814Z
LAST-MODIFIED:20220624T114305Z
UID:13833-1657792800-1657800000@events-evenements.crcoc.ca
SUMMARY:Child Summer Programming - Grade 1 to 6  // Programmation d'été pour enfants - 1re à 6e année
DESCRIPTION:IN-PERSON programming on Thursdays from 10 am to 12 pm in July.  A series of varied and exciting activities provided – where kids can play games\, learn recipes\, do crafts\, and make friends!  REGISTER online – Limited spots (Max. 12) – (Registration opens the week before the activity on Monday at 8:30am and closes on Friday at 4pm.)  Please be sure to sign up for each group you are interested in registering your child for *Individually*. //\n\n\n\n\n\nProgrammation EN PERSONNE les jeudis de 10 H à 12 H en juillet.   Une série d’activités variées et amusantes offerte ou les enfants peuvent jouer\, apprendre des recettes\, faire du bricolage et se faire des amis!   INSCRIVEZ-VOUS en ligne – place limitées (Max. 12) – (L’inscription commence la semaine précédente l’événement le lundi à 8 h 30 et se termine le vendredi à 16 h.)  Veuillez vous assurer de vous inscrire pour chaque groupe auquel vous souhaitez inscrire votre enfant *individuellement*.\n\n\n\nENGLISH Description  (Snack and crafts)\n\n\n14:    Tie Dye (at Queenswood Ridge Park)\n21 :   DIY PlayDough and Sculpting (at Centre)\n 28 :  Park outing and Nature Art (at Queenswood Heights Centennial)\n\n\n  \nDescription en FRANÇAIS  (Collations et bricolages)\n \n\n 14:    Tie Dye (au parc Queensood Ridge)\n 21 :   Pâte à modeler maison et sculpture (au Centre)\n 28 :  Sortie au parc et art naturel (au parc Queenswood Heights Centennial)\n\n  \nIf you have complications registering online\, please contact Isabel OR call at 613-830-4357 ext. 177.  // Si l’inscription en ligne vous pose problème\, contacter Isabel ou appeler au 613-830-4357 poste 177.
URL:https://events-evenements.crcoc.ca/event-evenement/child-summer-programming-grade-1-to-6-programmation-dete-pour-enfants-1re-a-6e-annee-2/
LOCATION:Ontario
CATEGORIES:Children & Youth-Enfants et jeunes
ATTACH;FMTTYPE=image/png:https://events-evenements.crcoc.ca/wp-content/uploads/2022/06/Summer-Program-pic.png
ORGANIZER;CN="Children & Youth | Enfants et jeunes":MAILTO:info@crcoc.ca
END:VEVENT
BEGIN:VEVENT
DTSTART;TZID=America/Toronto:20220714T150000
DTEND;TZID=America/Toronto:20220714T180000
DTSTAMP:20260422T195512
CREATED:20220624T062025Z
LAST-MODIFIED:20220624T062419Z
UID:13791-1657810800-1657821600@events-evenements.crcoc.ca
SUMMARY:Youth Space - Grade 7 to 12 //  Espace Jeunesse - 7e à 12e année
DESCRIPTION:Weekly\, ongoing program – Bilingual – In person – Thursdays.  A space to connect with other youth\, have fun\, share experiences\, relate with others and talk about things important to you.  Let’s get our summer vibes on with some art\, games\, challenges\, great conversation and more! \nRegister online to join us (limited spots 12 people).   If you have any complication registering please email Tanya. \n\nJuly– 3 pm to 6 pm  //  Juillet– 15 H  à 18 H\n\n7  –  2SLGBTQIA+ : & allies: Believe you can & you’re halfway there! ; Dinner:  Burgers\, salad & poutine //  Crois en toi et tu as une étape de faite !;  Souper :  Burgers\, salade et poutine\n14  –  Everyone /Toustes :  Consent is simple!; Dinner:  Mac & Cheese // Le consentement est simple !;  Souper : Mac & cheese\n21  –  Girls / Filles :  We rise by lifting others!; Dinner: Fried rice & wings // On se lève ensemble !; Souper : Riz frit et ailes de poulet\n28  –  Everyone /Toustes :  Be your own kind of beautiful!; Dinner:  Pizza & veggie tray // Tu es beau.elle comme tu est !; Souper : Pizza et plateau de légumes\n\n\n\nHebdomadaire\, programme continu – bilingue – En personne – les jeudis.  Un espace pour se connecter avec d’autres jeunes\, s’amuser\, partager des expériences et parler de choses importantes pour eux.  La fin de l’année scolaire approche\, donc…. mettons l’emphase sur prendre soin de nous\, de l’énergie positive et des stratégies pour surmonter tout ça! \nInscrivez en ligne pour nous joindre (places limitées 12 personnes).  Si l’inscription en ligne vous pose problème\, envoyer un courriel à Tanya.
URL:https://events-evenements.crcoc.ca/event-evenement/youth-space-grade-7-to-12-espace-jeunesse-7e-a-12e-annee-7-2022-07-14/
LOCATION:Ontario
CATEGORIES:Children & Youth-Enfants et jeunes
ATTACH;FMTTYPE=image/jpeg:https://events-evenements.crcoc.ca/wp-content/uploads/2021/01/Youth-Space-espace-jeunesse.jpg
ORGANIZER;CN="Children & Youth | Enfants et jeunes":MAILTO:info@crcoc.ca
END:VEVENT
END:VCALENDAR