BEGIN:VCALENDAR
VERSION:2.0
PRODID:-//OCCRC Events | Évènements CRCOC - ECPv6.15.18//NONSGML v1.0//EN
CALSCALE:GREGORIAN
METHOD:PUBLISH
X-WR-CALNAME:OCCRC Events | Évènements CRCOC
X-ORIGINAL-URL:https://events-evenements.crcoc.ca
X-WR-CALDESC:Events for OCCRC Events | Évènements CRCOC
REFRESH-INTERVAL;VALUE=DURATION:PT1H
X-Robots-Tag:noindex
X-PUBLISHED-TTL:PT1H
BEGIN:VTIMEZONE
TZID:America/Toronto
BEGIN:DAYLIGHT
TZOFFSETFROM:-0500
TZOFFSETTO:-0400
TZNAME:EDT
DTSTART:20210314T070000
END:DAYLIGHT
BEGIN:STANDARD
TZOFFSETFROM:-0400
TZOFFSETTO:-0500
TZNAME:EST
DTSTART:20211107T060000
END:STANDARD
BEGIN:DAYLIGHT
TZOFFSETFROM:-0500
TZOFFSETTO:-0400
TZNAME:EDT
DTSTART:20220313T070000
END:DAYLIGHT
BEGIN:STANDARD
TZOFFSETFROM:-0400
TZOFFSETTO:-0500
TZNAME:EST
DTSTART:20221106T060000
END:STANDARD
BEGIN:DAYLIGHT
TZOFFSETFROM:-0500
TZOFFSETTO:-0400
TZNAME:EDT
DTSTART:20230312T070000
END:DAYLIGHT
BEGIN:STANDARD
TZOFFSETFROM:-0400
TZOFFSETTO:-0500
TZNAME:EST
DTSTART:20231105T060000
END:STANDARD
END:VTIMEZONE
BEGIN:VEVENT
DTSTART;TZID=America/Toronto:20220706T093000
DTEND;TZID=America/Toronto:20220706T103000
DTSTAMP:20260422T195519
CREATED:20220624T122558Z
LAST-MODIFIED:20220624T140357Z
UID:13883-1657099800-1657103400@events-evenements.crcoc.ca
SUMMARY:Gross motor fun at Queenswood Height park! //  On bouge en s'amusant au parc de Queenswood Heights!
DESCRIPTION:Let’s meet at the Queenswood Heights park\, 1485 Duford Drive\, for this fun activity!  Registration required   \nGet ready to jump\, run\, climb and move with us at the park! During this activity\, your children will get the chance to practice all of their gross motor skills! //\n \n  \nJoignez-vous à nous au parc de Queenswoods Heights au 1485 Duford Drive pour cette activité amusante!  Inscription requise \nVenez sauter\, courrir\, grimper et bouger avec nous au parc! Durant cette activité\, votre enfant aura la chance de mettre sa motricité globale en pratique!
URL:https://events-evenements.crcoc.ca/event-evenement/gross-motor-fun-at-queenswood-height-park-on-bouge-en-samusant-au-parc-de-queenswood-heights-2/
LOCATION:Ontario
CATEGORIES:Early ON-ON y va
ATTACH;FMTTYPE=image/png:https://events-evenements.crcoc.ca/wp-content/uploads/2022/06/Gross-motor-pic.png
ORGANIZER;CN="EarlyON | ON y va":MAILTO:EarlyONyva@crcoc.ca
END:VEVENT
BEGIN:VEVENT
DTSTART;TZID=America/Toronto:20220706T110000
DTEND;TZID=America/Toronto:20220706T113000
DTSTAMP:20260422T195519
CREATED:20220624T121312Z
LAST-MODIFIED:20220624T140318Z
UID:13871-1657105200-1657107000@events-evenements.crcoc.ca
SUMMARY:Virtual interactive circle time! // Temps de cercle virtuel interactif!
DESCRIPTION:Come sing\, play and have fun during our virtual circle time! The songs\, rhymes and story time will be enjoyable for all children! // \n  \nVenez chanter\, jouer et vous amusez avec nous durant nos temps de cercle virtuel! Les chansons\, comptines et histoires plairont aux plus petits comme aux plus grands!
URL:https://events-evenements.crcoc.ca/event-evenement/virtual-interactive-circle-time-temps-de-cercle-virtuel-interactif-9/
LOCATION:Ontario
CATEGORIES:Early ON-ON y va
ATTACH;FMTTYPE=image/jpeg:https://events-evenements.crcoc.ca/wp-content/uploads/2022/05/Circle-time-Pic.jpg
ORGANIZER;CN="EarlyON | ON y va":MAILTO:EarlyONyva@crcoc.ca
END:VEVENT
END:VCALENDAR