BEGIN:VCALENDAR
VERSION:2.0
PRODID:-//OCCRC Events | Évènements CRCOC - ECPv6.15.18//NONSGML v1.0//EN
CALSCALE:GREGORIAN
METHOD:PUBLISH
X-WR-CALNAME:OCCRC Events | Évènements CRCOC
X-ORIGINAL-URL:https://events-evenements.crcoc.ca
X-WR-CALDESC:Events for OCCRC Events | Évènements CRCOC
REFRESH-INTERVAL;VALUE=DURATION:PT1H
X-Robots-Tag:noindex
X-PUBLISHED-TTL:PT1H
BEGIN:VTIMEZONE
TZID:America/Toronto
BEGIN:DAYLIGHT
TZOFFSETFROM:-0500
TZOFFSETTO:-0400
TZNAME:EDT
DTSTART:20210314T070000
END:DAYLIGHT
BEGIN:STANDARD
TZOFFSETFROM:-0400
TZOFFSETTO:-0500
TZNAME:EST
DTSTART:20211107T060000
END:STANDARD
BEGIN:DAYLIGHT
TZOFFSETFROM:-0500
TZOFFSETTO:-0400
TZNAME:EDT
DTSTART:20220313T070000
END:DAYLIGHT
BEGIN:STANDARD
TZOFFSETFROM:-0400
TZOFFSETTO:-0500
TZNAME:EST
DTSTART:20221106T060000
END:STANDARD
BEGIN:DAYLIGHT
TZOFFSETFROM:-0500
TZOFFSETTO:-0400
TZNAME:EDT
DTSTART:20230312T070000
END:DAYLIGHT
BEGIN:STANDARD
TZOFFSETFROM:-0400
TZOFFSETTO:-0500
TZNAME:EST
DTSTART:20231105T060000
END:STANDARD
END:VTIMEZONE
BEGIN:VEVENT
DTSTART;TZID=America/Toronto:20220629T100000
DTEND;TZID=America/Toronto:20220629T110000
DTSTAMP:20260422T195524
CREATED:20220527T042549Z
LAST-MODIFIED:20220602T162709Z
UID:13565-1656496800-1656500400@events-evenements.crcoc.ca
SUMMARY:Family Yoga at the park! //  Yoga en famille au parc!
DESCRIPTION:This activity will take place at the Cardinal Creek Park (1825 Trim) – Registration is required.  Come to Cardinal Creek park to do a little yoga and explore the Community Garden!  The yoga component is age appropriate for children 2 year and up. The whole family is welcome!  //\n \nCette activité aura lieu au parc Cardinal Creek ... (1825 Trim) – Inscription requise.  Venez au Parc Cardinal Creek pour faire du yoga et explorer le jardin communautaire! Pour les enfants de 2 ans et plus\, mais toute la famille est bienvenue ! \n 
URL:https://events-evenements.crcoc.ca/event-evenement/family-yoga-at-the-park-yoga-en-famille-au-parc/
LOCATION:Ontario
CATEGORIES:Early ON-ON y va
ATTACH;FMTTYPE=image/jpeg:https://events-evenements.crcoc.ca/wp-content/uploads/2022/04/Yoga-Pic.jpg
ORGANIZER;CN="EarlyON | ON y va":MAILTO:EarlyONyva@crcoc.ca
END:VEVENT
BEGIN:VEVENT
DTSTART;TZID=America/Toronto:20220629T110000
DTEND;TZID=America/Toronto:20220629T113000
DTSTAMP:20260422T195524
CREATED:20220527T035119Z
LAST-MODIFIED:20220527T040045Z
UID:13542-1656500400-1656502200@events-evenements.crcoc.ca
SUMMARY:Virtual interactive circle time! // Temps de cercle virtuel interactif!
DESCRIPTION:Come sing\, play and have fun during our virtual circle time! The songs\, rhymes and story time will be enjoyable for all children! // \n  \nVenez chanter\, jouer et vous amusez avec nous durant nos temps de cercle virtuel! Les chansons\, comptines et histoires plairont aux plus petits comme aux plus grands!
URL:https://events-evenements.crcoc.ca/event-evenement/virtual-interactive-circle-time-temps-de-cercle-virtuel-interactif-8-2022-06-29/
LOCATION:Ontario
CATEGORIES:Early ON-ON y va
ATTACH;FMTTYPE=image/jpeg:https://events-evenements.crcoc.ca/wp-content/uploads/2022/05/Circle-time-Pic.jpg
ORGANIZER;CN="EarlyON | ON y va":MAILTO:EarlyONyva@crcoc.ca
END:VEVENT
END:VCALENDAR