BEGIN:VCALENDAR
VERSION:2.0
PRODID:-//OCCRC Events | Évènements CRCOC - ECPv6.15.18//NONSGML v1.0//EN
CALSCALE:GREGORIAN
METHOD:PUBLISH
X-ORIGINAL-URL:https://events-evenements.crcoc.ca
X-WR-CALDESC:Events for OCCRC Events | Évènements CRCOC
REFRESH-INTERVAL;VALUE=DURATION:PT1H
X-Robots-Tag:noindex
X-PUBLISHED-TTL:PT1H
BEGIN:VTIMEZONE
TZID:America/Toronto
BEGIN:DAYLIGHT
TZOFFSETFROM:-0500
TZOFFSETTO:-0400
TZNAME:EDT
DTSTART:20210314T070000
END:DAYLIGHT
BEGIN:STANDARD
TZOFFSETFROM:-0400
TZOFFSETTO:-0500
TZNAME:EST
DTSTART:20211107T060000
END:STANDARD
BEGIN:DAYLIGHT
TZOFFSETFROM:-0500
TZOFFSETTO:-0400
TZNAME:EDT
DTSTART:20220313T070000
END:DAYLIGHT
BEGIN:STANDARD
TZOFFSETFROM:-0400
TZOFFSETTO:-0500
TZNAME:EST
DTSTART:20221106T060000
END:STANDARD
BEGIN:DAYLIGHT
TZOFFSETFROM:-0500
TZOFFSETTO:-0400
TZNAME:EDT
DTSTART:20230312T070000
END:DAYLIGHT
BEGIN:STANDARD
TZOFFSETFROM:-0400
TZOFFSETTO:-0500
TZNAME:EST
DTSTART:20231105T060000
END:STANDARD
END:VTIMEZONE
BEGIN:VEVENT
DTSTART;TZID=America/Toronto:20220603T093000
DTEND;TZID=America/Toronto:20220603T110000
DTSTAMP:20260422T164859
CREATED:20220527T043646Z
LAST-MODIFIED:20220527T043646Z
UID:13582-1654248600-1654254000@events-evenements.crcoc.ca
SUMMARY:Outdoor playgroup at the park!  //  Groupe de jeu au parc! (Queenswood Heights)
DESCRIPTION:Let’s meet at the Queenswood Heights park\, 1485 Duford Drive\, to enjoy the outdoors together! Rain or Shine! (Group cancelled +30c with humidex.) // \n  \nJoignez-vous à nous au parc de Queenswoods Heights au 1485 Duford Drive! Venez profiter de la nature avec nous!   Beau temps\, mauvais temps!  (Groupe annulé +30c avec humidex.)
URL:https://events-evenements.crcoc.ca/event-evenement/outdoor-playgroup-at-the-park-groupe-de-jeu-au-parc-queenswood-heights-11/2022-06-03/
LOCATION:Ontario
CATEGORIES:Early ON-ON y va
ATTACH;FMTTYPE=image/jpeg:https://events-evenements.crcoc.ca/wp-content/uploads/2022/05/Cumberland-Outdoor-PIC.jpg
ORGANIZER;CN="EarlyON | ON y va":MAILTO:EarlyONyva@crcoc.ca
END:VEVENT
END:VCALENDAR