BEGIN:VCALENDAR
VERSION:2.0
PRODID:-//OCCRC Events | Évènements CRCOC - ECPv6.15.18//NONSGML v1.0//EN
CALSCALE:GREGORIAN
METHOD:PUBLISH
X-ORIGINAL-URL:https://events-evenements.crcoc.ca
X-WR-CALDESC:Events for OCCRC Events | Évènements CRCOC
REFRESH-INTERVAL;VALUE=DURATION:PT1H
X-Robots-Tag:noindex
X-PUBLISHED-TTL:PT1H
BEGIN:VTIMEZONE
TZID:America/Toronto
BEGIN:DAYLIGHT
TZOFFSETFROM:-0500
TZOFFSETTO:-0400
TZNAME:EDT
DTSTART:20210314T070000
END:DAYLIGHT
BEGIN:STANDARD
TZOFFSETFROM:-0400
TZOFFSETTO:-0500
TZNAME:EST
DTSTART:20211107T060000
END:STANDARD
BEGIN:DAYLIGHT
TZOFFSETFROM:-0500
TZOFFSETTO:-0400
TZNAME:EDT
DTSTART:20220313T070000
END:DAYLIGHT
BEGIN:STANDARD
TZOFFSETFROM:-0400
TZOFFSETTO:-0500
TZNAME:EST
DTSTART:20221106T060000
END:STANDARD
BEGIN:DAYLIGHT
TZOFFSETFROM:-0500
TZOFFSETTO:-0400
TZNAME:EDT
DTSTART:20230312T070000
END:DAYLIGHT
BEGIN:STANDARD
TZOFFSETFROM:-0400
TZOFFSETTO:-0500
TZNAME:EST
DTSTART:20231105T060000
END:STANDARD
END:VTIMEZONE
BEGIN:VEVENT
DTSTART;TZID=America/Toronto:20220530T170000
DTEND;TZID=America/Toronto:20220530T190000
DTSTAMP:20260422T164925
CREATED:20220422T132832Z
LAST-MODIFIED:20220422T140826Z
UID:12985-1653930000-1653937200@events-evenements.crcoc.ca
SUMMARY:2022 AGM - OCCRC // CRCOC - AGA de 2022
DESCRIPTION:We’re very excited to announce our 34th AGM taking place virtually. Please join us to see how our Centre is doing.  Please register online to receive the Zoom Link for our AGM meeting.  A separate email with the Zoom Link will be emailed to you\,  if you don’t receive it\, please check your junk mail.  If still nothing please contact us at 613-830-4357 and speak with Amelia. \nThanks  // \n  \nNous sommes très heureux d’annoncer que notre 34e AGA aura lieu virtuellement.  Joignez-vous à nous pour voir comment se porte notre Centre.  Veuillez vous inscrire en ligne pour recevoir le lien Zoom pour notre réunion de l’AGA.   Un courriel distinct contenant le lien Zoom vous sera envoyé par courriel\,  si vous ne le recevez pas\, veuillez vérifier votre courrier indésirable.  Si vous n’avez toujours rien\, veuillez communiquer avec nous au 613-830-4357 et parler à Amelia. \nMerci
URL:https://events-evenements.crcoc.ca/event-evenement/2022-agm-occrc-crcoc-aga-de-2022/
LOCATION:Ontario
CATEGORIES:Adults-Adultes,Community Engagement-Engagement communautaire,Workshops-Ateliers
ATTACH;FMTTYPE=image/jpeg:https://events-evenements.crcoc.ca/wp-content/uploads/2022/04/AGM-Event-Pic-2022.jpg
END:VEVENT
END:VCALENDAR