BEGIN:VCALENDAR
VERSION:2.0
PRODID:-//OCCRC Events | Évènements CRCOC - ECPv6.15.18//NONSGML v1.0//EN
CALSCALE:GREGORIAN
METHOD:PUBLISH
X-WR-CALNAME:OCCRC Events | Évènements CRCOC
X-ORIGINAL-URL:https://events-evenements.crcoc.ca
X-WR-CALDESC:Events for OCCRC Events | Évènements CRCOC
REFRESH-INTERVAL;VALUE=DURATION:PT1H
X-Robots-Tag:noindex
X-PUBLISHED-TTL:PT1H
BEGIN:VTIMEZONE
TZID:America/Toronto
BEGIN:DAYLIGHT
TZOFFSETFROM:-0500
TZOFFSETTO:-0400
TZNAME:EDT
DTSTART:20210314T070000
END:DAYLIGHT
BEGIN:STANDARD
TZOFFSETFROM:-0400
TZOFFSETTO:-0500
TZNAME:EST
DTSTART:20211107T060000
END:STANDARD
BEGIN:DAYLIGHT
TZOFFSETFROM:-0500
TZOFFSETTO:-0400
TZNAME:EDT
DTSTART:20220313T070000
END:DAYLIGHT
BEGIN:STANDARD
TZOFFSETFROM:-0400
TZOFFSETTO:-0500
TZNAME:EST
DTSTART:20221106T060000
END:STANDARD
BEGIN:DAYLIGHT
TZOFFSETFROM:-0500
TZOFFSETTO:-0400
TZNAME:EDT
DTSTART:20230312T070000
END:DAYLIGHT
BEGIN:STANDARD
TZOFFSETFROM:-0400
TZOFFSETTO:-0500
TZNAME:EST
DTSTART:20231105T060000
END:STANDARD
END:VTIMEZONE
BEGIN:VEVENT
DTSTART;TZID=America/Toronto:20220304T093000
DTEND;TZID=America/Toronto:20220304T103000
DTSTAMP:20260422T092501
CREATED:20220223T021344Z
LAST-MODIFIED:20220223T021344Z
UID:11060-1646386200-1646389800@events-evenements.crcoc.ca
SUMMARY:Outdoor playgroup at the park!  //  Groupe de jeu au parc!  (Queenswood Heights)
DESCRIPTION:Let’s meet at the Queenswood Heights park\, 1485 Duford Drive\, to enjoy the outdoors together! We will have some programming such as gross motor activities\, yoga and games.   **Safety is very important to us! We will screen all registered participants. Masks are encouraged when 6 feet apart distance is not possible.  The group will be canceled if the temperature reaches -25c.  //  \n  \nJoignez-vous à nous au parc de Queenswoods Heights au 1485 Duford Drive! Venez profiter de la nature avec nous! Une programmation avec des activités de motricités\, du yoga\, et autres jeux amusant!  ** La sécurité de tous nous tiens à coeur. Avant chaque groupe nous feront un court dépistage de tous les participants. Nous encourageons le port du masque lorsque la distanciation physique n’est pas possible.  Le groupe sera annulé si la température atteint les -25c.
URL:https://events-evenements.crcoc.ca/event-evenement/outdoor-playgroup-at-the-park-groupe-de-jeu-au-parc-queenswood-heights-6/
LOCATION:Ontario
CATEGORIES:Early ON-ON y va
ATTACH;FMTTYPE=image/jpeg:https://events-evenements.crcoc.ca/wp-content/uploads/2021/12/pic-outdoor-winter-Queens.jpg
ORGANIZER;CN="EarlyON | ON y va":MAILTO:EarlyONyva@crcoc.ca
END:VEVENT
BEGIN:VEVENT
DTSTART;TZID=America/Toronto:20220304T130000
DTEND;TZID=America/Toronto:20220304T150000
DTSTAMP:20260422T092501
CREATED:20220223T125926Z
LAST-MODIFIED:20220223T130004Z
UID:11160-1646398800-1646406000@events-evenements.crcoc.ca
SUMMARY:Inclusive Adult Social Group (In-person) // Groupe sociale inclusive pour adultes (En personne)
DESCRIPTION:Fridays from 1pm to 3pm – Bilingual\nWe welcome those 30+ needing a supportive space and companionship\nRegistration is required prior to attending a IN Person session (limited to 8 people per week)\nFor more information and to register please contact Christine at 613-830-4357\, ext 309 OR by email at faychristine@gmail.com\n\n  \n\nLes vendredis de 13 H à 15 H – Bilingue\nNous accueillons les individus 30+ qui aimeraient un espace convivial et du soutien par leur pairs\nL’inscription est obligatoire avant d’assister à une séance EN Personne (limitée à 8 personnes par semaine)\nPour plus d’information et pour s’inscrire SVP contactez Christine à 613-830-4357\, poste 309 OU par courriel à faychristine@gmail.com\n\n\n\n\n\n\n\n\n\n\n 
URL:https://events-evenements.crcoc.ca/event-evenement/inclusive-adult-social-group-in-person-groupe-sociale-inclusive-pour-adultes-en-personne-2/2022-03-04/
LOCATION:Ontario
CATEGORIES:Community Engagement-Engagement communautaire
ATTACH;FMTTYPE=image/jpeg:https://events-evenements.crcoc.ca/wp-content/uploads/2022/01/Social-group_2021_BIL-Pic.jpg
END:VEVENT
END:VCALENDAR