BEGIN:VCALENDAR
VERSION:2.0
PRODID:-//OCCRC Events | Évènements CRCOC - ECPv6.15.18//NONSGML v1.0//EN
CALSCALE:GREGORIAN
METHOD:PUBLISH
X-ORIGINAL-URL:https://events-evenements.crcoc.ca
X-WR-CALDESC:Events for OCCRC Events | Évènements CRCOC
REFRESH-INTERVAL;VALUE=DURATION:PT1H
X-Robots-Tag:noindex
X-PUBLISHED-TTL:PT1H
BEGIN:VTIMEZONE
TZID:America/Toronto
BEGIN:DAYLIGHT
TZOFFSETFROM:-0500
TZOFFSETTO:-0400
TZNAME:EDT
DTSTART:20210314T070000
END:DAYLIGHT
BEGIN:STANDARD
TZOFFSETFROM:-0400
TZOFFSETTO:-0500
TZNAME:EST
DTSTART:20211107T060000
END:STANDARD
BEGIN:DAYLIGHT
TZOFFSETFROM:-0500
TZOFFSETTO:-0400
TZNAME:EDT
DTSTART:20220313T070000
END:DAYLIGHT
BEGIN:STANDARD
TZOFFSETFROM:-0400
TZOFFSETTO:-0500
TZNAME:EST
DTSTART:20221106T060000
END:STANDARD
BEGIN:DAYLIGHT
TZOFFSETFROM:-0500
TZOFFSETTO:-0400
TZNAME:EDT
DTSTART:20230312T070000
END:DAYLIGHT
BEGIN:STANDARD
TZOFFSETFROM:-0400
TZOFFSETTO:-0500
TZNAME:EST
DTSTART:20231105T060000
END:STANDARD
BEGIN:DAYLIGHT
TZOFFSETFROM:-0500
TZOFFSETTO:-0400
TZNAME:EDT
DTSTART:20240310T070000
END:DAYLIGHT
BEGIN:STANDARD
TZOFFSETFROM:-0400
TZOFFSETTO:-0500
TZNAME:EST
DTSTART:20241103T060000
END:STANDARD
BEGIN:DAYLIGHT
TZOFFSETFROM:-0500
TZOFFSETTO:-0400
TZNAME:EDT
DTSTART:20250309T070000
END:DAYLIGHT
BEGIN:STANDARD
TZOFFSETFROM:-0400
TZOFFSETTO:-0500
TZNAME:EST
DTSTART:20251102T060000
END:STANDARD
BEGIN:DAYLIGHT
TZOFFSETFROM:-0500
TZOFFSETTO:-0400
TZNAME:EDT
DTSTART:20260308T070000
END:DAYLIGHT
BEGIN:STANDARD
TZOFFSETFROM:-0400
TZOFFSETTO:-0500
TZNAME:EST
DTSTART:20261101T060000
END:STANDARD
BEGIN:DAYLIGHT
TZOFFSETFROM:-0500
TZOFFSETTO:-0400
TZNAME:EDT
DTSTART:20270314T070000
END:DAYLIGHT
BEGIN:STANDARD
TZOFFSETFROM:-0400
TZOFFSETTO:-0500
TZNAME:EST
DTSTART:20271107T060000
END:STANDARD
END:VTIMEZONE
BEGIN:VEVENT
DTSTART;TZID=America/Toronto:20260421T014552
DTEND;TZID=America/Toronto:20260421T014552
DTSTAMP:20260421T014552
CREATED:20220222T033001Z
LAST-MODIFIED:20220222T033124Z
UID:10948-1776735952-1776735952@events-evenements.crcoc.ca
SUMMARY:Groupe de jeu francophone au Centre ON y va!
DESCRIPTION:Joignez-vous à nous au Centre de ressources communautaires Orléans-Cumberland (240 boulevard Centrum unité 105 à Orléans) pour un groupe de jeu en personne! \nConçu pour permettre aux enfants de 0 à 6 ans de vivre des expériences d’apprentissage par le jeu amusantes et stimulantes! \nLes familles inscrites devront utiliser la porte avant de l’édifice fesant face au boulevard St-Joseph pour entrée au Centre ON y va. \n\n\n\n\n\n\n\n\n\n 
URL:https://events-evenements.crcoc.ca/event-evenement/groupe-de-jeu-francophone-au-centre-on-y-va-6/
LOCATION:Ontario
CATEGORIES:Early ON-ON y va
ATTACH;FMTTYPE=image/jpeg:https://events-evenements.crcoc.ca/wp-content/uploads/2021/01/Indoors_Novembre_FR.jpg
END:VEVENT
BEGIN:VEVENT
DTSTART;TZID=America/Toronto:20220222T093000
DTEND;TZID=America/Toronto:20220222T110000
DTSTAMP:20260421T014552
CREATED:20220128T002608Z
LAST-MODIFIED:20220128T002731Z
UID:10419-1645522200-1645527600@events-evenements.crcoc.ca
SUMMARY:English playgroup at the EarlyON Centre!
DESCRIPTION:Let’s meet at the Orléans-Cumberland Community Resource Centre (240 Centrum boulevard unit 105) for an in person playgroup! This program is geared towards children 0 to 6 years old. Play based learning experiences that are fun and engaging.   All participants will be ask to use the front door facing St-Joseph Boulevard to acces the EarlyON Centre! \n\n\n\n\n\n\n\n\n\n 
URL:https://events-evenements.crcoc.ca/event-evenement/english-playgroup-at-the-earlyon-centre-7-2022-02-22/
LOCATION:Ontario
CATEGORIES:Early ON-ON y va
ATTACH;FMTTYPE=image/jpeg:https://events-evenements.crcoc.ca/wp-content/uploads/2021/01/Indoors_Novembre_FR.jpg
ORGANIZER;CN="EarlyON | ON y va":MAILTO:EarlyONyva@crcoc.ca
END:VEVENT
BEGIN:VEVENT
DTSTART;TZID=America/Toronto:20220222T160000
DTEND;TZID=America/Toronto:20220222T180000
DTSTAMP:20260421T014552
CREATED:20220128T010853Z
LAST-MODIFIED:20220128T011010Z
UID:10493-1645545600-1645552800@events-evenements.crcoc.ca
SUMMARY:Kids Space - Grade 1 to 6 - Virtual // Espace Enfants - 1re à 6e année - Virtuel
DESCRIPTION:Join us virtually on Tuesdays from 4pm – 6pm in February.  A space to connect with other kids\, have fun\, learn some strategies and talk!  This month we’ll be playing some epic games\, crafts\, and fun challenges! REGISTRATION online //\n\n\n\n\nJoignez-vous à nous\, virtuelle les mardis de 16 H à 18 H en janvier.   Un espace pour se connecter avec d’autres enfants\, s’asumer\, apprendre des stratégies et parler.  Ce mois-ci\, nous allons jouer à des jeux épiques\, de l’artisanat et des défis amusants! INSCRIVEZ-VOUS en ligne\n\n\n \n\n1 :   A Sea of Feelings! // Un océan de sentiments!\n8 :  Build a Hero! // Crée un héro!\n15 :  Friendship Festival  //  Fête de l’amitié\n22 :  Five Senses Fund! // Cinq sens amusants!\n\nIf you have complications registering online\, please contact Isabel.  // Si l’inscription en ligne vous pose problème\, contacter Isabel. \n\n\n\n\n\n\n\n\n\n 
URL:https://events-evenements.crcoc.ca/event-evenement/kids-space-grade-1-to-6-virtual-espace-enfants-1re-a-6e-annee-virtuel-2022-02-22/
LOCATION:Ontario
CATEGORIES:Children & Youth-Enfants et jeunes
ATTACH;FMTTYPE=image/jpeg:https://events-evenements.crcoc.ca/wp-content/uploads/2021/01/kids-space-espace-enfants-1.jpg
ORGANIZER;CN="Children & Youth | Enfants et jeunes":MAILTO:info@crcoc.ca
END:VEVENT
BEGIN:VEVENT
DTSTART;TZID=America/Toronto:20220222T180000
DTEND;TZID=America/Toronto:20220222T190000
DTSTAMP:20260421T014552
CREATED:20220128T014824Z
LAST-MODIFIED:20220128T014951Z
UID:10516-1645552800-1645556400@events-evenements.crcoc.ca
SUMMARY:Youth Connections . Grades 7 to 12  // Connexion Ados . 7e à 12e année (Via Zoom)
DESCRIPTION:Grades 7 to 12 – Bilingual – Via Zoom \n\nTuesdays from 6pm to 7pm\nA virtual space to connect with other youth\, have fun\, play game and challenge our creative side with artistic activities!\nActivities for February are:\n\n1st :  Box of lies\, Pictionary & Origami\n8th :  True Facts\, Secret Conductor & Doodles\n15th :  Never Have I Ever\, Partners in pen & Foil Scruptures\n22nd :  Telephone\, Befoe or After & Pixel Art\n\n\nREGISTER online to join us!\nIf you have complication registering – please contact Tanya.\n\n  7e à 12e année – Bilingue – Via Zoom \n\nLes mardis de 18 H à 19 H\nUn espace virtuel pour se connecter avec d’autres jeunes\, s’amuser\, jouer à des jeux et mettre au défi notre côté créatif avec des activités artistiques !\nActivités our le mois de février sont:\n\n1 :  Boîte de mensonges\, Pictionary et origami\n8 : Faits réels\, chef d’orchestre secret et gribouillages\n15 : Jamais je n’ai\, partenaires en plume et sculptures en aluminium\n22 :  Téléphone\, avant ou après et art en pixels\n\n\nINSCRIVEZ en ligne pour nous joindre!\nSi l’inscription en ligne vous pose problème – veuillez contacter Tanya.\n\n\n\n\n\n\n\n\n\n\n 
URL:https://events-evenements.crcoc.ca/event-evenement/youth-connections-grades-7-to-12-connexion-ados-7e-a-12e-annee-via-zoom-2-2022-02-22/
LOCATION:Ontario
CATEGORIES:Children & Youth-Enfants et jeunes
ATTACH;FMTTYPE=image/jpeg:https://events-evenements.crcoc.ca/wp-content/uploads/2022/01/Youth-Virtual-Groups-2022-pic.jpg
ORGANIZER;CN="Children & Youth | Enfants et jeunes":MAILTO:info@crcoc.ca
END:VEVENT
END:VCALENDAR