BEGIN:VCALENDAR
VERSION:2.0
PRODID:-//OCCRC Events | Évènements CRCOC - ECPv6.15.18//NONSGML v1.0//EN
CALSCALE:GREGORIAN
METHOD:PUBLISH
X-WR-CALNAME:OCCRC Events | Évènements CRCOC
X-ORIGINAL-URL:https://events-evenements.crcoc.ca
X-WR-CALDESC:Events for OCCRC Events | Évènements CRCOC
REFRESH-INTERVAL;VALUE=DURATION:PT1H
X-Robots-Tag:noindex
X-PUBLISHED-TTL:PT1H
BEGIN:VTIMEZONE
TZID:America/Toronto
BEGIN:DAYLIGHT
TZOFFSETFROM:-0500
TZOFFSETTO:-0400
TZNAME:EDT
DTSTART:20210314T070000
END:DAYLIGHT
BEGIN:STANDARD
TZOFFSETFROM:-0400
TZOFFSETTO:-0500
TZNAME:EST
DTSTART:20211107T060000
END:STANDARD
BEGIN:DAYLIGHT
TZOFFSETFROM:-0500
TZOFFSETTO:-0400
TZNAME:EDT
DTSTART:20220313T070000
END:DAYLIGHT
BEGIN:STANDARD
TZOFFSETFROM:-0400
TZOFFSETTO:-0500
TZNAME:EST
DTSTART:20221106T060000
END:STANDARD
BEGIN:DAYLIGHT
TZOFFSETFROM:-0500
TZOFFSETTO:-0400
TZNAME:EDT
DTSTART:20230312T070000
END:DAYLIGHT
BEGIN:STANDARD
TZOFFSETFROM:-0400
TZOFFSETTO:-0500
TZNAME:EST
DTSTART:20231105T060000
END:STANDARD
END:VTIMEZONE
BEGIN:VEVENT
DTSTART;TZID=America/Toronto:20220209T110000
DTEND;TZID=America/Toronto:20220209T113000
DTSTAMP:20260420T185319
CREATED:20220128T003625Z
LAST-MODIFIED:20220128T004024Z
UID:10437-1644404400-1644406200@events-evenements.crcoc.ca
SUMMARY:Virtual interactive circle time! // Temps de cercle virtuel interactif!
DESCRIPTION:Come sing\, play and have fun during our virtual circle time! The songs\, rhymes and story time will be enjoyable for all children! //   Venez chanter\, jouer et vous amusez avec nous durant nos temps de cercle virtuel! Les chansons\, comptines et histoires plairont aux plus petits comme aux plus grands! \n\n\n\n\n\n\n\n\n\n 
URL:https://events-evenements.crcoc.ca/event-evenement/virtual-interactive-circle-time-temps-de-cercle-virtuel-interactif-4-2022-02-09/
LOCATION:Ontario
CATEGORIES:Early ON-ON y va
ATTACH;FMTTYPE=image/png:https://events-evenements.crcoc.ca/wp-content/uploads/2021/01/Interactive-Circle-Time-Tuesdays.png
ORGANIZER;CN="EarlyON | ON y va":MAILTO:EarlyONyva@crcoc.ca
END:VEVENT
BEGIN:VEVENT
DTSTART;TZID=America/Toronto:20220209T150000
DTEND;TZID=America/Toronto:20220209T160000
DTSTAMP:20260420T185319
CREATED:20220128T025951Z
LAST-MODIFIED:20220128T025955Z
UID:10562-1644418800-1644422400@events-evenements.crcoc.ca
SUMMARY:Winter Meetups - Grade 7 to 12 - In Person // Rencontres d'hiver - 7e à 12e année - En personne
DESCRIPTION:Bi-weekly  – In person – Meetups\n 	Let’s take a break from our screens\, enjoy the outdoors\, walk & chat!\n 	Hot drinks will be provided!\n 	Wednesdays from 3pm to 4pm\n\n 	February 9th:  Meet us outside the Tim Hortons (2020 Trim Rd\, near École secondaire catholique Béatrice Desloges)\n\n\n 	Limited spots (Max. 8 people) – First come\, first served\n 	If you will be late to the meet up spot\, call or text Tanya at 613-402-2871.\n\n \n\n 	Bimensuelle – En personne – Rencontres\n 	Prenons une pause de nos écrans\, profitons du temps dehors\, marchons et parlons!\n 	Des boissons chaudes seront fournies!\n 	Les mercredis de 15 H à 16 H\n\n 	9 février :  Rendez-vous à l’entérieur du Tim Hortons (2020\, chemin Trim\, près de l’École secondaire catholique Béatrice Desloges)\n\n\n 	Places limitées (max. 8 personnes) – Premier arrivé\, premier servi\n 	Si vous êtes en retard à l’endroit de rencontre\, appelez ou envoyez un texto à Tanya au 613-402-2871
URL:https://events-evenements.crcoc.ca/event-evenement/winter-meetups-grade-7-to-12-in-person-rencontres-dhiver-7e-a-12e-annee-en-personne/
LOCATION:Ontario
CATEGORIES:Children & Youth-Enfants et jeunes
ATTACH;FMTTYPE=image/jpeg:https://events-evenements.crcoc.ca/wp-content/uploads/2022/01/Winter-Meetups-pic.jpg
ORGANIZER;CN="Children & Youth | Enfants et jeunes":MAILTO:info@crcoc.ca
END:VEVENT
END:VCALENDAR