BEGIN:VCALENDAR
VERSION:2.0
PRODID:-//OCCRC Events | Évènements CRCOC - ECPv6.15.18//NONSGML v1.0//EN
CALSCALE:GREGORIAN
METHOD:PUBLISH
X-WR-CALNAME:OCCRC Events | Évènements CRCOC
X-ORIGINAL-URL:https://events-evenements.crcoc.ca
X-WR-CALDESC:Events for OCCRC Events | Évènements CRCOC
REFRESH-INTERVAL;VALUE=DURATION:PT1H
X-Robots-Tag:noindex
X-PUBLISHED-TTL:PT1H
BEGIN:VTIMEZONE
TZID:America/Toronto
BEGIN:DAYLIGHT
TZOFFSETFROM:-0500
TZOFFSETTO:-0400
TZNAME:EDT
DTSTART:20210314T070000
END:DAYLIGHT
BEGIN:STANDARD
TZOFFSETFROM:-0400
TZOFFSETTO:-0500
TZNAME:EST
DTSTART:20211107T060000
END:STANDARD
BEGIN:DAYLIGHT
TZOFFSETFROM:-0500
TZOFFSETTO:-0400
TZNAME:EDT
DTSTART:20220313T070000
END:DAYLIGHT
BEGIN:STANDARD
TZOFFSETFROM:-0400
TZOFFSETTO:-0500
TZNAME:EST
DTSTART:20221106T060000
END:STANDARD
BEGIN:DAYLIGHT
TZOFFSETFROM:-0500
TZOFFSETTO:-0400
TZNAME:EDT
DTSTART:20230312T070000
END:DAYLIGHT
BEGIN:STANDARD
TZOFFSETFROM:-0400
TZOFFSETTO:-0500
TZNAME:EST
DTSTART:20231105T060000
END:STANDARD
END:VTIMEZONE
BEGIN:VEVENT
DTSTART;TZID=America/Toronto:20220118T100000
DTEND;TZID=America/Toronto:20220118T103000
DTSTAMP:20260420T172005
CREATED:20211228T205809Z
LAST-MODIFIED:20211228T210014Z
UID:9959-1642500000-1642501800@events-evenements.crcoc.ca
SUMMARY:Virtual interactive Circle time for Preschoolers! (2-6 yrs.)
DESCRIPTION:Come sing\, play and have fun during our virtual circle time! The songs\, rhymes and activities will be geared for children ages 2 to 6 years of age! \n\n\n\n\n\n\n\n\n\n 
URL:https://events-evenements.crcoc.ca/event-evenement/virtual-interactive-circle-time-for-preschoolers-2-6-yrs-2022-01-18/
LOCATION:Ontario
CATEGORIES:Early ON-ON y va
ATTACH;FMTTYPE=image/jpeg:https://events-evenements.crcoc.ca/wp-content/uploads/2021/04/Circle-Time-for-Preschoolers-Pic.jpg
ORGANIZER;CN="EarlyON | ON y va":MAILTO:EarlyONyva@crcoc.ca
END:VEVENT
BEGIN:VEVENT
DTSTART;TZID=America/Toronto:20220118T110000
DTEND;TZID=America/Toronto:20220118T113000
DTSTAMP:20260420T172005
CREATED:20211228T210338Z
LAST-MODIFIED:20211228T210546Z
UID:9973-1642503600-1642505400@events-evenements.crcoc.ca
SUMMARY:Le temps de cercle virtuel interactif pour les préscolaires! (2 à 6 ans)
DESCRIPTION:Venez chanter\, jouer et vous amusez avec nous durant nos temps de cercle virtuel! Les chansons\, comptines et activités seront conçues pour les enfants âgés entre 2 et 6 ans. \n\n\n\n\n\n\n\n\n\n 
URL:https://events-evenements.crcoc.ca/event-evenement/le-temps-de-cercle-virtuel-interactif-pour-les-prescolaires-2-a-6-ans-2022-01-18/
LOCATION:Ontario
CATEGORIES:Early ON-ON y va
ATTACH;FMTTYPE=image/jpeg:https://events-evenements.crcoc.ca/wp-content/uploads/2021/12/2-to-6-yrs-pic-Fr.jpg
ORGANIZER;CN="EarlyON | ON y va":MAILTO:EarlyONyva@crcoc.ca
END:VEVENT
BEGIN:VEVENT
DTSTART;TZID=America/Toronto:20220118T160000
DTEND;TZID=America/Toronto:20220118T180000
DTSTAMP:20260420T172005
CREATED:20211228T215708Z
LAST-MODIFIED:20211229T035012Z
UID:10048-1642521600-1642528800@events-evenements.crcoc.ca
SUMMARY:Kids Space - Grade 1 to 6 - Virtual // Espace Enfants - 1re à 6e année - Virtuel
DESCRIPTION:Join us virtually on Tuesdays from 4pm – 6pm in January.  A space to connect with other kids\, have fun\, learn some strategies and talk!  This month we’ll be kicking off the new year with some epic games\, crafts\, and fun challenges! REGISTRATION online //\n\n\n\n\nJoignez-vous à nous\, virtuelle les mardis de 16 H à 18 H en janvier.   Un espace pour se connecter avec d’autres enfants\, s’asumer\, apprendre des stratégies et parler.  Ce mois-ci\, nous partons la nouvelle année avec des jeux\, ds bricos et des défis amusants!  INSCRIVEZ-VOUS en ligne\n\n\n \n \n\n11 :  Everyone’s birthday party! // Anniversaire de toustes!\n18 :  Around the world games // Jeux autour du monde\n25 :  Winter adventure  //  Aventure d’hiver\n\n  If you have complications registering online\, please contact Isabel.  // Si l’inscription en ligne vous pose problème\, contacter Isabel. \n\n\n\n\n\n\n\n\n\n 
URL:https://events-evenements.crcoc.ca/event-evenement/kids-space-grade-1-to-6-virtual-espace-enfants-1re-a-6e-annee-virtuelle-2-2022-01-18/
LOCATION:Ontario
CATEGORIES:Children & Youth-Enfants et jeunes
ATTACH;FMTTYPE=image/jpeg:https://events-evenements.crcoc.ca/wp-content/uploads/2021/01/kids-space-espace-enfants.jpg
ORGANIZER;CN="Children & Youth | Enfants et jeunes":MAILTO:info@crcoc.ca
END:VEVENT
BEGIN:VEVENT
DTSTART;TZID=America/Toronto:20220118T180000
DTEND;TZID=America/Toronto:20220118T190000
DTSTAMP:20260420T172005
CREATED:20211229T033100Z
LAST-MODIFIED:20211229T034501Z
UID:10079-1642528800-1642532400@events-evenements.crcoc.ca
SUMMARY:It's Gonna Be OK! Grades 7 to 12 (English . Via Zoom)
DESCRIPTION:Grades 7 to 12 – Bi-weekly – Via Zoom \n\nTuesdays from 6pm to 7pm\nA space that focuses on hope\, help and strength of youth.  We will check-in with one another\, share our experiences\, learn some strategies\, and do activities.\nREGISTER online to join us. (Registration opens the Friday at 8:30am  before the date of the group)\nIf you have any complication registering online\, please contact Tanya.\n\n\n\n\n\n\n\n\n\n\n 
URL:https://events-evenements.crcoc.ca/event-evenement/its-gonna-be-ok-grades-7-to-12-english-via-zoom/
LOCATION:Ontario
CATEGORIES:Children & Youth-Enfants et jeunes
ATTACH;FMTTYPE=image/jpeg:https://events-evenements.crcoc.ca/wp-content/uploads/2021/12/Pic-Its-OK.jpg
ORGANIZER;CN="Children & Youth | Enfants et jeunes":MAILTO:info@crcoc.ca
END:VEVENT
END:VCALENDAR